BEGIN:VCALENDAR
VERSION:2.0
PRODID:-//Bed &amp; Breakfast Villaticas - ECPv6.15.20//NONSGML v1.0//EN
CALSCALE:GREGORIAN
METHOD:PUBLISH
X-WR-CALNAME:Bed &amp; Breakfast Villaticas
X-ORIGINAL-URL:https://www.villaticas.nl
X-WR-CALDESC:Evenementen voor Bed &amp; Breakfast Villaticas
REFRESH-INTERVAL;VALUE=DURATION:PT1H
X-Robots-Tag:noindex
X-PUBLISHED-TTL:PT1H
BEGIN:VTIMEZONE
TZID:Europe/Paris
BEGIN:DAYLIGHT
TZOFFSETFROM:+0100
TZOFFSETTO:+0200
TZNAME:CEST
DTSTART:20220327T010000
END:DAYLIGHT
BEGIN:STANDARD
TZOFFSETFROM:+0200
TZOFFSETTO:+0100
TZNAME:CET
DTSTART:20221030T010000
END:STANDARD
BEGIN:DAYLIGHT
TZOFFSETFROM:+0100
TZOFFSETTO:+0200
TZNAME:CEST
DTSTART:20230326T010000
END:DAYLIGHT
BEGIN:STANDARD
TZOFFSETFROM:+0200
TZOFFSETTO:+0100
TZNAME:CET
DTSTART:20231029T010000
END:STANDARD
BEGIN:DAYLIGHT
TZOFFSETFROM:+0100
TZOFFSETTO:+0200
TZNAME:CEST
DTSTART:20240331T010000
END:DAYLIGHT
BEGIN:STANDARD
TZOFFSETFROM:+0200
TZOFFSETTO:+0100
TZNAME:CET
DTSTART:20241027T010000
END:STANDARD
END:VTIMEZONE
BEGIN:VTIMEZONE
TZID:UTC
BEGIN:STANDARD
TZOFFSETFROM:+0000
TZOFFSETTO:+0000
TZNAME:UTC
DTSTART:20220101T000000
END:STANDARD
END:VTIMEZONE
BEGIN:VEVENT
DTSTART;TZID=Europe/Paris:20230924T140000
DTEND;TZID=Europe/Paris:20230924T170000
DTSTAMP:20260421T064359
CREATED:20230613T131948Z
LAST-MODIFIED:20230613T131950Z
UID:2591-1695564000-1695574800@www.villaticas.nl
SUMMARY:Wandeling op landgoed Oud Poelgeest – Oegstgeest 24/9/23
DESCRIPTION:Op zondag 24 september om 14.00 uur geven de gidsen van IVN Leiden een natuurwandeling  op het landgoed  Oud Poelgeest.  Na een lange warme en droge zomer\,  doet  de herfst zijn intrede\, de eerste bomen vertonen bladverkleuring en vele bomen dragen bessen of vruchten. Hopelijk is er wat regen gevallen waardoor er paddenstoelen te vinden zijn. Vogels laten zich vooral horen\, de halsbandparkiet\, de groene specht of de boomkruiper. Ook  staan er fraaie bomen en coniferen op het landgoed\, zoals de moseik en de tulpenboom van Boerhaave.\nInlichtingen: wandeling.HtW@hotmail.com\nAanmelden niet nodig.\n\nStart: ingang Poelgeesterweg (zijstraat Laan van Oud Poelgeest) in Oegstgeest.
URL:https://www.villaticas.nl/event/wandeling-op-landgoed-oud-poelgeest-oegstgeest-24-9-23/
END:VEVENT
BEGIN:VEVENT
DTSTART;TZID=Europe/Paris:20230923T133000
DTEND;TZID=Europe/Paris:20230923T170000
DTSTAMP:20260421T064359
CREATED:20230605T142113Z
LAST-MODIFIED:20230605T142114Z
UID:2352-1695475800-1695488400@www.villaticas.nl
SUMMARY:Beklim de oude jeroenskerk
DESCRIPTION:TORENKLIM – AGENDA 2023 \n\n\n\nelke zaterdag van 8 april t/m 30 sept. 2023 \n\n\n\nBeklim de toren van de Oude Jeroenskerk in Noordwijk Binnen.Onderweg naar boven vertellen ervaren gidsen alles over de geschiedenis van de toren. Eenmaal boven geniet u van het uitzicht over Noordwijk en de wijde omgeving.Tijd: 1e beklimming 13.30 uur | 2e beklimming 15.00 uur \n\n\n\nToegangsprijs: €5\,00 – kinderen €2.50 (Pinnen mogelijk)
URL:https://www.villaticas.nl/event/beklim-de-oude-jeroenskerk/
LOCATION:Oude Jeroenskerk\, Voorstraat 44\, Noordwijk-binnen\, Nederland
ORGANIZER;CN="De oude dorpskern":MAILTO:jeroentoren@gmail.com
END:VEVENT
BEGIN:VEVENT
DTSTART;TZID=Europe/Paris:20230920T080000
DTEND;TZID=Europe/Paris:20230923T230000
DTSTAMP:20260421T064359
CREATED:20230611T081137Z
LAST-MODIFIED:20230611T081138Z
UID:2518-1695196800-1695510000@www.villaticas.nl
SUMMARY:kermis Sassenheim najaarsfeesten
DESCRIPTION:
URL:https://www.villaticas.nl/event/kermis-sassenheim-najaarsfeesten/
END:VEVENT
BEGIN:VEVENT
DTSTART;TZID=Europe/Paris:20230917T103000
DTEND;TZID=Europe/Paris:20230917T123000
DTSTAMP:20260421T064359
CREATED:20230613T193803Z
LAST-MODIFIED:20230613T193804Z
UID:2645-1694946600-1694953800@www.villaticas.nl
SUMMARY:wildplukwandeling Polderpark Cronesteyn\, Leiden
DESCRIPTION:Zo 17 september\, 10.30 uur: Polderpark Cronesteyn\, Leiden \n\n\n\nGa mee struinen of geef een wildplukwandeling cadeau!Een wildplukwandeling van Daphne STRUINT is een struintocht waarbij eetbare natuur de hoofdrol speelt. De wandeling zelf duurt ongeveer 2 uur (incl. een vers kopje thee en een wildpluk-hapje).Op elke vierkante meter vind je vaak al 5 wilde planten die eetbaar zijn. Maar bij deze tocht struinen we door een natuurgebied\, park of landgoed op zoek naar eetbare wilde planten\, bessen\, zaden en wortels.Daarnaast vertel ik verhalen\, wilde plantenweetjes\, verklap ik recepten maar ga je natuurlijk ook proeven! Onderweg verzamel je je eigen theemelange. De struintocht eindigen we met een kopje vers geplukte thee en een wildpluk-hapje passend bij het seizoen.
URL:https://www.villaticas.nl/event/wildplukwandeling-polderpark-cronesteyn-leiden/
END:VEVENT
BEGIN:VEVENT
DTSTART;TZID=Europe/Paris:20230916T133000
DTEND;TZID=Europe/Paris:20230916T170000
DTSTAMP:20260421T064359
CREATED:20230605T142320Z
LAST-MODIFIED:20230605T142321Z
UID:2354-1694871000-1694883600@www.villaticas.nl
SUMMARY:beklim de oude jeroenskerk
DESCRIPTION:TORENKLIM – AGENDA 2023 \n\n\n\nelke zaterdag van 8 april t/m 30 sept. 2023 \n\n\n\nBeklim de toren van de Oude Jeroenskerk in Noordwijk Binnen.Onderweg naar boven vertellen ervaren gidsen alles over de geschiedenis van de toren. Eenmaal boven geniet u van het uitzicht over Noordwijk en de wijde omgeving.Tijd: 1e beklimming 13.30 uur | 2e beklimming 15.00 uur \n\n\n\nToegangsprijs: €5\,00 – kinderen €2.50 (Pinnen mogelijk)
URL:https://www.villaticas.nl/event/beklim-de-oude-jeroenskerk-2/
LOCATION:Oude Jeroenskerk\, Voorstraat 44\, Noordwijk-binnen\, Nederland
ORGANIZER;CN="De oude dorpskern":MAILTO:jeroentoren@gmail.com
END:VEVENT
BEGIN:VEVENT
DTSTART;TZID=Europe/Paris:20230914T080000
DTEND;TZID=Europe/Paris:20230917T170000
DTSTAMP:20260421T064359
CREATED:20230611T080331Z
LAST-MODIFIED:20230611T080332Z
UID:2512-1694678400-1694970000@www.villaticas.nl
SUMMARY:kermis hillegom harddraverij feesten
DESCRIPTION:
URL:https://www.villaticas.nl/event/kermis-hillegom-harddraverij-feesten/
END:VEVENT
BEGIN:VEVENT
DTSTART;TZID=Europe/Paris:20230913T080000
DTEND;TZID=Europe/Paris:20230913T170000
DTSTAMP:20260421T064359
CREATED:20230609T072213Z
LAST-MODIFIED:20230609T072214Z
UID:2487-1694592000-1694624400@www.villaticas.nl
SUMMARY:valkenburgse paardenmarkt
DESCRIPTION:VALKENBURGSE PAARDENMARKTIn 2023 viert Valkenburg op woensdag 13 september de 1076e editie. We kijken er nu al naar uit!De mart wordt altijd elke tweede woensdag in september gehouden in Valkenburg (Zuid-Holland). De eerste paardenmarkt was al in het jaar 840.Als Paardenmarkt commité organiseren we de volgende onderdelen;Paardenmarkt verlotingDé Mart rondvaartRingrijden*** Dé PaardenMart *** van Valkenburg zhRondom de Mart vinden er allerlei activiteiten plaats waaronder vanaf dinsdagmiddag t/m donderdagavond kermis\, braderie en veel muziek!UITSLAG PAARDENMARKT VERLOTING 2022
URL:https://www.villaticas.nl/event/valkenburgse-paardenmarkt/
END:VEVENT
BEGIN:VEVENT
DTSTART;TZID=Europe/Paris:20230912T080000
DTEND;TZID=Europe/Paris:20230914T190000
DTSTAMP:20260421T064359
CREATED:20230611T085039Z
LAST-MODIFIED:20230611T085040Z
UID:2526-1694505600-1694718000@www.villaticas.nl
SUMMARY:kermis paardenmarkt Valkenburg
DESCRIPTION:
URL:https://www.villaticas.nl/event/kermis-paardenmarkt-valkenburg/
END:VEVENT
BEGIN:VEVENT
DTSTART;TZID=Europe/Paris:20230910T080000
DTEND;TZID=Europe/Paris:20230910T170000
DTSTAMP:20260421T064359
CREATED:20230613T190038Z
LAST-MODIFIED:20230629T075641Z
UID:2642-1694332800-1694365200@www.villaticas.nl
SUMMARY:waterpendel katwijk-leiden
DESCRIPTION:Van 23 mei t/m 10 september 2023 kunt u iedere dinsdag\, woensdag en zondag een verrassende vaartocht maken op de Oude Rijn van Leiden naar Katwijk aan Zee en weer terug naar Leiden. Wij varen langs de Limes\, de natuurlijke noordgrens van het oude Romeinse Rijk\, en passeren zo Oegstgeest\, Valkenburg en Rijnsburg. Na ongeveer vijf kwartier meren wij af in de bedrijvige binnenhaven van Katwijk. In deze oude vissersplaats staat u al binnen vijf minuten op de boulevard. Geniet van de zon of waai eens lekker uit op het strand. Achter de duinen vinden we er een gezellig winkelcentrum en voor de oude klederdracht bezoekt u het Katwijks Museum. Vanuit Katwijk vaart u naar oud Leiden. In deze Stadvanontdekkingen vindt u vele musea en u kunt er ronddwalen door de historische binnenstad. Op en langs de schilderachtige grachten heeft u een ruime keuze aan terrassen en leuke eethuisjes. Elke woensdag is er langs de Nieuwe Rijn een sfeervolle markt. Deze pendeldienst wordt verzorgd door Stichting De Leidse Rederij.
URL:https://www.villaticas.nl/event/waterpendel-katwijk-leiden-11/
ORGANIZER;CN="Veneti%C3%AB van het Westen":MAILTO:info@venetievanhetwesten.nl
END:VEVENT
BEGIN:VEVENT
DTSTART;TZID=Europe/Paris:20230909T133000
DTEND;TZID=Europe/Paris:20230909T170000
DTSTAMP:20260421T064359
CREATED:20230605T142527Z
LAST-MODIFIED:20230605T142528Z
UID:2356-1694266200-1694278800@www.villaticas.nl
SUMMARY:beklim oude jeroenskerk
DESCRIPTION:TORENKLIM – AGENDA 2023 \n\n\n\nelke zaterdag van 8 april t/m 30 sept. 2023 \n\n\n\nBeklim de toren van de Oude Jeroenskerk in Noordwijk Binnen.Onderweg naar boven vertellen ervaren gidsen alles over de geschiedenis van de toren. Eenmaal boven geniet u van het uitzicht over Noordwijk en de wijde omgeving.Tijd: 1e beklimming 13.30 uur | 2e beklimming 15.00 uur \n\n\n\nToegangsprijs: €5\,00 – kinderen €2.50 (Pinnen mogelijk)
URL:https://www.villaticas.nl/event/beklim-oude-jeroenskerk/
LOCATION:Oude Jeroenskerk\, Voorstraat 44\, Noordwijk-binnen\, Nederland
ORGANIZER;CN="De oude dorpskern":MAILTO:jeroentoren@gmail.com
END:VEVENT
BEGIN:VEVENT
DTSTART;TZID=UTC:20230909T100000
DTEND;TZID=UTC:20230909T170000
DTSTAMP:20260421T064359
CREATED:20230210T195222Z
LAST-MODIFIED:20230210T195223Z
UID:1505-1694253600-1694278800@www.villaticas.nl
SUMMARY:Open Monumentendag 2023 in de Bollenstreek
DESCRIPTION:Bezoek een of meerdere monument(en) van de Bollenstreek van kerken tot klooster en van bollenvilla’s tot oude boerderijen. De bewoners van deze gebouwen laten je kennismaken met de rijke historie van elk monument. Alle monumenten zijn gratis toegankelijk!
URL:https://www.villaticas.nl/event/open-monumentendag-2023-in-de-bollenstreek/
CATEGORIES:Culture,Cultuur,Historie
END:VEVENT
BEGIN:VEVENT
DTSTART;TZID=Europe/Paris:20230908T080000
DTEND;TZID=Europe/Paris:20230910T170000
DTSTAMP:20260421T064359
CREATED:20230616T132702Z
LAST-MODIFIED:20230616T132703Z
UID:2700-1694160000-1694365200@www.villaticas.nl
SUMMARY:warmondse Schippertjesdagen
DESCRIPTION:Elk jaar het tweede weekend van september: twee dagen vol boten\, marktjes\, nostalgie en gezelligheid tijdens de Schippertjesdagen.
URL:https://www.villaticas.nl/event/warmondse-schippertjesdagen/
END:VEVENT
BEGIN:VEVENT
DTSTART;TZID=Europe/Paris:20230908T080000
DTEND;TZID=Europe/Paris:20230910T170000
DTSTAMP:20260421T064359
CREATED:20230607T181047Z
LAST-MODIFIED:20230607T181048Z
UID:2435-1694160000-1694365200@www.villaticas.nl
SUMMARY:Dahlia Mozaïekwedstrijd Lisse en Hillegom
DESCRIPTION:Dahlia Mozaïekwedstrijd Lisse en Hillegom 2023ContactStichting Dahlia Mozaïeken BollenstreekHeereweg 2192161BG Lisse
URL:https://www.villaticas.nl/event/dahlia-mozaiekwedstrijd-lisse-en-hillegom/
END:VEVENT
BEGIN:VEVENT
DTSTART;TZID=Europe/Paris:20230905T080000
DTEND;TZID=Europe/Paris:20230908T170000
DTSTAMP:20260421T064359
CREATED:20230611T073236Z
LAST-MODIFIED:20230611T073237Z
UID:2504-1693900800-1694192400@www.villaticas.nl
SUMMARY:kermis noordwijkerhout
DESCRIPTION:
URL:https://www.villaticas.nl/event/kermis-noordwijkerhout/
END:VEVENT
BEGIN:VEVENT
DTSTART;TZID=Europe/Paris:20230903T140000
DTEND;TZID=Europe/Paris:20230903T170000
DTSTAMP:20260421T064359
CREATED:20230511T164300Z
LAST-MODIFIED:20230511T164405Z
UID:2284-1693749600-1693760400@www.villaticas.nl
SUMMARY:Opera aan zee
DESCRIPTION:14h00 Open voor publiek (en neem uw picknick mand mee)14h30 Voorprogramma 15h30 Wolfgang Amadeus Mozart & Antonio SalieriDer Schauspieldirektor meets Prima la musica e poi le paroleUitvoerenden: Elvire Beekhuizen (sopraan)Selma Harkink (sopraan)Leon van Liere (tenor)Marijn Zwitserlood (bariton)Jeroen Sarphati\, vleugel
URL:https://www.villaticas.nl/event/opera-aan-zee-3/
LOCATION:Landgoed Klein Leeuwenhorst\, Gooweg 45\, Noordwijkerhout\, Gooweg 45\, Noordwijkerhout
END:VEVENT
BEGIN:VEVENT
DTSTART;TZID=Europe/Paris:20230902T180000
DTEND;TZID=Europe/Paris:20230902T190000
DTSTAMP:20260421T064359
CREATED:20230511T163932Z
LAST-MODIFIED:20230511T164434Z
UID:2278-1693677600-1693681200@www.villaticas.nl
SUMMARY:Opera aan zee
DESCRIPTION:Zaterdag 3 september18h00 Open voor publiek (en neem uw picknick mand mee) \n\n\n\n \n\n\n\n18h30 Voorprogramma \n\n\n\n19h15 Giacomo Puccini\, Tosca Uitvoerenden: Jeanette van Schaik (sopraan)Nog niet bekend (tenor)Nog niet bekend (violist)Sven Weyens (bariton\, cello)Jeroen Sarphati\, vleugel
URL:https://www.villaticas.nl/event/opera-aan-zee-2/
LOCATION:Landgoed Klein Leeuwenhorst\, Gooweg 45\, Noordwijkerhout\, Gooweg 45\, Noordwijkerhout
END:VEVENT
BEGIN:VEVENT
DTSTART;TZID=Europe/Paris:20230901T080000
DTEND;TZID=Europe/Paris:20231007T170000
DTSTAMP:20260421T064359
CREATED:20230910T101230Z
LAST-MODIFIED:20230910T101232Z
UID:2750-1693555200-1696698000@www.villaticas.nl
SUMMARY:Dhalia's
DESCRIPTION:Van augustus t/m oktober staat de Bollenstreek in het teken van de dahlia’s. Er zijn in deze periode vele activiteiten te doen. \n\n\n\n \n\n\n\nKeukenhof kasteel  \n\n\n\nDe tuin is prachtig aangelegd met dahlia’s in de nazomer. De moeite waard om een kijkje te nemen.
URL:https://www.villaticas.nl/event/dhalias/
END:VEVENT
BEGIN:VEVENT
DTSTART;TZID=Europe/Paris:20230829T140000
DTEND;TZID=Europe/Paris:20230902T220000
DTSTAMP:20260421T064359
CREATED:20230611T080013Z
LAST-MODIFIED:20230611T080014Z
UID:2508-1693317600-1693692000@www.villaticas.nl
SUMMARY:kermis noordwijk-binnen
DESCRIPTION:
URL:https://www.villaticas.nl/event/kermis-noordwijk-binnen-2/
END:VEVENT
BEGIN:VEVENT
DTSTART;TZID=Europe/Paris:20230829T080000
DTEND;TZID=Europe/Paris:20230831T170000
DTSTAMP:20260421T064359
CREATED:20230611T080739Z
LAST-MODIFIED:20230611T080740Z
UID:2516-1693296000-1693501200@www.villaticas.nl
SUMMARY:kermis de zilk feestweek
DESCRIPTION:
URL:https://www.villaticas.nl/event/kermis-de-zilk-feestweek/
END:VEVENT
BEGIN:VEVENT
DTSTART;TZID=Europe/Paris:20230827T080000
DTEND;TZID=Europe/Paris:20230827T170000
DTSTAMP:20260421T064359
CREATED:20230219T112746Z
LAST-MODIFIED:20230619T122426Z
UID:1634-1693123200-1693155600@www.villaticas.nl
SUMMARY:Neighbours at the beach festival
DESCRIPTION:Na de mini editie van vorig jaar komen wij aan het eind van deze zomer terug met Neighbours at the Beach 2022. Op zaterdag 27 augustus pakken wij flink uit! Verwacht een heerlijke strand vibe\, een hete line-up\, verfrissende coldtubs\, de meest sweetie foodtrucks en een valse maar ooooo zo mooie karaoke. Omdat wij het kleinschalige willen houden zijn er ook dit jaar maar een beperkt aantal tickets.
URL:https://www.villaticas.nl/event/neighbours-at-the-beach-festival/
END:VEVENT
BEGIN:VEVENT
DTSTART;TZID=Europe/Paris:20230826T100000
DTEND;TZID=Europe/Paris:20230826T170000
DTSTAMP:20260421T064359
CREATED:20230611T102328Z
LAST-MODIFIED:20230611T102329Z
UID:2560-1693044000-1693069200@www.villaticas.nl
SUMMARY:puur natuur markt wassenaar
DESCRIPTION:Sinds september 2012 is er de Puur Natuur Markt in het centrum van Wassenaar. De basis voor dit initiatief is de aandacht voor lekker en puur eten uit de natuur\, locale ambacht en een plek in het dorp om elkaar te ontmoeten.
URL:https://www.villaticas.nl/event/puur-natuur-markt-wassenaar-2/
END:VEVENT
BEGIN:VEVENT
DTSTART;TZID=UTC:20230826T080000
DTEND;TZID=UTC:20230827T170000
DTSTAMP:20260421T064359
CREATED:20230203T144816Z
LAST-MODIFIED:20230203T144818Z
UID:1204-1693036800-1693155600@www.villaticas.nl
SUMMARY:Reuze Dahlia Mozaiek Lisse ter ere van 825 jaar Lisse!
DESCRIPTION:Organisatie Stichting Dahlia mozaïeken BollenstreekLocatie ’t VierkantDatum weekend 26/27 augustus
URL:https://www.villaticas.nl/event/reuze-dahlia-mozaiek-lisse-ter-ere-van-825-jaar-lisse/
END:VEVENT
BEGIN:VEVENT
DTSTART;TZID=UTC:20230825T120000
DTEND;TZID=UTC:20230827T180000
DTSTAMP:20260421T064359
CREATED:20230202T152245Z
LAST-MODIFIED:20230222T103900Z
UID:999-1692964800-1693159200@www.villaticas.nl
SUMMARY:F1 Zandvoort
DESCRIPTION:Het weekend van 25 augustus staat Zandvoort in teken van F1. Vanuit Villaticas kan u door de duinen op de fiets naar het circuit. Of per trein vanuit omliggende trein stations. \n\n\n\n \n\n\n\nDe Dutch Grand Prix is het evenement van het jaar! Dit weekend zijn alle ogen van de wereld gericht op de kustplaats Zandvoort! Zie je helden van dichtbij en voel de ambiance van de Formula 1 Heineken Dutch Grand Prix. https://www.circuitzandvoort.nl/evenementen/25-08-2023-formula-1-heineken-dutch-grand-prix/
URL:https://www.villaticas.nl/event/f1-zandvoort/
END:VEVENT
BEGIN:VEVENT
DTSTART;TZID=Europe/Paris:20230824T103000
DTEND;TZID=Europe/Paris:20230824T210000
DTSTAMP:20260421T064359
CREATED:20230607T180758Z
LAST-MODIFIED:20230607T180920Z
UID:2433-1692873000-1692910800@www.villaticas.nl
SUMMARY:jaarmarkt hillegom
DESCRIPTION:
URL:https://www.villaticas.nl/event/jaarmarkt-hillegom/
END:VEVENT
BEGIN:VEVENT
DTSTART;TZID=Europe/Paris:20230823T193000
DTEND;TZID=Europe/Paris:20230823T213000
DTSTAMP:20260421T064359
CREATED:20230613T131349Z
LAST-MODIFIED:20230613T131443Z
UID:2589-1692819000-1692826200@www.villaticas.nl
SUMMARY:zomeravondwandeling katwijk
DESCRIPTION:Zomeravondwandeling door de duinen van Berkheide – Katwijk 23/8/23\n\n\n\nWoensdagavond 23 augustus organiseert IVN Leidse regio in samenwerking met Stichting Duinbehoud de eerste zomeravondwandeling van dit jaar door het prachtige duingebied Berkheide\, gelegen tussen Katwijk en Wassenaar.De wandeling start om 19:30 uur bij de Soefitempel aan de Zuidduinseweg 7\, 2225 JS in Katwijk en duurt ca. 2 uur.Diverse gidsen nemen u mee en vertellen onderweg over het oude zeedorpenlandschap met de kleine akkers en over andere sporen die in de loop der eeuwen achter zijn gelaten. Ontdek de bijzondere plantensoorten van dit cultuurrijke landschap en als u geluk heeft ziet u onderweg misschien wel een ree of een vos!De wandeling is gratis en voor alle leeftijden.Advies: kom zo mogelijk op de fiets\, er is parkeergeld verschuldigd als u met de auto komt. Neem een jas of trui mee\, het kan ’s avonds al flink afkoelen.
URL:https://www.villaticas.nl/event/zomeravondwandeling-katwijk-2/
END:VEVENT
BEGIN:VEVENT
DTSTART;TZID=Europe/Paris:20230823T080000
DTEND;TZID=Europe/Paris:20230826T220000
DTSTAMP:20260421T064359
CREATED:20230611T082104Z
LAST-MODIFIED:20230611T082105Z
UID:2522-1692777600-1693087200@www.villaticas.nl
SUMMARY:kermis katwijk aan de rijn feestweek
DESCRIPTION:
URL:https://www.villaticas.nl/event/kermis-katwijk-aan-de-rijn-feestweek/
END:VEVENT
BEGIN:VEVENT
DTSTART;TZID=Europe/Paris:20230820T130000
DTEND;TZID=Europe/Paris:20230820T170000
DTSTAMP:20260421T064359
CREATED:20230219T140345Z
LAST-MODIFIED:20230219T140538Z
UID:1661-1692536400-1692550800@www.villaticas.nl
SUMMARY:LEVENDE BEELDEN 2023
DESCRIPTION:Noordwijk aan Zee staat zondag 23 juli en 20 augustus aanstaande in het teken van “Levende Beelden”. Dan vindt namelijk in Noordwijk alweer de 9e editie van het Levende Beelden Festival plaats.  \n\n\n\nHeeft u weleens zo’n levend standbeeld gezien? Of geprobeerd er zelf een te zijn? Moeilijk hoor om de hele tijd zo stil te blijven staan en je niet door de omgeving af te laten leiden.  \n\n\n\n​ \n\n\n\nEen levend standbeeld is subtiel en verrassend tegelijk en staat voor humor\, emotie en expressie. Het trekt de aandacht van de voorbijgangers\, ze blijven verwonderd staan. Een levend beeld staat niet zomaar stil\, maar voert een dialoog met het publiek via bewegingen.  \n\n\n\nOp diverse locaties aan de kust treden er ca. 30 levende beelden op ; op de Koningin Wilhelmina Boulevard en in de Hoofdstraat. Zij showen hun talent en vermaken het publiek met hun prachtige acts.  \n\n\n\nOok zullen er diverse mobiele kunstenaars hun kunsten vertonen. En langs de route zullen er diverse straatmuzikanten hun muzikale kwaliteiten ten gehore brengen.  \n\n\n\n​ \n\n\n\nDe route is door bezoekers te lopen van 13.00 tot 17.00 uur. \n\n\n\n​ \n\n\n\n\n\n\n\nToegang is gratis!
URL:https://www.villaticas.nl/event/levende-beelden-2023-2/
END:VEVENT
BEGIN:VEVENT
DTSTART;TZID=Europe/Paris:20230817T193000
DTEND;TZID=Europe/Paris:20230817T200000
DTSTAMP:20260421T064359
CREATED:20230616T092947Z
LAST-MODIFIED:20230616T092948Z
UID:2690-1692300600-1692302400@www.villaticas.nl
SUMMARY:beachrun
DESCRIPTION:
URL:https://www.villaticas.nl/event/beachrun-9/
END:VEVENT
BEGIN:VEVENT
DTSTART;TZID=Europe/Paris:20230815T193000
DTEND;TZID=Europe/Paris:20230815T200000
DTSTAMP:20260421T064359
CREATED:20230629T112734Z
LAST-MODIFIED:20230629T112736Z
UID:2738-1692127800-1692129600@www.villaticas.nl
SUMMARY:HISTORISCHE RONDWANDELING
DESCRIPTION:HISTORISCHE RONDWANDELINGDinsdagavond: 13 juni t/m 15 augustus 2023\n\n\n\nElke dinsdagavond leiden ervaren gidsen u langs de mooiste plekjes van Noordwijk Binnen.Dit jaar zijn er verschillende thema rondwandelingen\, u wandelt langs het meest bijzondere en unieke van de oude dorpskern. \n\n\n\nU zult zich verbazen over de vele verassingen die Noordwijk Binnen te bieden heeft! \n\n\n\nAanvang: elke dinsdag om 19:30 uur bij de pomp aan de Voorstraat voor het GemeentehuisKosten: € 5 p.p. incl. koffie na afloop bij Hotel RoyalAlleen contante betaling!Taal: Nederlands\, Duits\, Engels
URL:https://www.villaticas.nl/event/historische-rondwandeling/
END:VEVENT
BEGIN:VEVENT
DTSTART;TZID=Europe/Paris:20230814T110000
DTEND;TZID=Europe/Paris:20230814T200000
DTSTAMP:20260421T064359
CREATED:20230219T113703Z
LAST-MODIFIED:20230219T113920Z
UID:1638-1692010800-1692043200@www.villaticas.nl
SUMMARY:crea Markt Noordwijk
DESCRIPTION:Tussen centrum en Boulevard ( Gat van Palace) \n\n\n\nCadeau markt
URL:https://www.villaticas.nl/event/crea-mark-noordwijk/
END:VEVENT
END:VCALENDAR