BEGIN:VCALENDAR
VERSION:2.0
PRODID:-//Bed &amp; Breakfast Villaticas - ECPv6.15.20//NONSGML v1.0//EN
CALSCALE:GREGORIAN
METHOD:PUBLISH
X-WR-CALNAME:Bed &amp; Breakfast Villaticas
X-ORIGINAL-URL:https://www.villaticas.nl
X-WR-CALDESC:Evenementen voor Bed &amp; Breakfast Villaticas
REFRESH-INTERVAL;VALUE=DURATION:PT1H
X-Robots-Tag:noindex
X-PUBLISHED-TTL:PT1H
BEGIN:VTIMEZONE
TZID:Europe/Paris
BEGIN:DAYLIGHT
TZOFFSETFROM:+0100
TZOFFSETTO:+0200
TZNAME:CEST
DTSTART:20220327T010000
END:DAYLIGHT
BEGIN:STANDARD
TZOFFSETFROM:+0200
TZOFFSETTO:+0100
TZNAME:CET
DTSTART:20221030T010000
END:STANDARD
BEGIN:DAYLIGHT
TZOFFSETFROM:+0100
TZOFFSETTO:+0200
TZNAME:CEST
DTSTART:20230326T010000
END:DAYLIGHT
BEGIN:STANDARD
TZOFFSETFROM:+0200
TZOFFSETTO:+0100
TZNAME:CET
DTSTART:20231029T010000
END:STANDARD
BEGIN:DAYLIGHT
TZOFFSETFROM:+0100
TZOFFSETTO:+0200
TZNAME:CEST
DTSTART:20240331T010000
END:DAYLIGHT
BEGIN:STANDARD
TZOFFSETFROM:+0200
TZOFFSETTO:+0100
TZNAME:CET
DTSTART:20241027T010000
END:STANDARD
END:VTIMEZONE
BEGIN:VTIMEZONE
TZID:UTC
BEGIN:STANDARD
TZOFFSETFROM:+0000
TZOFFSETTO:+0000
TZNAME:UTC
DTSTART:20220101T000000
END:STANDARD
END:VTIMEZONE
BEGIN:VEVENT
DTSTART;TZID=Europe/Paris:20230817T193000
DTEND;TZID=Europe/Paris:20230817T200000
DTSTAMP:20260422T011742
CREATED:20230616T092947Z
LAST-MODIFIED:20230616T092948Z
UID:2690-1692300600-1692302400@www.villaticas.nl
SUMMARY:beachrun
DESCRIPTION:
URL:https://www.villaticas.nl/event/beachrun-9/
END:VEVENT
BEGIN:VEVENT
DTSTART;TZID=Europe/Paris:20230815T193000
DTEND;TZID=Europe/Paris:20230815T200000
DTSTAMP:20260422T011742
CREATED:20230629T112734Z
LAST-MODIFIED:20230629T112736Z
UID:2738-1692127800-1692129600@www.villaticas.nl
SUMMARY:HISTORISCHE RONDWANDELING
DESCRIPTION:HISTORISCHE RONDWANDELINGDinsdagavond: 13 juni t/m 15 augustus 2023\n\n\n\nElke dinsdagavond leiden ervaren gidsen u langs de mooiste plekjes van Noordwijk Binnen.Dit jaar zijn er verschillende thema rondwandelingen\, u wandelt langs het meest bijzondere en unieke van de oude dorpskern. \n\n\n\nU zult zich verbazen over de vele verassingen die Noordwijk Binnen te bieden heeft! \n\n\n\nAanvang: elke dinsdag om 19:30 uur bij de pomp aan de Voorstraat voor het GemeentehuisKosten: € 5 p.p. incl. koffie na afloop bij Hotel RoyalAlleen contante betaling!Taal: Nederlands\, Duits\, Engels
URL:https://www.villaticas.nl/event/historische-rondwandeling/
END:VEVENT
BEGIN:VEVENT
DTSTART;TZID=Europe/Paris:20230814T110000
DTEND;TZID=Europe/Paris:20230814T200000
DTSTAMP:20260422T011742
CREATED:20230219T113703Z
LAST-MODIFIED:20230219T113920Z
UID:1638-1692010800-1692043200@www.villaticas.nl
SUMMARY:crea Markt Noordwijk
DESCRIPTION:Tussen centrum en Boulevard ( Gat van Palace) \n\n\n\nCadeau markt
URL:https://www.villaticas.nl/event/crea-mark-noordwijk/
END:VEVENT
BEGIN:VEVENT
DTSTART;TZID=Europe/Paris:20230814T100000
DTEND;TZID=Europe/Paris:20230814T140000
DTSTAMP:20260422T011742
CREATED:20230615T175101Z
LAST-MODIFIED:20230615T175329Z
UID:2653-1692007200-1692021600@www.villaticas.nl
SUMMARY:beach clean up day Noordwijk
DESCRIPTION:Samen met duizenden vrijwilligers maken we in dertig etappes de Noordzeestranden schoon. Doe jij ook mee?\n\n\n\n\n\n\n\nZ14 Noordwijk\n\n\n\n\nDatum:14 aug. 2023\n\n\n\nAanvang:10:00\n\n\n\n\nVan 1 tot en met 15 augustus gaan we tijdens de 10e Boskalis Beach Cleanup Tour van Stichting De Noordzee weer de héle Noordzeekust opruimen. Samen met duizenden vrijwilligers maken we in dertig etappes de Noordzeestranden schoon. Doe jij ook mee? Meld je aan voor een of meerdere etappes!  \n\n\n\nOp deze dag zijn er twee mogelijkheden om je in te zetten voor een schone en gezonde Noordzee. Je kunt meelopen met een etappe\, waarbij je van A naar B loopt en zoveel mogelijk afval opruimt. Komt het niet uit om een hele dag op pad te zijn? Dan kan je ook zonder je in te schrijven zelf komen opruimen vanaf de Noordzeekraam. \n\n\n\nDe etappeOp 14 augustus ruimen we het strand tussen Noordwijk en Langevelderslag op (circa 6 kilometer). We ontvangen je in strandpaviljoen De Koele Costa om 10.00. Daar vertellen we je kort hoe de dag eruitziet. Om 10.30 stappen we vervolgens de bus in en die brengt ons naar de locatie vanaf waar we gaan schoonmaken. 
URL:https://www.villaticas.nl/event/beach-clean-up-day-15/
END:VEVENT
BEGIN:VEVENT
DTSTART;TZID=Europe/Paris:20230813T100000
DTEND;TZID=Europe/Paris:20230813T140000
DTSTAMP:20260422T011742
CREATED:20230615T175959Z
LAST-MODIFIED:20230615T180000Z
UID:2658-1691920800-1691935200@www.villaticas.nl
SUMMARY:beach clean Up Day katwijk aan Zee
DESCRIPTION:de 10e Boskalis Beach Cleanup Tour van Stichting De Noordzee weer de héle Noordzeekust opruimen. Samen met duizenden vrijwilligers maken we in dertig etappes de Noordzeestranden schoon. Doe jij ook mee? \n\n\n\nOp 13 augustus ruimen we het strand tussen Katwijk en Noordwijk op (circa 5 kilometer). We ontvangen je in beachclub Wantveld om 10.00. Daar vertellen we je kort hoe de dag eruitziet. Om 10.30 stappen we vervolgens de bus in en die brengt ons naar de locatie vanaf waar we gaan schoonmaken. We lopen dan over het strand terug naar de startlocatie en ruimen al het afval op dat we tegenkomen. Rond 12.00 nemen we een lunchpauze op het strand waarbij je je eigen meegenomen lunch kan nuttigen. Tip: neem zo min mogelijk wegwerpplastic mee naar het strand!Rond 14.00 komen we weer terug bij beachclub Wantveld en eindigt de etappe
URL:https://www.villaticas.nl/event/beach-clean-up-day-katwijk-aan-zee/
END:VEVENT
BEGIN:VEVENT
DTSTART;TZID=UTC:20230812T080000
DTEND;TZID=UTC:20230812T170000
DTSTAMP:20260422T011742
CREATED:20230203T091839Z
LAST-MODIFIED:20230203T092007Z
UID:1139-1691827200-1691859600@www.villaticas.nl
SUMMARY:Flower Parade
DESCRIPTION:Elk jaar de tweede zaterdag van augustus rijdt de Flower parade in Rijnsburg\, dit jaar op zaterdag 12 augustus rijd de Flower Parade door de starten van Rijnsburg\, Katwijk en Noordwijk
URL:https://www.villaticas.nl/event/flower-parade/
CATEGORIES:Bloemen,Culture
END:VEVENT
BEGIN:VEVENT
DTSTART;TZID=Europe/Paris:20230810T193000
DTEND;TZID=Europe/Paris:20230810T200000
DTSTAMP:20260422T011742
CREATED:20230616T092833Z
LAST-MODIFIED:20230616T092834Z
UID:2688-1691695800-1691697600@www.villaticas.nl
SUMMARY:Beachrun
DESCRIPTION:
URL:https://www.villaticas.nl/event/beachrun-8/
END:VEVENT
BEGIN:VEVENT
DTSTART;TZID=Europe/Paris:20230809T193000
DTEND;TZID=Europe/Paris:20230809T213000
DTSTAMP:20260422T011742
CREATED:20230613T131153Z
LAST-MODIFIED:20230613T131154Z
UID:2587-1691609400-1691616600@www.villaticas.nl
SUMMARY:zomeravondwandeling katwijk
DESCRIPTION:Zomeravondwandeling door de duinen van Berkheide – Katwijk 09/8/23\n\n\n\nWoensdagavond 9 augustus organiseert IVN Leidse regio in samenwerking met Stichting Duinbehoud de eerste zomeravondwandeling van dit jaar door het prachtige duingebied Berkheide\, gelegen tussen Katwijk en Wassenaar.De wandeling start om 19:30 uur bij de Soefitempel aan de Zuidduinseweg 7\, 2225 JS in Katwijk en duurt ca. 2 uur.Diverse gidsen nemen u mee en vertellen onderweg over het oude zeedorpenlandschap met de kleine akkers en over andere sporen die in de loop der eeuwen achter zijn gelaten. Ontdek de bijzondere plantensoorten van dit cultuurrijke landschap en als u geluk heeft ziet u onderweg misschien wel een ree of een vos!De wandeling is gratis en voor alle leeftijden.Advies: kom zo mogelijk op de fiets\, er is parkeergeld verschuldigd als u met de auto komt. Neem een jas of trui mee\, het kan ’s avonds al flink afkoelen. \n\n\n\nDe volgende  zomeravondwandelingen zijn op  9 augustus en 23 augustus.
URL:https://www.villaticas.nl/event/zomeravondwandeling-katwijk/
END:VEVENT
BEGIN:VEVENT
DTSTART;TZID=Europe/Paris:20230808T193000
DTEND;TZID=Europe/Paris:20230808T200000
DTSTAMP:20260422T011742
CREATED:20230629T112643Z
LAST-MODIFIED:20230629T112645Z
UID:2736-1691523000-1691524800@www.villaticas.nl
SUMMARY:historische wandeling
DESCRIPTION:HISTORISCHE RONDWANDELINGDinsdagavond: 13 juni t/m 15 augustus 2023\n\n\n\nElke dinsdagavond leiden ervaren gidsen u langs de mooiste plekjes van Noordwijk Binnen.Dit jaar zijn er verschillende thema rondwandelingen\, u wandelt langs het meest bijzondere en unieke van de oude dorpskern. \n\n\n\nU zult zich verbazen over de vele verassingen die Noordwijk Binnen te bieden heeft! \n\n\n\nAanvang: elke dinsdag om 19:30 uur bij de pomp aan de Voorstraat voor het GemeentehuisKosten: € 5 p.p. incl. koffie na afloop bij Hotel RoyalAlleen contante betaling!Taal: Nederlands\, Duits\, Engels
URL:https://www.villaticas.nl/event/historische-wandeling-3/
END:VEVENT
BEGIN:VEVENT
DTSTART;TZID=Europe/Paris:20230808T110000
DTEND;TZID=Europe/Paris:20230812T220000
DTSTAMP:20260422T011742
CREATED:20230611T085346Z
LAST-MODIFIED:20230611T090345Z
UID:2528-1691492400-1691877600@www.villaticas.nl
SUMMARY:feestweek rijnsburg kermis
DESCRIPTION:Het kan zijn dat deze kermis onderdeel is van een evenement dat in totaliteit langer duurt dan op deze pagina vermeld wordt.
URL:https://www.villaticas.nl/event/feestweek-rijnsburg-kermis/
END:VEVENT
BEGIN:VEVENT
DTSTART;TZID=Europe/Paris:20230807T080000
DTEND;TZID=Europe/Paris:20231009T170000
DTSTAMP:20260422T011742
CREATED:20230301T123540Z
LAST-MODIFIED:20230301T123541Z
UID:2056-1691395200-1696870800@www.villaticas.nl
SUMMARY:Dahlia velden
DESCRIPTION:Let op! De bloei van de bloemenvelden is afhankelijk van meerdere factoren. Het weer en het moment dat de kweker de bloem van de steel haalt hebben invloed op de bloemenvelden. Bij  showtuinen wordt rekening gehouden met verschillende weersomstandigheden en worden de bloemen niet van de steel gehaald. Hierdoor bloeien de bloemen bij de bloemenattracties het gehele seizoen.
URL:https://www.villaticas.nl/event/dahlia-velden/
END:VEVENT
BEGIN:VEVENT
DTSTART;TZID=Europe/Paris:20230805T180000
DTEND;TZID=Europe/Paris:20230805T233000
DTSTAMP:20260422T011742
CREATED:20230219T135756Z
LAST-MODIFIED:20230219T135757Z
UID:1656-1691258400-1691278200@www.villaticas.nl
SUMMARY:CIRQUE DES DUNES 2023
DESCRIPTION:Je waant je bij Cirque du Soleil aan zee!​Ca. 12 spectaculaire acts zullen op zaterdagavond 15 juli en 5 augustus vanaf ca. 18.30 hun opwachting maken voor en rondom de duinen aan de Koningin Wilhelmina Boulevard te Noordwijk aan Zee. Het programma biedt entertainment voor een groot publiek\, voor zowel jong als oud. Van vuur-acts\, diverse acts in de lucht tot een aantal hele bijzondere mobiele acts en nog veel meer. De artiesten pakken tijdens dit festival uit met techniek\, kleding en attributen en maken daarmee hun optredens tot een waar spektakel.De “buiten-theater” professionals komen vanuit heel Europa naar Noordwijk aan Zee.  Voorafgaand aan het Cirque des Dunes treedt er een Sambaband op. Dit optreden is vanaf ca. 18.00 uur te zien en is een verrassende en swingende sfeermaker. Het festival wordt afgesloten met een sensationele lasershow (15 juli) of een gigantische vuurwerkshow (5 augustus).  Zet zaterdagavond 15 juli en 5 augustus maar vast in je agenda; dit spektakel start om ca. 18.00 uur!! 
URL:https://www.villaticas.nl/event/cirque-des-dunes-2023-2/
END:VEVENT
BEGIN:VEVENT
DTSTART;TZID=Europe/Paris:20230805T133000
DTEND;TZID=Europe/Paris:20230805T170000
DTSTAMP:20260422T011742
CREATED:20230605T142927Z
LAST-MODIFIED:20230629T080155Z
UID:2358-1691242200-1691254800@www.villaticas.nl
SUMMARY:beklim oude jeroenskerk
DESCRIPTION:TORENKLIM – AGENDA 2023 \n\n\n\nelke zaterdag van 8 april t/m 30 sept. 2023 \n\n\n\nBeklim de toren van de Oude Jeroenskerk in Noordwijk Binnen.Onderweg naar boven vertellen ervaren gidsen alles over de geschiedenis van de toren. Eenmaal boven geniet u van het uitzicht over Noordwijk en de wijde omgeving.Tijd: 1e beklimming 13.30 uur | 2e beklimming 15.00 uur \n\n\n\nToegangsprijs: €5\,00 – kinderen €2.50 (Pinnen mogelijk)
URL:https://www.villaticas.nl/event/beklim-oude-jeroenskerk-2/
END:VEVENT
BEGIN:VEVENT
DTSTART;TZID=Europe/Paris:20230805T100000
DTEND;TZID=Europe/Paris:20230805T170000
DTSTAMP:20260422T011742
CREATED:20230607T180543Z
LAST-MODIFIED:20230607T180544Z
UID:2431-1691229600-1691254800@www.villaticas.nl
SUMMARY:midzomer markt lisse
DESCRIPTION:Zaterdag 5 augustus wordt er in Dorpshart Lisse een gezellige midzomermarkt georganiseerd! Jong en oud kunnen heerlijk struinen over de markt op zoek naar leuke producten. Of u nu op zoek bent naar leuke producten voor in huis of cadeautjes?  Dan bent u op de zomermarkt in Dorpshart Lisse aan het juiste adres! In de Kanaalstraat staan diverse kramen met een grote diversiteit aan producten.Moe van het winkelen? Strijk dan neer op één van de gezellige terrassen die het Dorpshart rijk is! De markt is op zaterdag 5 augustus geopend van 10:00 tot 17:00 en is gratis toegankelijk.Tot ziens op de Midzomermarkt in Dorpshart Lisse!
URL:https://www.villaticas.nl/event/midzomer-markt-lisse/
END:VEVENT
BEGIN:VEVENT
DTSTART;TZID=Europe/Paris:20230803T193000
DTEND;TZID=Europe/Paris:20230803T200000
DTSTAMP:20260422T011742
CREATED:20230616T092716Z
LAST-MODIFIED:20230616T092717Z
UID:2686-1691091000-1691092800@www.villaticas.nl
SUMMARY:beachrun
DESCRIPTION:
URL:https://www.villaticas.nl/event/beachrun-7/
END:VEVENT
BEGIN:VEVENT
DTSTART;TZID=UTC:20230803T080000
DTEND;TZID=UTC:20230815T170000
DTSTAMP:20260422T011742
CREATED:20230203T091158Z
LAST-MODIFIED:20230203T091159Z
UID:1136-1691049600-1692118800@www.villaticas.nl
SUMMARY:Noordzee Zomer festival
DESCRIPTION:Festival op het strand van Katwijk
URL:https://www.villaticas.nl/event/noordzee-zomer-festival/
END:VEVENT
BEGIN:VEVENT
DTSTART;TZID=Europe/Paris:20230801T193000
DTEND;TZID=Europe/Paris:20230801T200000
DTSTAMP:20260422T011742
CREATED:20230629T112533Z
LAST-MODIFIED:20230629T112535Z
UID:2734-1690918200-1690920000@www.villaticas.nl
SUMMARY:historische wandeling
DESCRIPTION:HISTORISCHE RONDWANDELINGDinsdagavond: 13 juni t/m 15 augustus 2023\n\n\n\nElke dinsdagavond leiden ervaren gidsen u langs de mooiste plekjes van Noordwijk Binnen.Dit jaar zijn er verschillende thema rondwandelingen\, u wandelt langs het meest bijzondere en unieke van de oude dorpskern. \n\n\n\nU zult zich verbazen over de vele verassingen die Noordwijk Binnen te bieden heeft! \n\n\n\nAanvang: elke dinsdag om 19:30 uur bij de pomp aan de Voorstraat voor het GemeentehuisKosten: € 5 p.p. incl. koffie na afloop bij Hotel RoyalAlleen contante betaling!Taal: Nederlands\, Duits\, Engels
URL:https://www.villaticas.nl/event/historische-wandeling-2/
END:VEVENT
BEGIN:VEVENT
DTSTART;TZID=Europe/Paris:20230731T110000
DTEND;TZID=Europe/Paris:20230731T220000
DTSTAMP:20260422T011742
CREATED:20230219T122610Z
LAST-MODIFIED:20230219T122611Z
UID:1650-1690801200-1690840800@www.villaticas.nl
SUMMARY:cadeau Markt
DESCRIPTION:gezellige bescheiden markt voor cadeau en speciale artikelen.
URL:https://www.villaticas.nl/event/cadeau-markt-4/
END:VEVENT
BEGIN:VEVENT
DTSTART;TZID=Europe/Paris:20230731T110000
DTEND;TZID=Europe/Paris:20230731T200000
DTSTAMP:20260422T011742
CREATED:20230219T122406Z
LAST-MODIFIED:20230219T122407Z
UID:1647-1690801200-1690833600@www.villaticas.nl
SUMMARY:cadeau markt
DESCRIPTION:gezellige bescheiden markt voor cadeau en speciale artikelen.
URL:https://www.villaticas.nl/event/cadeau-markt-3/
END:VEVENT
BEGIN:VEVENT
DTSTART;TZID=Europe/Paris:20230729T100000
DTEND;TZID=Europe/Paris:20230729T170000
DTSTAMP:20260422T011742
CREATED:20230611T102200Z
LAST-MODIFIED:20230611T102201Z
UID:2558-1690624800-1690650000@www.villaticas.nl
SUMMARY:puur natuur markt wassenaar
DESCRIPTION:Sinds september 2012 is er de Puur Natuur Markt in het centrum van Wassenaar. De basis voor dit initiatief is de aandacht voor lekker en puur eten uit de natuur\, locale ambacht en een plek in het dorp om elkaar te ontmoeten.
URL:https://www.villaticas.nl/event/puur-natuur-markt-wassenaar/
END:VEVENT
BEGIN:VEVENT
DTSTART;TZID=Europe/Paris:20230727T193000
DTEND;TZID=Europe/Paris:20230727T200000
DTSTAMP:20260422T011742
CREATED:20230616T092502Z
LAST-MODIFIED:20230616T092503Z
UID:2684-1690486200-1690488000@www.villaticas.nl
SUMMARY:beachrun
DESCRIPTION:
URL:https://www.villaticas.nl/event/beachrun-6/
END:VEVENT
BEGIN:VEVENT
DTSTART;TZID=Europe/Paris:20230726T193000
DTEND;TZID=Europe/Paris:20230726T213000
DTSTAMP:20260422T011742
CREATED:20230613T130910Z
LAST-MODIFIED:20230613T130944Z
UID:2584-1690399800-1690407000@www.villaticas.nl
SUMMARY:zomeravond wandeling katwijk
DESCRIPTION:Zomeravondwandeling door de duinen van Berkheide – Katwijk 26/7/23\n\n\n\nWoensdagavond 12 juli organiseert IVN Leidse regio in samenwerking met Stichting Duinbehoud de eerste zomeravondwandeling van dit jaar door het prachtige duingebied Berkheide\, gelegen tussen Katwijk en Wassenaar.De wandeling start om 19:30 uur bij de Soefitempel aan de Zuidduinseweg 7\, 2225 JS in Katwijk en duurt ca. 2 uur.Diverse gidsen nemen u mee en vertellen onderweg over het oude zeedorpenlandschap met de kleine akkers en over andere sporen die in de loop der eeuwen achter zijn gelaten. Ontdek de bijzondere plantensoorten van dit cultuurrijke landschap en als u geluk heeft ziet u onderweg misschien wel een ree of een vos!De wandeling is gratis en voor alle leeftijden.Advies: kom zo mogelijk op de fiets\, er is parkeergeld verschuldigd als u met de auto komt. Neem een jas of trui mee\, het kan ’s avonds al flink afkoelen. \n\n\n\nDe volgende 3 zomeravondwandelingen zijn op 26 juli\, 9 augustus en 23 augustus.
URL:https://www.villaticas.nl/event/zomeravond-wandeling-katwijk/
END:VEVENT
BEGIN:VEVENT
DTSTART;TZID=Europe/Paris:20230723T130000
DTEND;TZID=Europe/Paris:20230723T170000
DTSTAMP:20260422T011742
CREATED:20230219T140211Z
LAST-MODIFIED:20230219T140212Z
UID:1658-1690117200-1690131600@www.villaticas.nl
SUMMARY:LEVENDE BEELDEN 2023
DESCRIPTION:Noordwijk aan Zee staat zondag 23 juli en 20 augustus aanstaande in het teken van “Levende Beelden”. Dan vindt namelijk in Noordwijk alweer de 9e editie van het Levende Beelden Festival plaats. Heeft u weleens zo’n levend standbeeld gezien? Of geprobeerd er zelf een te zijn? Moeilijk hoor om de hele tijd zo stil te blijven staan en je niet door de omgeving af te laten leiden. ​Een levend standbeeld is subtiel en verrassend tegelijk en staat voor humor\, emotie en expressie. Het trekt de aandacht van de voorbijgangers\, ze blijven verwonderd staan. Een levend beeld staat niet zomaar stil\, maar voert een dialoog met het publiek via bewegingen. Op diverse locaties aan de kust treden er ca. 30 levende beelden op ; op de Koningin Wilhelmina Boulevard en in de Hoofdstraat. Zij showen hun talent en vermaken het publiek met hun prachtige acts. Ook zullen er diverse mobiele kunstenaars hun kunsten vertonen. En langs de route zullen er diverse straatmuzikanten hun muzikale kwaliteiten ten gehore brengen. ​De route is door bezoekers te lopen van 13.00 tot 17.00 uur.​Toegang is gratis!
URL:https://www.villaticas.nl/event/levende-beelden-2023/
END:VEVENT
BEGIN:VEVENT
DTSTART;TZID=Europe/Paris:20230722T080000
DTEND;TZID=Europe/Paris:20230722T170000
DTSTAMP:20260422T011742
CREATED:20230607T175706Z
LAST-MODIFIED:20230607T175707Z
UID:2421-1690012800-1690045200@www.villaticas.nl
SUMMARY:weekmarkt leiden zaterdag
DESCRIPTION:CENTRUM\n\n\n\n: ZA 8:00 – 17:00 UUR\n\n\n\nElke zaterdag staan de marktkooplui voor je klaar in het centrum van Leiden. De kraampjes vind je op de kades van de Botermarkt\, Vismarkt\, Aalmarkt en Nieuwe Rijn een uitgebreide warenmarkt. De keuze is reuze! En de sfeer is gemoedelijk. 
URL:https://www.villaticas.nl/event/weekmarkt-leiden-zaterdag-7/
END:VEVENT
BEGIN:VEVENT
DTSTART;TZID=Europe/Paris:20230720T193000
DTEND;TZID=Europe/Paris:20230720T200000
DTSTAMP:20260422T011742
CREATED:20230616T092349Z
LAST-MODIFIED:20230616T092350Z
UID:2682-1689881400-1689883200@www.villaticas.nl
SUMMARY:beachrun
DESCRIPTION:
URL:https://www.villaticas.nl/event/beachrun-5/
END:VEVENT
BEGIN:VEVENT
DTSTART;TZID=Europe/Paris:20230719T120000
DTEND;TZID=Europe/Paris:20230719T140000
DTSTAMP:20260422T011742
CREATED:20230613T125526Z
LAST-MODIFIED:20230613T151844Z
UID:2575-1689768000-1689775200@www.villaticas.nl
SUMMARY:strandexcursie katwijk
DESCRIPTION:Strandexcursie Katwijk – 19-7-23 \n\n\n\nContact Parkeerterrein Noordduinen \n\n\n\nNoordduinseweg Katwijk aan Zee \n\n\n\nMeer weten over het leven van de dieren die in zee leven en wanneer ze aanspoelen op het strand ? Kom naar een van onze strandexcursies! De Strandgroep van IVN regio Leiden organiseert op 9 juli een strandexcursie voor het hele gezin.De excursie zal gaan over wat je vindt en ontdekt in de zee en op het strand.Tijdstip: 12.00-14.00 uur.  \n\n\n\nVerzamelen: parkeerterrein Noordduinen\, Noordduinseweg in Katwijk aan Zee\, op de hoek bij de KNRM-loods.De excursie duurt anderhalf tot twee uur\, afhankelijk van het weer en wat we vinden. \n\n\n\nAanmelding is verplicht via ivnstrand@outlook.com\, of via tel: 06 37 00 50 24\, Sonja Neijer. \n\n\n\nTip 1: Kom op de fiets of neem uw pinpasje mee voor de parkeerautomaat. \n\n\n\nTip 2: Trek extra warme kleding aan! Aan zee is het altijd kouder dan achter de duinen. \n\n\n\nWanneer Woensdag 19 juli 2023 12.00 – 14.00 uur
URL:https://www.villaticas.nl/event/strandexcursie-katwijk/
LOCATION:parkeerterrein Noordduinen\, Noordduinseweg\, Katwijk aan Zee
END:VEVENT
BEGIN:VEVENT
DTSTART;TZID=Europe/Paris:20230718T193000
DTEND;TZID=Europe/Paris:20230718T200000
DTSTAMP:20260422T011742
CREATED:20230629T112236Z
LAST-MODIFIED:20230629T112238Z
UID:2730-1689708600-1689710400@www.villaticas.nl
SUMMARY:historische wandeling noordwijk-binnen
DESCRIPTION:HISTORISCHE RONDWANDELINGDinsdagavond: 13 juni t/m 15 augustus 2023\n\n\n\nElke dinsdagavond leiden ervaren gidsen u langs de mooiste plekjes van Noordwijk Binnen.Dit jaar zijn er verschillende thema rondwandelingen\, u wandelt langs het meest bijzondere en unieke van de oude dorpskern. \n\n\n\nU zult zich verbazen over de vele verassingen die Noordwijk Binnen te bieden heeft! \n\n\n\nAanvang: elke dinsdag om 19:30 uur bij de pomp aan de Voorstraat voor het GemeentehuisKosten: € 5 p.p. incl. koffie na afloop bij Hotel RoyalAlleen contante betaling!Taal: Nederlands\, Duits\, Engels
URL:https://www.villaticas.nl/event/historische-wandeling-noordwijk-binnen-3/
END:VEVENT
BEGIN:VEVENT
DTSTART;TZID=Europe/Paris:20230717T110000
DTEND;TZID=Europe/Paris:20230717T200000
DTSTAMP:20260422T011742
CREATED:20230219T122117Z
LAST-MODIFIED:20230219T122118Z
UID:1645-1689591600-1689624000@www.villaticas.nl
SUMMARY:cadeau markt
DESCRIPTION:gezellige bescheiden markt voor cadeau en speciale artikelen.
URL:https://www.villaticas.nl/event/cadeau-markt-2/
END:VEVENT
BEGIN:VEVENT
DTSTART;TZID=Europe/Paris:20230715T180000
DTEND;TZID=Europe/Paris:20230715T183000
DTSTAMP:20260422T011742
CREATED:20230219T135501Z
LAST-MODIFIED:20230219T135502Z
UID:1654-1689444000-1689445800@www.villaticas.nl
SUMMARY:CIRQUE DES DUNES 2023
DESCRIPTION:Je waant je bij Cirque du Soleil aan zee!​Ca. 12 spectaculaire acts zullen op zaterdagavond 15 juli en 5 augustus vanaf ca. 18.30 hun opwachting maken voor en rondom de duinen aan de Koningin Wilhelmina Boulevard te Noordwijk aan Zee. Het programma biedt entertainment voor een groot publiek\, voor zowel jong als oud. Van vuur-acts\, diverse acts in de lucht tot een aantal hele bijzondere mobiele acts en nog veel meer. De artiesten pakken tijdens dit festival uit met techniek\, kleding en attributen en maken daarmee hun optredens tot een waar spektakel.De “buiten-theater” professionals komen vanuit heel Europa naar Noordwijk aan Zee.  Voorafgaand aan het Cirque des Dunes treedt er een Sambaband op. Dit optreden is vanaf ca. 18.00 uur te zien en is een verrassende en swingende sfeermaker. Het festival wordt afgesloten met een sensationele lasershow (15 juli) of een gigantische vuurwerkshow (5 augustus).  Zet zaterdagavond 15 juli en 5 augustus maar vast in je agenda; dit spektakel start om ca. 18.00 uur!! 
URL:https://www.villaticas.nl/event/cirque-des-dunes-2023/
END:VEVENT
BEGIN:VEVENT
DTSTART;TZID=Europe/Paris:20230715T100000
DTEND;TZID=Europe/Paris:20230715T140000
DTSTAMP:20260422T011742
CREATED:20230613T124934Z
LAST-MODIFIED:20230613T124935Z
UID:2573-1689415200-1689429600@www.villaticas.nl
SUMMARY:wandeltocht door het Panbos
DESCRIPTION:Op zaterdag 15 juli zal Social Club Obladi een leuke wandeltocht door het Panbos organiseren.Tijdens deze sportieve wandeling lopen we door het mooie Panbos\, want Wil heeft weer een prachtige route uitgezet in dit Katwijkse natuurgebied. Behalve dat we lekker gezond bezig zijn is dit ook nog eens heel gezellig! De route is ongeveer negen km lang waar we zo’n twee uur de tijd voor zullen nemen. We verzamelen bij Café restaurant Het Panbos. We beginnen daar met een kopje koffie of thee en sluiten daar ook weer af met de lunch*. *De lunch is optioneel. \n\n\n\nWanneer Zaterdag 15 juli 2023 10.00 – 14.00 uur
URL:https://www.villaticas.nl/event/wandeltocht-door-het-panbos/
END:VEVENT
END:VCALENDAR