BEGIN:VCALENDAR
VERSION:2.0
PRODID:-//Bed &amp; Breakfast Villaticas - ECPv6.15.20//NONSGML v1.0//EN
CALSCALE:GREGORIAN
METHOD:PUBLISH
X-WR-CALNAME:Bed &amp; Breakfast Villaticas
X-ORIGINAL-URL:https://www.villaticas.nl
X-WR-CALDESC:Evenementen voor Bed &amp; Breakfast Villaticas
REFRESH-INTERVAL;VALUE=DURATION:PT1H
X-Robots-Tag:noindex
X-PUBLISHED-TTL:PT1H
BEGIN:VTIMEZONE
TZID:Europe/Paris
BEGIN:DAYLIGHT
TZOFFSETFROM:+0100
TZOFFSETTO:+0200
TZNAME:CEST
DTSTART:20220327T010000
END:DAYLIGHT
BEGIN:STANDARD
TZOFFSETFROM:+0200
TZOFFSETTO:+0100
TZNAME:CET
DTSTART:20221030T010000
END:STANDARD
BEGIN:DAYLIGHT
TZOFFSETFROM:+0100
TZOFFSETTO:+0200
TZNAME:CEST
DTSTART:20230326T010000
END:DAYLIGHT
BEGIN:STANDARD
TZOFFSETFROM:+0200
TZOFFSETTO:+0100
TZNAME:CET
DTSTART:20231029T010000
END:STANDARD
BEGIN:DAYLIGHT
TZOFFSETFROM:+0100
TZOFFSETTO:+0200
TZNAME:CEST
DTSTART:20240331T010000
END:DAYLIGHT
BEGIN:STANDARD
TZOFFSETFROM:+0200
TZOFFSETTO:+0100
TZNAME:CET
DTSTART:20241027T010000
END:STANDARD
END:VTIMEZONE
BEGIN:VTIMEZONE
TZID:UTC
BEGIN:STANDARD
TZOFFSETFROM:+0000
TZOFFSETTO:+0000
TZNAME:UTC
DTSTART:20220101T000000
END:STANDARD
END:VTIMEZONE
BEGIN:VEVENT
DTSTART;TZID=Europe/Paris:20230720T193000
DTEND;TZID=Europe/Paris:20230720T200000
DTSTAMP:20260422T040403
CREATED:20230616T092349Z
LAST-MODIFIED:20230616T092350Z
UID:2682-1689881400-1689883200@www.villaticas.nl
SUMMARY:beachrun
DESCRIPTION:
URL:https://www.villaticas.nl/event/beachrun-5/
END:VEVENT
BEGIN:VEVENT
DTSTART;TZID=Europe/Paris:20230719T120000
DTEND;TZID=Europe/Paris:20230719T140000
DTSTAMP:20260422T040403
CREATED:20230613T125526Z
LAST-MODIFIED:20230613T151844Z
UID:2575-1689768000-1689775200@www.villaticas.nl
SUMMARY:strandexcursie katwijk
DESCRIPTION:Strandexcursie Katwijk – 19-7-23 \n\n\n\nContact Parkeerterrein Noordduinen \n\n\n\nNoordduinseweg Katwijk aan Zee \n\n\n\nMeer weten over het leven van de dieren die in zee leven en wanneer ze aanspoelen op het strand ? Kom naar een van onze strandexcursies! De Strandgroep van IVN regio Leiden organiseert op 9 juli een strandexcursie voor het hele gezin.De excursie zal gaan over wat je vindt en ontdekt in de zee en op het strand.Tijdstip: 12.00-14.00 uur.  \n\n\n\nVerzamelen: parkeerterrein Noordduinen\, Noordduinseweg in Katwijk aan Zee\, op de hoek bij de KNRM-loods.De excursie duurt anderhalf tot twee uur\, afhankelijk van het weer en wat we vinden. \n\n\n\nAanmelding is verplicht via ivnstrand@outlook.com\, of via tel: 06 37 00 50 24\, Sonja Neijer. \n\n\n\nTip 1: Kom op de fiets of neem uw pinpasje mee voor de parkeerautomaat. \n\n\n\nTip 2: Trek extra warme kleding aan! Aan zee is het altijd kouder dan achter de duinen. \n\n\n\nWanneer Woensdag 19 juli 2023 12.00 – 14.00 uur
URL:https://www.villaticas.nl/event/strandexcursie-katwijk/
LOCATION:parkeerterrein Noordduinen\, Noordduinseweg\, Katwijk aan Zee
END:VEVENT
BEGIN:VEVENT
DTSTART;TZID=Europe/Paris:20230718T193000
DTEND;TZID=Europe/Paris:20230718T200000
DTSTAMP:20260422T040403
CREATED:20230629T112236Z
LAST-MODIFIED:20230629T112238Z
UID:2730-1689708600-1689710400@www.villaticas.nl
SUMMARY:historische wandeling noordwijk-binnen
DESCRIPTION:HISTORISCHE RONDWANDELINGDinsdagavond: 13 juni t/m 15 augustus 2023\n\n\n\nElke dinsdagavond leiden ervaren gidsen u langs de mooiste plekjes van Noordwijk Binnen.Dit jaar zijn er verschillende thema rondwandelingen\, u wandelt langs het meest bijzondere en unieke van de oude dorpskern. \n\n\n\nU zult zich verbazen over de vele verassingen die Noordwijk Binnen te bieden heeft! \n\n\n\nAanvang: elke dinsdag om 19:30 uur bij de pomp aan de Voorstraat voor het GemeentehuisKosten: € 5 p.p. incl. koffie na afloop bij Hotel RoyalAlleen contante betaling!Taal: Nederlands\, Duits\, Engels
URL:https://www.villaticas.nl/event/historische-wandeling-noordwijk-binnen-3/
END:VEVENT
BEGIN:VEVENT
DTSTART;TZID=Europe/Paris:20230717T110000
DTEND;TZID=Europe/Paris:20230717T200000
DTSTAMP:20260422T040403
CREATED:20230219T122117Z
LAST-MODIFIED:20230219T122118Z
UID:1645-1689591600-1689624000@www.villaticas.nl
SUMMARY:cadeau markt
DESCRIPTION:gezellige bescheiden markt voor cadeau en speciale artikelen.
URL:https://www.villaticas.nl/event/cadeau-markt-2/
END:VEVENT
BEGIN:VEVENT
DTSTART;TZID=Europe/Paris:20230715T180000
DTEND;TZID=Europe/Paris:20230715T183000
DTSTAMP:20260422T040403
CREATED:20230219T135501Z
LAST-MODIFIED:20230219T135502Z
UID:1654-1689444000-1689445800@www.villaticas.nl
SUMMARY:CIRQUE DES DUNES 2023
DESCRIPTION:Je waant je bij Cirque du Soleil aan zee!​Ca. 12 spectaculaire acts zullen op zaterdagavond 15 juli en 5 augustus vanaf ca. 18.30 hun opwachting maken voor en rondom de duinen aan de Koningin Wilhelmina Boulevard te Noordwijk aan Zee. Het programma biedt entertainment voor een groot publiek\, voor zowel jong als oud. Van vuur-acts\, diverse acts in de lucht tot een aantal hele bijzondere mobiele acts en nog veel meer. De artiesten pakken tijdens dit festival uit met techniek\, kleding en attributen en maken daarmee hun optredens tot een waar spektakel.De “buiten-theater” professionals komen vanuit heel Europa naar Noordwijk aan Zee.  Voorafgaand aan het Cirque des Dunes treedt er een Sambaband op. Dit optreden is vanaf ca. 18.00 uur te zien en is een verrassende en swingende sfeermaker. Het festival wordt afgesloten met een sensationele lasershow (15 juli) of een gigantische vuurwerkshow (5 augustus).  Zet zaterdagavond 15 juli en 5 augustus maar vast in je agenda; dit spektakel start om ca. 18.00 uur!! 
URL:https://www.villaticas.nl/event/cirque-des-dunes-2023/
END:VEVENT
BEGIN:VEVENT
DTSTART;TZID=Europe/Paris:20230715T100000
DTEND;TZID=Europe/Paris:20230715T140000
DTSTAMP:20260422T040403
CREATED:20230613T124934Z
LAST-MODIFIED:20230613T124935Z
UID:2573-1689415200-1689429600@www.villaticas.nl
SUMMARY:wandeltocht door het Panbos
DESCRIPTION:Op zaterdag 15 juli zal Social Club Obladi een leuke wandeltocht door het Panbos organiseren.Tijdens deze sportieve wandeling lopen we door het mooie Panbos\, want Wil heeft weer een prachtige route uitgezet in dit Katwijkse natuurgebied. Behalve dat we lekker gezond bezig zijn is dit ook nog eens heel gezellig! De route is ongeveer negen km lang waar we zo’n twee uur de tijd voor zullen nemen. We verzamelen bij Café restaurant Het Panbos. We beginnen daar met een kopje koffie of thee en sluiten daar ook weer af met de lunch*. *De lunch is optioneel. \n\n\n\nWanneer Zaterdag 15 juli 2023 10.00 – 14.00 uur
URL:https://www.villaticas.nl/event/wandeltocht-door-het-panbos/
END:VEVENT
BEGIN:VEVENT
DTSTART;TZID=Europe/Paris:20230713T193000
DTEND;TZID=Europe/Paris:20230713T200000
DTSTAMP:20260422T040403
CREATED:20230616T092057Z
LAST-MODIFIED:20230616T092058Z
UID:2680-1689276600-1689278400@www.villaticas.nl
SUMMARY:Beachrun
DESCRIPTION:
URL:https://www.villaticas.nl/event/beachrun-4/
END:VEVENT
BEGIN:VEVENT
DTSTART;TZID=Europe/Paris:20230712T193000
DTEND;TZID=Europe/Paris:20230712T213000
DTSTAMP:20260422T040403
CREATED:20230613T130642Z
LAST-MODIFIED:20230613T151507Z
UID:2582-1689190200-1689197400@www.villaticas.nl
SUMMARY:Zomeravond wandeling duinen Katwijk
DESCRIPTION:Zomeravondwandeling door de duinen van Berkheide – Katwijk 12/7/23Woensdagavond 12 juli organiseert IVN Leidse regio in samenwerking met Stichting Duinbehoud de eerste zomeravondwandeling van dit jaar door het prachtige duingebied Berkheide\, gelegen tussen Katwijk en Wassenaar.De wandeling start om 19:30 uur bij de Soefitempel aan de Zuidduinseweg 7\, 2225 JS in Katwijk en duurt ca. 2 uur.Diverse gidsen nemen u mee en vertellen onderweg over het oude zeedorpenlandschap met de kleine akkers en over andere sporen die in de loop der eeuwen achter zijn gelaten. Ontdek de bijzondere plantensoorten van dit cultuurrijke landschap en als u geluk heeft ziet u onderweg misschien wel een ree of een vos! De wandeling is gratis en voor alle leeftijden.Advies: kom zo mogelijk op de fiets\, er is parkeergeld verschuldigd als u met de auto komt. Neem een jas of trui mee\, het kan ’s avonds al flink afkoelen.De volgende 3 zomeravondwandelingen zijn op 26 juli\, 9 augustus en 23 augustus.
URL:https://www.villaticas.nl/event/zomeravond-wandeling-duinen-katwijk/
END:VEVENT
BEGIN:VEVENT
DTSTART;TZID=Europe/Paris:20230711T193000
DTEND;TZID=Europe/Paris:20230711T210000
DTSTAMP:20260422T040403
CREATED:20230629T112127Z
LAST-MODIFIED:20230629T112129Z
UID:2728-1689103800-1689109200@www.villaticas.nl
SUMMARY:Historische wandeling Noordwijk-binnen
DESCRIPTION:HISTORISCHE RONDWANDELINGDinsdagavond: 13 juni t/m 15 augustus 2023Elke dinsdagavond leiden ervaren gidsen u langs de mooiste plekjes van Noordwijk Binnen.Dit jaar zijn er verschillende thema rondwandelingen\, u wandelt langs het meest bijzondere en unieke van de oude dorpskern.U zult zich verbazen over de vele verassingen die Noordwijk Binnen te bieden heeft! \n\n\n\nAanvang: elke dinsdag om 19:30 uur bij de pomp aan de Voorstraat voor het Gemeentehuis \n\n\n\nKosten: € 5 p.p. incl. koffie na afloop bij Hotel RoyalAlleen contante betaling!Taal: Nederlands\, Duits\, Engels
URL:https://www.villaticas.nl/event/historische-wandeling-noordwijk-binnen-2/
END:VEVENT
BEGIN:VEVENT
DTSTART;TZID=Europe/Paris:20230711T080000
DTEND;TZID=Europe/Paris:20230712T170000
DTSTAMP:20260422T040403
CREATED:20230228T232010Z
LAST-MODIFIED:20230228T232012Z
UID:2026-1689062400-1689181200@www.villaticas.nl
SUMMARY:Waterpendel Katwijk- Leiden
DESCRIPTION:
URL:https://www.villaticas.nl/event/waterpendel-katwijk-leiden-7/
END:VEVENT
BEGIN:VEVENT
DTSTART;TZID=Europe/Paris:20230710T110000
DTEND;TZID=Europe/Paris:20230710T200000
DTSTAMP:20260422T040403
CREATED:20230219T121527Z
LAST-MODIFIED:20230219T121527Z
UID:1642-1688986800-1689019200@www.villaticas.nl
SUMMARY:cadeau markt
DESCRIPTION:gezellige bescheiden markt voor cadeau en speciale artikelen.
URL:https://www.villaticas.nl/event/cadeau-markt/
END:VEVENT
BEGIN:VEVENT
DTSTART;TZID=UTC:20230709T120000
DTEND;TZID=UTC:20230709T120000
DTSTAMP:20260422T040403
CREATED:20230203T093810Z
LAST-MODIFIED:20230203T094007Z
UID:1149-1688904000-1688904000@www.villaticas.nl
SUMMARY:10 van Noordwijk
DESCRIPTION:Jaarlijks hardloop evenement van Noordwijk
URL:https://www.villaticas.nl/event/10-van-noordwijk/
CATEGORIES:Sportief
END:VEVENT
BEGIN:VEVENT
DTSTART;TZID=Europe/Paris:20230709T110000
DTEND;TZID=Europe/Paris:20230709T160000
DTSTAMP:20260422T040403
CREATED:20230607T171410Z
LAST-MODIFIED:20230607T171412Z
UID:2365-1688900400-1688918400@www.villaticas.nl
SUMMARY:curiosamarkt warmond
DESCRIPTION:Dorpsstraat\, Pleintje bij de Pomp – voor het Oude Raadhuis
URL:https://www.villaticas.nl/event/curiosamarkt-warmond/
LOCATION:Oude raadhuis\, Dorpstraat 36-40\, Warmond\, Nederland
END:VEVENT
BEGIN:VEVENT
DTSTART;TZID=Europe/Paris:20230709T100000
DTEND;TZID=Europe/Paris:20230709T120000
DTSTAMP:20260422T040403
CREATED:20230613T130108Z
LAST-MODIFIED:20230613T130330Z
UID:2577-1688896800-1688904000@www.villaticas.nl
SUMMARY:strandexcursie katwijk
DESCRIPTION:Strandexcursie – Katwijk 9/7/23\n\n\n\nMeer weten over het leven van de dieren die in zee leven en wanneer ze aanspoelen op het strand ? Kom naar een van onze strandexcursies !De Strandgroep van IVN regio Leiden organiseert op zondag 9 juli een strandexcursie voor het hele gezin over wat je vindt en ontdekt in de zee en op het strand. Tijdstip: 15.00-17.00 uur.Verzamelen: parkeerterrein Noordduinen\, Noordduinseweg in Katwijk aan Zee\, op de hoek bij de KNRM-loods.De excursie duurt anderhalf tot twee uur\, afhankelijk van het weer en wat we vinden. \n\n\n\n\n\n\n\n\n\n\n\n\n\n\n\nDe excursie is gratis en voor alle leeftijden. Verplicht aanmelden (oon informatie) via ivnstrand@outlook.comOf tel 06-37005024\, Sonja Neijer. \n\n\n\nTIP 1: kom op de fiets of neem uw pinpasje mee voor de parkeerautomaat.Tip 2: Trek extra warme kleding aan! Aan zee is het altijd kouder dan achter de duinen.
URL:https://www.villaticas.nl/event/strandexcursie-katwijk-2/
END:VEVENT
BEGIN:VEVENT
DTSTART;TZID=UTC:20230708T230000
DTEND;TZID=UTC:20230708T230000
DTSTAMP:20260422T040403
CREATED:20230203T093142Z
LAST-MODIFIED:20230203T093143Z
UID:1147-1688857200-1688857200@www.villaticas.nl
SUMMARY:Vuurwerkshow Katwijk
DESCRIPTION:Vuurwerkshow Katwijk
URL:https://www.villaticas.nl/event/vuurwerkshow-katwijk/
END:VEVENT
BEGIN:VEVENT
DTSTART;TZID=Europe/Paris:20230708T180000
DTEND;TZID=Europe/Paris:20230708T183000
DTSTAMP:20260422T040403
CREATED:20230629T075026Z
LAST-MODIFIED:20230629T075029Z
UID:2723-1688839200-1688841000@www.villaticas.nl
SUMMARY:Sunset Walk in Noordwijk. Wandelen voor de Hersenstichting
DESCRIPTION:Op 8 juli wandelen we samen vanaf de Vuurtoren in Noordwijk door de duinen en over het strand. Kies uit 3\,5\, 5 of 10 km en loop individueel of samen in een team met vrienden\, familie of collega’s. De route van 3\,5 km is rolstoelvriendelijk en gaat daarom niet door de duinen en over het strand. Uiteraard ontvang je bij de finish jouw Sunset Walk medaille. \n\n\n\nPraktische informatie \n\n\n\n\nWanneer? Zaterdag 8 juli\n\n\n\nWelke afstanden? Je kan kiezen uit 3 afstanden: 3\,5 km (rolstoelvriendelijk)\, 5 km of 10 km.\n\n\n\nHoelaat? Starten kan tussen 18:00 – 19:30\n\n\n\nWaar? Vanuit Noordwijk of vanuit huis.\n\n\n\nTicketprijs: 15 euro (kinderticket: 5 euro)​. Deze prijs is inclusief een starterspakket met o.a. ons lintje voor begrip en een medaille\n\n\n\nHoe? We proberen dit event zo prikkelvriendelijk mogelijk te organiseren. Hoe we dit doen\, lees je in de veelgestelde vragen. \n\n\n\n\nGezonde hersenen zijn niet vanzelfsprekend. Sterker nog\, al meer dan 4 miljoen Nederlanders hebben een hersenaandoening. Met de Sunset Walk halen we geld op om meer onderzoeken en projecten mogelijk te maken. Zodat mensen met een hersenaandoening een betere kwaliteit van leven hebben én kunnen meedoen in de maatschappij.
URL:https://www.villaticas.nl/event/sunset-walk-in-noordwijk-wandelen-voor-de-hersenstichting/
END:VEVENT
BEGIN:VEVENT
DTSTART;TZID=Europe/Paris:20230708T120000
DTEND;TZID=Europe/Paris:20230709T170000
DTSTAMP:20260422T040403
CREATED:20230629T072152Z
LAST-MODIFIED:20230629T072234Z
UID:2720-1688817600-1688922000@www.villaticas.nl
SUMMARY:Leidse Rembrandt Dagen 2023
DESCRIPTION:Op 8 en 9 juli zal de Pieters- en Academiewijk\, de oudste wijk van Leiden\, worden teruggebracht naar de 17e eeuw. \n\n\n\n \n\n\n\nLocatie \n\n\n\nDe oude binnenstad van Leiden\, waar Rembrandt nog altijd de weg zou kunnen vinden. Zo weinig is er in die vierhonderd jaar veranderd.De Pieters- en Academiewijk vormt het grote theatergebied\, dat zich uitstrekt van de Molen de Put bij de Weddesteeg\, Groenhazengracht\, Rapenburg en de wijk rond de Pieterskerk. \n\n\n\n Inmiddels zijn ruim vierhonderd mensen bezig om dit zo authentiek mogelijk te laten zien aan de bezoekers. Op deze website staat het programma\, maar kun je ook lezen hoe je met OV of de auto’s naar Leiden kunt komen en waar de start  van de route is. Noteer de data\, want dat het weer een bijzondere gebeurtenis wordt\, is nu al duidelijk.
URL:https://www.villaticas.nl/event/leidse-rembrandt-dagen-2023/
END:VEVENT
BEGIN:VEVENT
DTSTART;TZID=UTC:20230708T100000
DTEND;TZID=UTC:20230708T170000
DTSTAMP:20260422T040403
CREATED:20230203T092933Z
LAST-MODIFIED:20230203T092934Z
UID:1145-1688810400-1688835600@www.villaticas.nl
SUMMARY:Katwijkse Vrijmarkt
DESCRIPTION:
URL:https://www.villaticas.nl/event/katwijkse-vrijmarkt/
END:VEVENT
BEGIN:VEVENT
DTSTART;TZID=Europe/Paris:20230708T093000
DTEND;TZID=Europe/Paris:20230708T113000
DTSTAMP:20260422T040403
CREATED:20230613T154319Z
LAST-MODIFIED:20230613T154320Z
UID:2613-1688808600-1688815800@www.villaticas.nl
SUMMARY:Natuurwandeling op Landgoed Tespelduyn
DESCRIPTION:8 Juli – Zomerwandeling \n\n\n\nDe golfbaan van Landgoed Tespelduyn bestaat uit veel meer dan strak geschoren fairways en golfballen. Tussen de holes liggen stroken grond waar veel groeit en bloeit. Door de unieke ligging met veel waterpartijen en sloten\, oude bomen en jonge bosjes\, hoge en lage bermen is de variatie groot.Zaterdag 8 juli om 09:30 uur gaan we genieten van al het moois dat groeit en bloeit op Tespelduyn.
URL:https://www.villaticas.nl/event/natuurwandeling-op-landgoed-tespelduyn-2/
END:VEVENT
BEGIN:VEVENT
DTSTART;TZID=Europe/Paris:20230708T080000
DTEND;TZID=Europe/Paris:20230709T170000
DTSTAMP:20260422T040403
CREATED:20230611T100809Z
LAST-MODIFIED:20230611T100811Z
UID:2553-1688803200-1688922000@www.villaticas.nl
SUMMARY:open imkerij dagen
DESCRIPTION:Tijdens de imkerijdagen bezoeken geïnteresseerden van jong tot oud de bijenstand en nemen ze een kijkje in de bijenkast\, proeven van lekkerste honing en luisteren naar het wonderlijke verhaal van de honingbij en haar omgeving. Allemaal onder begeleiding van enthousiaste bijenhouders.
URL:https://www.villaticas.nl/event/open-imkerij-dagen/
END:VEVENT
BEGIN:VEVENT
DTSTART;TZID=Europe/Paris:20230708T080000
DTEND;TZID=Europe/Paris:20230708T170000
DTSTAMP:20260422T040403
CREATED:20230607T175529Z
LAST-MODIFIED:20230607T175530Z
UID:2417-1688803200-1688835600@www.villaticas.nl
SUMMARY:weekmarkt leiden zaterdag
DESCRIPTION:CENTRUM\n\n\n\n: ZA 8:00 – 17:00 UUR\n\n\n\nElke zaterdag staan de marktkooplui voor je klaar in het centrum van Leiden. De kraampjes vind je op de kades van de Botermarkt\, Vismarkt\, Aalmarkt en Nieuwe Rijn een uitgebreide warenmarkt. De keuze is reuze! En de sfeer is gemoedelijk. 
URL:https://www.villaticas.nl/event/weekmarkt-leiden-zaterdag-5/
END:VEVENT
BEGIN:VEVENT
DTSTART;TZID=Europe/Paris:20230707T080000
DTEND;TZID=Europe/Paris:20230709T170000
DTSTAMP:20260422T040403
CREATED:20230219T111832Z
LAST-MODIFIED:20230219T111833Z
UID:1629-1688716800-1688922000@www.villaticas.nl
SUMMARY:loungefest Oosterduinse meer
DESCRIPTION:Loungefest is een tweedaags festival aan het Oosterduinse meer in Noordwijkerhout. De drie vaste podia: Main Stage\, Bayou Stage\, Lake Disco plus de jaarlijkse verrassing vormen de basis voor een diverse en orginele programmering.Ooit begonnen als een heel klein schattig achtertuin feestje\, daarover meer informatie in een 3FM radio interview (klik)
URL:https://www.villaticas.nl/event/loungefest-oosterduinse-meer/
END:VEVENT
BEGIN:VEVENT
DTSTART;TZID=Europe/Paris:20230706T193000
DTEND;TZID=Europe/Paris:20230706T200000
DTSTAMP:20260422T040403
CREATED:20230616T091933Z
LAST-MODIFIED:20230616T091935Z
UID:2678-1688671800-1688673600@www.villaticas.nl
SUMMARY:beachrun
DESCRIPTION:
URL:https://www.villaticas.nl/event/beachrun-3/
END:VEVENT
BEGIN:VEVENT
DTSTART;TZID=UTC:20230705T080000
DTEND;TZID=UTC:20230730T170000
DTSTAMP:20260422T040403
CREATED:20230203T092644Z
LAST-MODIFIED:20230203T092645Z
UID:1143-1688544000-1690736400@www.villaticas.nl
SUMMARY:Reuzenrad op de boulevard katwijk
DESCRIPTION:In Juli is het reuzenrad de blikvanger van Katwijk\, op 32 meter hoogte spectaculair uitzicht over de zee en Katwijk
URL:https://www.villaticas.nl/event/reuzenrad-op-de-boulevard-katwijk/
END:VEVENT
BEGIN:VEVENT
DTSTART;TZID=Europe/Paris:20230705T080000
DTEND;TZID=Europe/Paris:20230705T170000
DTSTAMP:20260422T040403
CREATED:20230613T185921Z
LAST-MODIFIED:20230629T075537Z
UID:2640-1688544000-1688576400@www.villaticas.nl
SUMMARY:waterpendel katwijk-Leiden
DESCRIPTION:Van 23 mei t/m 10 september 2023 kunt u iedere dinsdag\, woensdag en zondag een verrassende vaartocht maken op de Oude Rijn van Leiden naar Katwijk aan Zee en weer terug naar Leiden. Wij varen langs de Limes\, de natuurlijke noordgrens van het oude Romeinse Rijk\, en passeren zo Oegstgeest\, Valkenburg en Rijnsburg. Na ongeveer vijf kwartier meren wij af in de bedrijvige binnenhaven van Katwijk. In deze oude vissersplaats staat u al binnen vijf minuten op de boulevard. Geniet van de zon of waai eens lekker uit op het strand. Achter de duinen vinden we er een gezellig winkelcentrum en voor de oude klederdracht bezoekt u het Katwijks Museum. Vanuit Katwijk vaart u naar oud Leiden. In deze Stadvanontdekkingen vindt u vele musea en u kunt er ronddwalen door de historische binnenstad. Op en langs de schilderachtige grachten heeft u een ruime keuze aan terrassen en leuke eethuisjes. Elke woensdag is er langs de Nieuwe Rijn een sfeervolle markt. Deze pendeldienst wordt verzorgd door Stichting De Leidse Rederij.
URL:https://www.villaticas.nl/event/waterpendel-katwijk-leiden-10/
ORGANIZER;CN="Veneti%C3%AB van het Westen":MAILTO:info@venetievanhetwesten.nl
END:VEVENT
BEGIN:VEVENT
DTSTART;TZID=Europe/Paris:20230705T080000
DTEND;TZID=Europe/Paris:20230705T170000
DTSTAMP:20260422T040403
CREATED:20230607T181634Z
LAST-MODIFIED:20230607T181635Z
UID:2443-1688544000-1688576400@www.villaticas.nl
SUMMARY:rondleiding kasteel Keukenhof
DESCRIPTION:Kasteel Keukenhof opent in juni en juli op woensdagen haar deuren! \n\n\n\nKasteel Keukenhof altijd al eens van binnen willen bekijken? Dan hebben we leuk nieuws! Het is in de maanden juni en juli op woensdag mogelijk om een gratis rondleiding door het kasteel te krijgen. Een rondleiding reserveren kan via het  formulier op de website van Kasteel Keukenhof.  De rondleiding is gratis\, is Nederlandstalig\, heeft een duur van 90 min en is niet geschikt voor kinderen onder de 10 jaar. \n\n\n\nLet op: grote (rug)tassen en kinderwagens kunnen niet mee naar binnen. Het kasteel is niet toegankelijk voor rolstoelen/rollators of mensen die slecht ter been zijn. \n\n\n\nReserveren  \n\n\n\nWanneer\n\n\n\n\nElke woensdag vanaf 7 juni 2023 t/m 27 juli 2023
URL:https://www.villaticas.nl/event/rondleiding-kasteel-keukenhof-2/
END:VEVENT
BEGIN:VEVENT
DTSTART;TZID=Europe/Paris:20230704T193000
DTEND;TZID=Europe/Paris:20230704T210000
DTSTAMP:20260422T040403
CREATED:20230629T111805Z
LAST-MODIFIED:20230629T111845Z
UID:2725-1688499000-1688504400@www.villaticas.nl
SUMMARY:Historische wandeling Noordwijk-binnen
DESCRIPTION:Elke dinsdagavond leiden ervaren gidsen u langs de mooiste plekjes van Noordwijk Binnen.Dit jaar zijn er verschillende thema rondwandelingen\, u wandelt langs het meest bijzondere en unieke van de oude dorpskern. \n\n\n\nU zult zich verbazen over de vele verassingen die Noordwijk Binnen te bieden heeft!Aanvang: elke dinsdag om 19:30 uur bij de pomp aan de Voorstraat voor het Gemeentehuis \n\n\n\nKosten: € 5 p.p. incl. koffie na afloop bij Hotel Royal \n\n\n\nAlleen contante betaling! \n\n\n\nTaal: Nederlands\, Duits\, Engels
URL:https://www.villaticas.nl/event/historische-wandeling-noordwijk-binnen/
END:VEVENT
BEGIN:VEVENT
DTSTART;TZID=Europe/Paris:20230704T110000
DTEND;TZID=Europe/Paris:20230704T210000
DTSTAMP:20260422T040403
CREATED:20230609T071813Z
LAST-MODIFIED:20230609T071814Z
UID:2483-1688468400-1688504400@www.villaticas.nl
SUMMARY:toeristenmarkt katwijk
DESCRIPTION:De bekende Toeristenmarkt in Katwijk aan Zee heeft een groot aantal kramen waar je terecht kunt voor de leukste (streek-) producten. \n\n\n\nEr zijn verschillende demonstraties\, optredens en workshops voor jong en oud. Elke week heeft de markt een ander thema\, met speciale themakramen op het Andreasplein.  \n\n\n\nWanneer\n\n\n\n\nElke dinsdag vanaf 27 juni 2023 t/m 30 augustus 2023 11.00 – 21.00 uur
URL:https://www.villaticas.nl/event/toeristenmarkt-katwijk-2/
LOCATION:Toeristenmarkt Katwijk\, Andreasplein\, Katwijk
END:VEVENT
BEGIN:VEVENT
DTSTART;TZID=Europe/Paris:20230704T080000
DTEND;TZID=Europe/Paris:20230705T170000
DTSTAMP:20260422T040403
CREATED:20230228T231936Z
LAST-MODIFIED:20230228T231937Z
UID:2024-1688457600-1688576400@www.villaticas.nl
SUMMARY:Waterpendel Katwijk- Leiden
DESCRIPTION:
URL:https://www.villaticas.nl/event/waterpendel-katwijk-leiden-6/
END:VEVENT
BEGIN:VEVENT
DTSTART;TZID=Europe/Paris:20230703T110000
DTEND;TZID=Europe/Paris:20230703T160000
DTSTAMP:20260422T040403
CREATED:20230613T183157Z
LAST-MODIFIED:20230629T075204Z
UID:2622-1688382000-1688400000@www.villaticas.nl
SUMMARY:weekmarkt noordwijkerhout
DESCRIPTION:
URL:https://www.villaticas.nl/event/weekmarkt-noordwijkerhout-2/
END:VEVENT
END:VCALENDAR