BEGIN:VCALENDAR
VERSION:2.0
PRODID:-//Bed &amp; Breakfast Villaticas - ECPv6.15.20//NONSGML v1.0//EN
CALSCALE:GREGORIAN
METHOD:PUBLISH
X-WR-CALNAME:Bed &amp; Breakfast Villaticas
X-ORIGINAL-URL:https://www.villaticas.nl
X-WR-CALDESC:Evenementen voor Bed &amp; Breakfast Villaticas
REFRESH-INTERVAL;VALUE=DURATION:PT1H
X-Robots-Tag:noindex
X-PUBLISHED-TTL:PT1H
BEGIN:VTIMEZONE
TZID:Europe/Paris
BEGIN:DAYLIGHT
TZOFFSETFROM:+0100
TZOFFSETTO:+0200
TZNAME:CEST
DTSTART:20220327T010000
END:DAYLIGHT
BEGIN:STANDARD
TZOFFSETFROM:+0200
TZOFFSETTO:+0100
TZNAME:CET
DTSTART:20221030T010000
END:STANDARD
BEGIN:DAYLIGHT
TZOFFSETFROM:+0100
TZOFFSETTO:+0200
TZNAME:CEST
DTSTART:20230326T010000
END:DAYLIGHT
BEGIN:STANDARD
TZOFFSETFROM:+0200
TZOFFSETTO:+0100
TZNAME:CET
DTSTART:20231029T010000
END:STANDARD
BEGIN:DAYLIGHT
TZOFFSETFROM:+0100
TZOFFSETTO:+0200
TZNAME:CEST
DTSTART:20240331T010000
END:DAYLIGHT
BEGIN:STANDARD
TZOFFSETFROM:+0200
TZOFFSETTO:+0100
TZNAME:CET
DTSTART:20241027T010000
END:STANDARD
END:VTIMEZONE
BEGIN:VTIMEZONE
TZID:UTC
BEGIN:STANDARD
TZOFFSETFROM:+0000
TZOFFSETTO:+0000
TZNAME:UTC
DTSTART:20220101T000000
END:STANDARD
END:VTIMEZONE
BEGIN:VEVENT
DTSTART;TZID=Europe/Paris:20230705T080000
DTEND;TZID=Europe/Paris:20230705T170000
DTSTAMP:20260422T122431
CREATED:20230613T185921Z
LAST-MODIFIED:20230629T075537Z
UID:2640-1688544000-1688576400@www.villaticas.nl
SUMMARY:waterpendel katwijk-Leiden
DESCRIPTION:Van 23 mei t/m 10 september 2023 kunt u iedere dinsdag\, woensdag en zondag een verrassende vaartocht maken op de Oude Rijn van Leiden naar Katwijk aan Zee en weer terug naar Leiden. Wij varen langs de Limes\, de natuurlijke noordgrens van het oude Romeinse Rijk\, en passeren zo Oegstgeest\, Valkenburg en Rijnsburg. Na ongeveer vijf kwartier meren wij af in de bedrijvige binnenhaven van Katwijk. In deze oude vissersplaats staat u al binnen vijf minuten op de boulevard. Geniet van de zon of waai eens lekker uit op het strand. Achter de duinen vinden we er een gezellig winkelcentrum en voor de oude klederdracht bezoekt u het Katwijks Museum. Vanuit Katwijk vaart u naar oud Leiden. In deze Stadvanontdekkingen vindt u vele musea en u kunt er ronddwalen door de historische binnenstad. Op en langs de schilderachtige grachten heeft u een ruime keuze aan terrassen en leuke eethuisjes. Elke woensdag is er langs de Nieuwe Rijn een sfeervolle markt. Deze pendeldienst wordt verzorgd door Stichting De Leidse Rederij.
URL:https://www.villaticas.nl/event/waterpendel-katwijk-leiden-10/
ORGANIZER;CN="Veneti%C3%AB van het Westen":MAILTO:info@venetievanhetwesten.nl
END:VEVENT
BEGIN:VEVENT
DTSTART;TZID=Europe/Paris:20230705T080000
DTEND;TZID=Europe/Paris:20230705T170000
DTSTAMP:20260422T122431
CREATED:20230607T181634Z
LAST-MODIFIED:20230607T181635Z
UID:2443-1688544000-1688576400@www.villaticas.nl
SUMMARY:rondleiding kasteel Keukenhof
DESCRIPTION:Kasteel Keukenhof opent in juni en juli op woensdagen haar deuren! \n\n\n\nKasteel Keukenhof altijd al eens van binnen willen bekijken? Dan hebben we leuk nieuws! Het is in de maanden juni en juli op woensdag mogelijk om een gratis rondleiding door het kasteel te krijgen. Een rondleiding reserveren kan via het  formulier op de website van Kasteel Keukenhof.  De rondleiding is gratis\, is Nederlandstalig\, heeft een duur van 90 min en is niet geschikt voor kinderen onder de 10 jaar. \n\n\n\nLet op: grote (rug)tassen en kinderwagens kunnen niet mee naar binnen. Het kasteel is niet toegankelijk voor rolstoelen/rollators of mensen die slecht ter been zijn. \n\n\n\nReserveren  \n\n\n\nWanneer\n\n\n\n\nElke woensdag vanaf 7 juni 2023 t/m 27 juli 2023
URL:https://www.villaticas.nl/event/rondleiding-kasteel-keukenhof-2/
END:VEVENT
BEGIN:VEVENT
DTSTART;TZID=Europe/Paris:20230704T193000
DTEND;TZID=Europe/Paris:20230704T210000
DTSTAMP:20260422T122431
CREATED:20230629T111805Z
LAST-MODIFIED:20230629T111845Z
UID:2725-1688499000-1688504400@www.villaticas.nl
SUMMARY:Historische wandeling Noordwijk-binnen
DESCRIPTION:Elke dinsdagavond leiden ervaren gidsen u langs de mooiste plekjes van Noordwijk Binnen.Dit jaar zijn er verschillende thema rondwandelingen\, u wandelt langs het meest bijzondere en unieke van de oude dorpskern. \n\n\n\nU zult zich verbazen over de vele verassingen die Noordwijk Binnen te bieden heeft!Aanvang: elke dinsdag om 19:30 uur bij de pomp aan de Voorstraat voor het Gemeentehuis \n\n\n\nKosten: € 5 p.p. incl. koffie na afloop bij Hotel Royal \n\n\n\nAlleen contante betaling! \n\n\n\nTaal: Nederlands\, Duits\, Engels
URL:https://www.villaticas.nl/event/historische-wandeling-noordwijk-binnen/
END:VEVENT
BEGIN:VEVENT
DTSTART;TZID=Europe/Paris:20230704T110000
DTEND;TZID=Europe/Paris:20230704T210000
DTSTAMP:20260422T122431
CREATED:20230609T071813Z
LAST-MODIFIED:20230609T071814Z
UID:2483-1688468400-1688504400@www.villaticas.nl
SUMMARY:toeristenmarkt katwijk
DESCRIPTION:De bekende Toeristenmarkt in Katwijk aan Zee heeft een groot aantal kramen waar je terecht kunt voor de leukste (streek-) producten. \n\n\n\nEr zijn verschillende demonstraties\, optredens en workshops voor jong en oud. Elke week heeft de markt een ander thema\, met speciale themakramen op het Andreasplein.  \n\n\n\nWanneer\n\n\n\n\nElke dinsdag vanaf 27 juni 2023 t/m 30 augustus 2023 11.00 – 21.00 uur
URL:https://www.villaticas.nl/event/toeristenmarkt-katwijk-2/
LOCATION:Toeristenmarkt Katwijk\, Andreasplein\, Katwijk
END:VEVENT
BEGIN:VEVENT
DTSTART;TZID=Europe/Paris:20230704T080000
DTEND;TZID=Europe/Paris:20230705T170000
DTSTAMP:20260422T122431
CREATED:20230228T231936Z
LAST-MODIFIED:20230228T231937Z
UID:2024-1688457600-1688576400@www.villaticas.nl
SUMMARY:Waterpendel Katwijk- Leiden
DESCRIPTION:
URL:https://www.villaticas.nl/event/waterpendel-katwijk-leiden-6/
END:VEVENT
BEGIN:VEVENT
DTSTART;TZID=Europe/Paris:20230703T110000
DTEND;TZID=Europe/Paris:20230703T160000
DTSTAMP:20260422T122431
CREATED:20230613T183157Z
LAST-MODIFIED:20230629T075204Z
UID:2622-1688382000-1688400000@www.villaticas.nl
SUMMARY:weekmarkt noordwijkerhout
DESCRIPTION:
URL:https://www.villaticas.nl/event/weekmarkt-noordwijkerhout-2/
END:VEVENT
BEGIN:VEVENT
DTSTART;TZID=Europe/Paris:20230703T110000
DTEND;TZID=Europe/Paris:20230703T160000
DTSTAMP:20260422T122431
CREATED:20230607T173154Z
LAST-MODIFIED:20230607T173155Z
UID:2389-1688382000-1688400000@www.villaticas.nl
SUMMARY:Weekmarkt lisse
DESCRIPTION:Iedere maandag is er een gezellige weekmarkt in Dorpshart Lisse. Elke maandag staan de marktlieden voor je klaar om je te voorzien van advies en de heerlijkste producten. Bij de diverse marktkramen kunt u terecht verschillende producten en etenswaren\, zoals mode\, kaas\, bloemen en delicatessen. Het hele jaar kunt u genieten van de mooie aanbiedingen die de verschillende marktkooplieden te bieden hebben. De markt op het Meer en Houtplein is een middagmarkt en hierdoor hoeft u zich ’s ochtends niet te haasten.  \n\n\n\n Wil je ook ervaren hoe gezellig de weekmarkt in Dorpshart Lisse is? De weekmarkt is iedere maandag (let op: weersafhankelijk) tussen 11:00 en 16:00 uur te vinden op het Meer en Houtplein.  
URL:https://www.villaticas.nl/event/weekmarkt-lisse-3/
END:VEVENT
BEGIN:VEVENT
DTSTART;TZID=Europe/Paris:20230702T143000
DTEND;TZID=Europe/Paris:20230702T170000
DTSTAMP:20260422T122431
CREATED:20230607T172748Z
LAST-MODIFIED:20230607T172749Z
UID:2383-1688308200-1688317200@www.villaticas.nl
SUMMARY:live muziek lisse
DESCRIPTION:Tijdens het terrassenseizoen heeft Dorpshart Lisse iedere zondag muziek op horecaplein ’T Vierkant. \n\n\n\nTussen 14:30 en 17:30 speelt een muzikaal gezelschap een gezellige noot. Kom luisteren en geniet van de mooie muziek onder het genot van een hapje en een drankje. Het muzikale gezelschap dat optreed verschilt iedere week waardoor er veel afwisseling is tussen de verschillende muziekgenres. Zo komen onder andere jazz\, soul en popmuziek voorbij. Genoeg redenen dus om een bezoekje te brengen aan ’T Vierkant in Dorpshart Lisse. \n\n\n\nLet op:  Dit evenement vindt alleen plaats met mooi weer.  Voor de actuele status van dit evenement kunt u kijken op de Facebookpagina van ’t Vierkant \n\n\n\nOverzicht van alle data\n\n\n\n\n11 juni 2023 van 14:30 tot 17:30\n\n\n\n18 juni 2023 van 14:30 tot 17:30\n\n\n\n25 juni 2023 van 14:30 tot 17:30\n\n\n\n2 juli 2023 van 14:30 tot 17:30\n\n\n\n9 juli 2023 van 14:30 tot 17:30\n\n\n\n16 juli 2023 van 14:30 tot 17:30\n\n\n\n23 juli 2023 van 14:30 tot 17:30\n\n\n\n30 juli 2023 van 14:30 tot 17:30\n\n\n\n6 augustus 2023 van 14:30 tot 17:30\n\n\n\n13 augustus 2023 van 14:30 tot 17:30\n\n\n\n20 augustus 2023 van 14:30 tot 17:30\n\n\n\n27 augustus 2023 van 14:30 tot 17:30\n\n\n\n3 september 2023 van 14:30 tot 17:30\n\n\n\n10 september 2023 van 14:30 tot 17:30\n\n\n\n17 september 2023 van 14:30 tot 17:30\n\n\n\n24 september 2023 van 14:30 tot 17:30
URL:https://www.villaticas.nl/event/live-muziek-lisse/
END:VEVENT
BEGIN:VEVENT
DTSTART;TZID=Europe/Paris:20230702T130000
DTEND;TZID=Europe/Paris:20230702T170000
DTSTAMP:20260422T122431
CREATED:20230613T160727Z
LAST-MODIFIED:20230613T160728Z
UID:2616-1688302800-1688317200@www.villaticas.nl
SUMMARY:Landelijke Zonnekijkdag 2023 - Sterrenwacht Foucault De Zilk
DESCRIPTION:Op zondag 2 juli 2023 kunt u tijdens dit landelijke evenement veilig door een telescoop de Zon bewonderen bij onze Sterrenwacht Foucault in De Zilk. Ook zal er presentatie zijn over de Zon onze dichtstbij zijnde Ster. \n\n\n\nWanneer Zondag 2 juli 2023 13.00 – 17.00 uur \n\n\n\nPrijzenGratis
URL:https://www.villaticas.nl/event/landelijke-zonnekijkdag-2023-sterrenwacht-foucault-de-zilk/
END:VEVENT
BEGIN:VEVENT
DTSTART;TZID=Europe/Paris:20230702T080000
DTEND;TZID=Europe/Paris:20230702T170000
DTSTAMP:20260422T122431
CREATED:20230228T231816Z
LAST-MODIFIED:20230629T075751Z
UID:2021-1688284800-1688317200@www.villaticas.nl
SUMMARY:Waterpendel Katwijk- Leiden
DESCRIPTION:Van 23 mei t/m 10 september 2023 kunt u iedere dinsdag\, woensdag en zondag een verrassende vaartocht maken op de Oude Rijn van Leiden naar Katwijk aan Zee en weer terug naar Leiden. Wij varen langs de Limes\, de natuurlijke noordgrens van het oude Romeinse Rijk\, en passeren zo Oegstgeest\, Valkenburg en Rijnsburg. Na ongeveer vijf kwartier meren wij af in de bedrijvige binnenhaven van Katwijk. In deze oude vissersplaats staat u al binnen vijf minuten op de boulevard. Geniet van de zon of waai eens lekker uit op het strand. Achter de duinen vinden we er een gezellig winkelcentrum en voor de oude klederdracht bezoekt u het Katwijks Museum. Vanuit Katwijk vaart u naar oud Leiden. In deze Stadvanontdekkingen vindt u vele musea en u kunt er ronddwalen door de historische binnenstad. Op en langs de schilderachtige grachten heeft u een ruime keuze aan terrassen en leuke eethuisjes. Elke woensdag is er langs de Nieuwe Rijn een sfeervolle markt. Deze pendeldienst wordt verzorgd door Stichting De Leidse Rederij.
URL:https://www.villaticas.nl/event/waterpendel-katwijk-leiden-5/
ORGANIZER;CN="Veneti%C3%AB van het Westen":MAILTO:info@venetievanhetwesten.nl
END:VEVENT
BEGIN:VEVENT
DTSTART;TZID=Europe/Paris:20230701T133000
DTEND;TZID=Europe/Paris:20230701T170000
DTSTAMP:20260422T122431
CREATED:20230605T141618Z
LAST-MODIFIED:20230629T075941Z
UID:2344-1688218200-1688230800@www.villaticas.nl
SUMMARY:Beklim de toren van de Oude Jeroenskerk in Noordwijk Binnen
DESCRIPTION:TORENKLIM – AGENDA 2023 \n\n\n\nelke zaterdag van 8 april t/m 30 sept. 2023 \n\n\n\nBeklim de toren van de Oude Jeroenskerk in Noordwijk Binnen.Onderweg naar boven vertellen ervaren gidsen alles over de geschiedenis van de toren. Eenmaal boven geniet u van het uitzicht over Noordwijk en de wijde omgeving.Tijd: 1e beklimming 13.30 uur | 2e beklimming 15.00 uur \n\n\n\nToegangsprijs: €5\,00 – kinderen €2.50 (Pinnen mogelijk)
URL:https://www.villaticas.nl/event/beklim-de-toren-van-de-oude-jeroenskerk-in-noordwijk-binnen/
LOCATION:Oude Jeroenskerk\, Voorstraat 44\, Noordwijk-binnen\, Nederland
ORGANIZER;CN="De oude dorpskern":MAILTO:jeroentoren@gmail.com
END:VEVENT
BEGIN:VEVENT
DTSTART;TZID=Europe/Paris:20230701T130000
DTEND;TZID=Europe/Paris:20230701T190000
DTSTAMP:20260422T122431
CREATED:20230607T171956Z
LAST-MODIFIED:20230607T172027Z
UID:2375-1688216400-1688238000@www.villaticas.nl
SUMMARY:Kortebaan draverij Warmond
DESCRIPTION:1 juli van 13.00 tot 19.00 uur: Kortebaan draverij Warmond
URL:https://www.villaticas.nl/event/kortebaan-draverij-warmond/
END:VEVENT
BEGIN:VEVENT
DTSTART;TZID=Europe/Paris:20230701T080000
DTEND;TZID=Europe/Paris:20230701T170000
DTSTAMP:20260422T122431
CREATED:20230607T175429Z
LAST-MODIFIED:20230607T175450Z
UID:2415-1688198400-1688230800@www.villaticas.nl
SUMMARY:weekmarkt leiden zaterdag
DESCRIPTION:CENTRUM\n\n\n\n: ZA 8:00 – 17:00 UUR\n\n\n\nElke zaterdag staan de marktkooplui voor je klaar in het centrum van Leiden. De kraampjes vind je op de kades van de Botermarkt\, Vismarkt\, Aalmarkt en Nieuwe Rijn een uitgebreide warenmarkt. De keuze is reuze! En de sfeer is gemoedelijk. 
URL:https://www.villaticas.nl/event/weekmarkt-leiden-zaterdag-4/
END:VEVENT
BEGIN:VEVENT
DTSTART;TZID=Europe/Paris:20230629T193000
DTEND;TZID=Europe/Paris:20230629T213000
DTSTAMP:20260422T122431
CREATED:20230616T091812Z
LAST-MODIFIED:20230616T091813Z
UID:2676-1688067000-1688074200@www.villaticas.nl
SUMMARY:beachrun
DESCRIPTION:IEDERE DONDERDAG VAN 15 JUNI T/M 17 AUGUSTUS 2023 OM 19.30\n\n\n\nStart en finish zijn op het strand aan de Kon. Wilhelmina boulevard ter hoogte van het Palaceplein. De start is recht voor het nieuwe NRB/ZVN gebouw\, iets naar links vanaf de afrit. Start van alle afstanden is om 19:30. \n\n\n\nDe helft van de afstand heen\, waarbij richting Katwijk wordt gelopen en de andere helft weer terug. \n\n\n\nBij het keerpunt\, gemarkeerd door een beachflag met daarop de afstand (2\, 4 of 8)\, krijg je een stempel en is er een waterpunt (alleen 4 en 8 km).
URL:https://www.villaticas.nl/event/beachrun-2/
END:VEVENT
BEGIN:VEVENT
DTSTART;TZID=Europe/Paris:20230628T170000
DTEND;TZID=Europe/Paris:20230628T180000
DTSTAMP:20260422T122431
CREATED:20230611T100217Z
LAST-MODIFIED:20230611T100241Z
UID:2551-1687971600-1687975200@www.villaticas.nl
SUMMARY:Yoga hortus
DESCRIPTION:In de zomer kun je elke woensdag om 17:00 meedoen met een yogales in de Hortus. Yogastudio Tribes verzorgt Vinyasa Flow. Dit is een dynamische vorm van yoga. De asana’s (houdingen) worden samen met de ademhaling beoefend. Je flowt tijdens de les van de ene naar de andere houding. Er komen staande\, balancerende en liggende houdingen voorbij. \n\n\n\n \n\n\n\nDeelname: e-ticket € 4\,- plus entree Hortus
URL:https://www.villaticas.nl/event/yoga-hortus/
END:VEVENT
BEGIN:VEVENT
DTSTART;TZID=Europe/Paris:20230628T090000
DTEND;TZID=Europe/Paris:20230628T103000
DTSTAMP:20260422T122431
CREATED:20230611T095953Z
LAST-MODIFIED:20230611T095954Z
UID:2549-1687942800-1687948200@www.villaticas.nl
SUMMARY:meditatie Hortus
DESCRIPTION:In de zomer kun je elke woensdag om 9:00 meedoen met een meditatieles in de Hortus. Beleef de Hortus deze zomer op unieke wijze. Ervaar hoe de natuur kan helpen om dichter bij de ware natuur te leven. Maak kennis met verschillende meditatietechnieken die voor meer balans\, aarding en plezier zorgen. De meditatielessen worden gegeven door één van onze meditatiedocenten. \n\n\n\n \n\n\n\nDeelname: e-ticket € 4\,- plus entree Hortus
URL:https://www.villaticas.nl/event/meditatie-hortus/
END:VEVENT
BEGIN:VEVENT
DTSTART;TZID=Europe/Paris:20230628T080000
DTEND;TZID=Europe/Paris:20230628T170000
DTSTAMP:20260422T122431
CREATED:20230607T175947Z
LAST-MODIFIED:20230607T175948Z
UID:2427-1687939200-1687971600@www.villaticas.nl
SUMMARY:weekmarkt leiden woensdag
DESCRIPTION:CENTRUM\n\n\n\n: WO 8:00 – 17:00 UUR\n\n\n\nElke woensdag staan de marktkooplui voor je klaar op in het centrum van Leiden. De markt bestaat uit verschillende kramen\, verspreid over de Botermarkt\, Vismarkt\, Aalmarkt en Nieuwe Rijn. Kortom\, voor ieder wat wils
URL:https://www.villaticas.nl/event/weekmarkt-leiden-woensdag-3/
END:VEVENT
BEGIN:VEVENT
DTSTART;TZID=Europe/Paris:20230627T193000
DTEND;TZID=Europe/Paris:20230627T200000
DTSTAMP:20260422T122431
CREATED:20230629T112405Z
LAST-MODIFIED:20230629T112406Z
UID:2732-1687894200-1687896000@www.villaticas.nl
SUMMARY:Historische wandeling Noordwijk-binnen
DESCRIPTION:HISTORISCHE RONDWANDELINGDinsdagavond: 13 juni t/m 15 augustus 2023\n\n\n\nElke dinsdagavond leiden ervaren gidsen u langs de mooiste plekjes van Noordwijk Binnen.Dit jaar zijn er verschillende thema rondwandelingen\, u wandelt langs het meest bijzondere en unieke van de oude dorpskern. \n\n\n\nU zult zich verbazen over de vele verassingen die Noordwijk Binnen te bieden heeft! \n\n\n\nAanvang: elke dinsdag om 19:30 uur bij de pomp aan de Voorstraat voor het GemeentehuisKosten: € 5 p.p. incl. koffie na afloop bij Hotel RoyalAlleen contante betaling!Taal: Nederlands\, Duits\, Engels
URL:https://www.villaticas.nl/event/historische-wandeling-noordwijk-binnen-4/
END:VEVENT
BEGIN:VEVENT
DTSTART;TZID=Europe/Paris:20230627T110000
DTEND;TZID=Europe/Paris:20230627T210000
DTSTAMP:20260422T122431
CREATED:20230609T071549Z
LAST-MODIFIED:20230609T071550Z
UID:2481-1687863600-1687899600@www.villaticas.nl
SUMMARY:toeristenmarkt Katwijk
DESCRIPTION:De bekende Toeristenmarkt in Katwijk aan Zee heeft een groot aantal kramen waar je terecht kunt voor de leukste (streek-) producten.Er zijn verschillende demonstraties\, optredens en workshops voor jong en oud. Elke week heeft de markt een ander thema\, met speciale themakramen op het Andreasplein.  \n\n\n\nWanneer \n\n\n\nElke dinsdag vanaf 27 juni 2023 t/m 30 augustus 2023 11.00 – 21.00 uur
URL:https://www.villaticas.nl/event/toeristenmarkt-katwijk/
END:VEVENT
BEGIN:VEVENT
DTSTART;TZID=Europe/Paris:20230625T143000
DTEND;TZID=Europe/Paris:20230625T170000
DTSTAMP:20260422T122431
CREATED:20230607T172702Z
LAST-MODIFIED:20230607T172703Z
UID:2381-1687703400-1687712400@www.villaticas.nl
SUMMARY:live muziek
DESCRIPTION:Tijdens het terrassenseizoen heeft Dorpshart Lisse iedere zondag muziek op horecaplein ’T Vierkant. \n\n\n\nTussen 14:30 en 17:30 speelt een muzikaal gezelschap een gezellige noot. Kom luisteren en geniet van de mooie muziek onder het genot van een hapje en een drankje. Het muzikale gezelschap dat optreed verschilt iedere week waardoor er veel afwisseling is tussen de verschillende muziekgenres. Zo komen onder andere jazz\, soul en popmuziek voorbij. Genoeg redenen dus om een bezoekje te brengen aan ’T Vierkant in Dorpshart Lisse. \n\n\n\nLet op:  Dit evenement vindt alleen plaats met mooi weer.  Voor de actuele status van dit evenement kunt u kijken op de Facebookpagina van ’t Vierkant \n\n\n\nOverzicht van alle data\n\n\n\n\n25 juni 2023 van 14:30 tot 17:30\n\n\n\n2 juli 2023 van 14:30 tot 17:30\n\n\n\n9 juli 2023 van 14:30 tot 17:30\n\n\n\n16 juli 2023 van 14:30 tot 17:30\n\n\n\n23 juli 2023 van 14:30 tot 17:30\n\n\n\n30 juli 2023 van 14:30 tot 17:30\n\n\n\n6 augustus 2023 van 14:30 tot 17:30\n\n\n\n13 augustus 2023 van 14:30 tot 17:30\n\n\n\n20 augustus 2023 van 14:30 tot 17:30\n\n\n\n27 augustus 2023 van 14:30 tot 17:30\n\n\n\n3 september 2023 van 14:30 tot 17:30\n\n\n\n10 september 2023 van 14:30 tot 17:30\n\n\n\n17 september 2023 van 14:30 tot 17:30\n\n\n\n24 september 2023 van 14:30 tot 17:30
URL:https://www.villaticas.nl/event/live-muziek/
END:VEVENT
BEGIN:VEVENT
DTSTART;TZID=Europe/Paris:20230625T130000
DTEND;TZID=Europe/Paris:20230625T170000
DTSTAMP:20260422T122431
CREATED:20230613T181303Z
LAST-MODIFIED:20230613T181305Z
UID:2618-1687698000-1687712400@www.villaticas.nl
SUMMARY:Meedoen met het levend kunstwerk?
DESCRIPTION:Op zondag 25 juni vindt een unieke cultuurbeleving plaats op het strand aan de Duindamseslag. Aan het eind van de culturele fietstocht ‘Changes’\, die je door Noordwijk langs de land-art werken van Gerard ten Broek Beach Landart leidt met muziek en poëzie\, zal KunstKlank een levend labyrint vormen. \n\n\n\nMeedoen met het levend kunstwerk? \n\n\n\nWil je deel uitmaken van het levend kunstwerk? Dat kan! Geef je op per mail (herma@kunstklank.nl) en kom zondag 25 juni om 13.00 uur en/of 15.00 uur naar het strand bij de Duindamseslag (afrit 24). Trek die dag effen blauwe kleding aan.Onder leiding van choreograaf Marjan Hommes wordt\, in samenwerking met kunstenaars Judith de Haas ART en Gerard ten Broek\, met alle mensen een levend labyrint gevormd dat vervolgens gefotografeerd en gefilmd zal worden. Deze korte film zal in augustus overal te zien zijn als opmaat naar de KunstKlank voorstelling VAAR WEL die vanaf 29 augsutus t/m 7 september te zien zal zijn. \n\n\n\nEr zijn nog enkele kaarten voor de fietstocht Changes verkrijgbaar via https://tickets.kunstklank.nl
URL:https://www.villaticas.nl/event/meedoen-met-het-levend-kunstwerk/
END:VEVENT
BEGIN:VEVENT
DTSTART;TZID=Europe/Paris:20230625T080000
DTEND;TZID=Europe/Paris:20230625T170000
DTSTAMP:20260422T122431
CREATED:20230613T185400Z
LAST-MODIFIED:20230613T185401Z
UID:2638-1687680000-1687712400@www.villaticas.nl
SUMMARY:waterpendel katwijk - leiden
DESCRIPTION:Van 23 mei t/m 10 september 2023 kunt u iedere dinsdag\, woensdag en zondag een verrassende vaartocht maken op de Oude Rijn van Leiden naar Katwijk aan Zee en weer terug naar Leiden. Wij varen langs de Limes\, de natuurlijke noordgrens van het oude Romeinse Rijk\, en passeren zo Oegstgeest\, Valkenburg en Rijnsburg. Na ongeveer vijf kwartier meren wij af in de bedrijvige binnenhaven van Katwijk. In deze oude vissersplaats staat u al binnen vijf minuten op de boulevard. Geniet van de zon of waai eens lekker uit op het strand. Achter de duinen vinden we er een gezellig winkelcentrum en voor de oude klederdracht bezoekt u het Katwijks Museum. Vanuit Katwijk vaart u naar oud Leiden. In deze Stadvanontdekkingen vindt u vele musea en u kunt er ronddwalen door de historische binnenstad. Op en langs de schilderachtige grachten heeft u een ruime keuze aan terrassen en leuke eethuisjes. Elke woensdag is er langs de Nieuwe Rijn een sfeervolle markt. Deze pendeldienst wordt verzorgd door Stichting De Leidse Rederij.
URL:https://www.villaticas.nl/event/waterpendel-katwijk-leiden-9/
ORGANIZER;CN="Veneti%C3%AB van het Westen":MAILTO:info@venetievanhetwesten.nl
END:VEVENT
BEGIN:VEVENT
DTSTART;TZID=Europe/Paris:20230624T183000
DTEND;TZID=Europe/Paris:20230624T223000
DTSTAMP:20260422T122431
CREATED:20230605T135854Z
LAST-MODIFIED:20230605T135855Z
UID:2339-1687631400-1687645800@www.villaticas.nl
SUMMARY:De grote Vijf duin ree safari
DESCRIPTION:Speur met de boswachter mee naar reeën. Na een maaltijd met huisgemaakte soep\, breekbrood met kaas en vlees stap je in de Landrovers en rijd je door boswachterij Noordwijk. Vanuit deze stoere auto’s maak je nog meer kans op het zien van wild. Onderweg stop je een aantal keer en vertelt de boswachter je alles over het leven van de ree en hoe je kunt zien of er reeën in de buurt zijn. Op deze safari komen niet alleen natuurliefhebbers\, maar ook de liefhebbers van stoere auto’s aan hun trekken. De Landrovers rijden bijna nooit in dit terrein dat normaal alleen met een gids toegankelijk is. Grote kans dat je ook damherten en vossen tegenkomt.
URL:https://www.villaticas.nl/event/de-grote-vijf-duin-ree-safari-2/
LOCATION:Staatsbosbeheer\, Duinweg 81\, Noordwijk\, Nederland
ORGANIZER;CN="Staatsbosbeheer":MAILTO:hollandsduin@staatsbosbeheer.nl
END:VEVENT
BEGIN:VEVENT
DTSTART;TZID=UTC:20230624T120000
DTEND;TZID=UTC:20230625T190000
DTSTAMP:20260422T122431
CREATED:20230203T084349Z
LAST-MODIFIED:20230204T111724Z
UID:1127-1687608000-1687719600@www.villaticas.nl
SUMMARY:ibiza markt
DESCRIPTION:Geïnspireerd door de hippiemarkten van Ibiza\, dit weekend op een Ibizamarkt op de Boulevard van Noordwijk
URL:https://www.villaticas.nl/event/1127/
END:VEVENT
BEGIN:VEVENT
DTSTART;TZID=Europe/Paris:20230624T100000
DTEND;TZID=Europe/Paris:20230624T170000
DTSTAMP:20260422T122431
CREATED:20230611T101846Z
LAST-MODIFIED:20230611T102015Z
UID:2555-1687600800-1687626000@www.villaticas.nl
SUMMARY:puur natuurmarkt wassenaar
DESCRIPTION:Sinds september 2012 is er de Puur Natuur Markt in het centrum van Wassenaar. De basis voor dit initiatief is de aandacht voor lekker en puur eten uit de natuur\, locale ambacht en een plek in het dorp om elkaar te ontmoeten. \n\n\n\nElke laatste zaterdag van de maand van 10.00-17.00 uur.
URL:https://www.villaticas.nl/event/puur-natuurmarkt-wassenaar/
END:VEVENT
BEGIN:VEVENT
DTSTART;TZID=Europe/Paris:20230624T080000
DTEND;TZID=Europe/Paris:20230625T170000
DTSTAMP:20260422T122431
CREATED:20230616T131833Z
LAST-MODIFIED:20230616T131834Z
UID:2698-1687593600-1687712400@www.villaticas.nl
SUMMARY:Bries Noordwijk Open 2023 Zeilwedstrijd
DESCRIPTION:
URL:https://www.villaticas.nl/event/bries-noordwijk-open-2023-zeilwedstrijd/
END:VEVENT
BEGIN:VEVENT
DTSTART;TZID=Europe/Paris:20230624T080000
DTEND;TZID=Europe/Paris:20230624T223000
DTSTAMP:20260422T122431
CREATED:20230613T152324Z
LAST-MODIFIED:20230613T152325Z
UID:2603-1687593600-1687645800@www.villaticas.nl
SUMMARY:Food Truck Festival Mondriaanpark Lisse
DESCRIPTION:Zet 24 juni alvast in je agenda. Dan is het 2e Muziek en Food Truck festival wat wordt georganiseerd door de vrijwilligers van de Harddraverijvereniging in het kader van Lisse 825 jaar.Net als vorig jaar is de locatie het Mondriaanpark in de Poelpolder. De toegang is gratis. Er gaan meerdere artiesten en bands optreden en we hebben een divers aanbod van FoodTrucks.Dat gaat net als vorig jaar weer een heel gezellig festival worden voor de hele familie.
URL:https://www.villaticas.nl/event/food-truck-festival-mondriaanpark-lisse/
END:VEVENT
BEGIN:VEVENT
DTSTART;TZID=Europe/Paris:20230624T080000
DTEND;TZID=Europe/Paris:20230624T170000
DTSTAMP:20260422T122431
CREATED:20230607T175333Z
LAST-MODIFIED:20230607T175334Z
UID:2413-1687593600-1687626000@www.villaticas.nl
SUMMARY:weekmarkt leiden zaterdag
DESCRIPTION:CENTRUM\n\n\n\n: ZA 8:00 – 17:00 UUR\n\n\n\nElke zaterdag staan de marktkooplui voor je klaar in het centrum van Leiden. De kraampjes vind je op de kades van de Botermarkt\, Vismarkt\, Aalmarkt en Nieuwe Rijn een uitgebreide warenmarkt. De keuze is reuze! En de sfeer is gemoedelijk. 
URL:https://www.villaticas.nl/event/weekmarkt-leiden-zaterdag-3/
END:VEVENT
BEGIN:VEVENT
DTSTART;TZID=Europe/Paris:20230623T090000
DTEND;TZID=Europe/Paris:20230623T170000
DTSTAMP:20260422T122431
CREATED:20230613T183628Z
LAST-MODIFIED:20230613T183629Z
UID:2627-1687510800-1687539600@www.villaticas.nl
SUMMARY:weekmarkt voorhout
DESCRIPTION:Weekmarkt in Voorhout wordt elke vrijdag gehouden van 9:00 uur tot 17:00 uur op het Raadhuisplein.
URL:https://www.villaticas.nl/event/weekmarkt-voorhout-2/
END:VEVENT
BEGIN:VEVENT
DTSTART;TZID=Europe/Paris:20230622T193000
DTEND;TZID=Europe/Paris:20230622T210000
DTSTAMP:20260422T122431
CREATED:20230616T090907Z
LAST-MODIFIED:20230616T090908Z
UID:2671-1687462200-1687467600@www.villaticas.nl
SUMMARY:beachrun
DESCRIPTION:Iedere donderdag van 15 juni t/m 17 augustus 2023 om 19.30\n\n\n\nStart en finish zijn op het strand aan de Kon. Wilhelmina boulevard ter hoogte van het Palaceplein. De start is recht voor het nieuwe NRB/ZVN gebouw\, iets naar links vanaf de afrit. Start van alle afstanden is om 19:30. \n\n\n\nDe helft van de afstand heen\, waarbij richting Katwijk wordt gelopen en de andere helft weer terug. \n\n\n\nBij het keerpunt\, gemarkeerd door een beachflag met daarop de afstand (2\, 4 of 8)\, krijg je een stempel en is er een waterpunt (alleen 4 en 8 km).
URL:https://www.villaticas.nl/event/beachrun/
END:VEVENT
END:VCALENDAR