BEGIN:VCALENDAR
VERSION:2.0
PRODID:-//Bed &amp; Breakfast Villaticas - ECPv6.15.20//NONSGML v1.0//EN
CALSCALE:GREGORIAN
METHOD:PUBLISH
X-WR-CALNAME:Bed &amp; Breakfast Villaticas
X-ORIGINAL-URL:https://www.villaticas.nl
X-WR-CALDESC:Evenementen voor Bed &amp; Breakfast Villaticas
REFRESH-INTERVAL;VALUE=DURATION:PT1H
X-Robots-Tag:noindex
X-PUBLISHED-TTL:PT1H
BEGIN:VTIMEZONE
TZID:Europe/Paris
BEGIN:DAYLIGHT
TZOFFSETFROM:+0100
TZOFFSETTO:+0200
TZNAME:CEST
DTSTART:20220327T010000
END:DAYLIGHT
BEGIN:STANDARD
TZOFFSETFROM:+0200
TZOFFSETTO:+0100
TZNAME:CET
DTSTART:20221030T010000
END:STANDARD
BEGIN:DAYLIGHT
TZOFFSETFROM:+0100
TZOFFSETTO:+0200
TZNAME:CEST
DTSTART:20230326T010000
END:DAYLIGHT
BEGIN:STANDARD
TZOFFSETFROM:+0200
TZOFFSETTO:+0100
TZNAME:CET
DTSTART:20231029T010000
END:STANDARD
BEGIN:DAYLIGHT
TZOFFSETFROM:+0100
TZOFFSETTO:+0200
TZNAME:CEST
DTSTART:20240331T010000
END:DAYLIGHT
BEGIN:STANDARD
TZOFFSETFROM:+0200
TZOFFSETTO:+0100
TZNAME:CET
DTSTART:20241027T010000
END:STANDARD
END:VTIMEZONE
BEGIN:VTIMEZONE
TZID:UTC
BEGIN:STANDARD
TZOFFSETFROM:+0000
TZOFFSETTO:+0000
TZNAME:UTC
DTSTART:20220101T000000
END:STANDARD
END:VTIMEZONE
BEGIN:VEVENT
DTSTART;TZID=Europe/Paris:20230620T190000
DTEND;TZID=Europe/Paris:20230622T213000
DTSTAMP:20260423T001314
CREATED:20230611T094055Z
LAST-MODIFIED:20230611T094055Z
UID:2541-1687287600-1687469400@www.villaticas.nl
SUMMARY:fiets 3-daagse katwijk
DESCRIPTION:Van 20 tot en met 22 juni zal de fiets 3-daagse plaatsvinden in ’t Zandgat\, Katwijk aan Zee. De tocht begint elke dag om 18:30 – 22:00. \n\n\n\nDe kosten zijn € 6\,50 als je je van tevoren inschrijft\, en € 7\,50 als je je ter plekke inschrijft. \n\n\n\nWanneer\n\n\n\n\nDagelijks vanaf 20 juni 2023 t/m 23 juni 202318.00 – 22.30 uur
URL:https://www.villaticas.nl/event/fiets-3-daagse-katwijk/
END:VEVENT
BEGIN:VEVENT
DTSTART;TZID=Europe/Paris:20230620T090000
DTEND;TZID=Europe/Paris:20230620T150000
DTSTAMP:20260423T001314
CREATED:20230607T174941Z
LAST-MODIFIED:20230607T175002Z
UID:2407-1687251600-1687273200@www.villaticas.nl
SUMMARY:weekmarkt hillegom
DESCRIPTION:H. DUNANTPLEIN (TIJDELIJK INKHEER MOCKKADE\, ONGEVEER 2 JAAR)\n\n\n\n: DI 9:00 – 15:00 UUR\n\n\n\nElke dinsdag staan de marktkooplui voor je klaar op de markt Henri Dunantplein van Hillegom. Er is voor ieder wat wils. De wekelijks terugkerende dinsdagmarkt begint om 9:00 uur en eindigt om 15:00 uur. Je kunt hier terecht voor de dagelijkse en
URL:https://www.villaticas.nl/event/weekmarkt-hillegom-2/
END:VEVENT
BEGIN:VEVENT
DTSTART;TZID=Europe/Paris:20230620T080000
DTEND;TZID=Europe/Paris:20230620T170000
DTSTAMP:20260423T001314
CREATED:20230613T185058Z
LAST-MODIFIED:20230613T185059Z
UID:2634-1687248000-1687280400@www.villaticas.nl
SUMMARY:waterpendel katwijk-leiden / leiden-katwijk
DESCRIPTION:Van 23 mei t/m 10 september 2023 kunt u iedere dinsdag\, woensdag en zondag een verrassende vaartocht maken op de Oude Rijn van Leiden naar Katwijk aan Zee en weer terug naar Leiden. Wij varen langs de Limes\, de natuurlijke noordgrens van het oude Romeinse Rijk\, en passeren zo Oegstgeest\, Valkenburg en Rijnsburg. Na ongeveer vijf kwartier meren wij af in de bedrijvige binnenhaven van Katwijk. In deze oude vissersplaats staat u al binnen vijf minuten op de boulevard. Geniet van de zon of waai eens lekker uit op het strand. Achter de duinen vinden we er een gezellig winkelcentrum en voor de oude klederdracht bezoekt u het Katwijks Museum. Vanuit Katwijk vaart u naar oud Leiden. In deze Stadvanontdekkingen vindt u vele musea en u kunt er ronddwalen door de historische binnenstad. Op en langs de schilderachtige grachten heeft u een ruime keuze aan terrassen en leuke eethuisjes. Elke woensdag is er langs de Nieuwe Rijn een sfeervolle markt. Deze pendeldienst wordt verzorgd door Stichting De Leidse Rederij.
URL:https://www.villaticas.nl/event/waterpendel-katwijk-leiden-leiden-katwijk-2/
ORGANIZER;CN="Veneti%C3%AB van het Westen":MAILTO:info@venetievanhetwesten.nl
END:VEVENT
BEGIN:VEVENT
DTSTART;TZID=Europe/Paris:20230619T110000
DTEND;TZID=Europe/Paris:20230619T160000
DTSTAMP:20260423T001314
CREATED:20230613T183054Z
LAST-MODIFIED:20230613T183055Z
UID:2620-1687172400-1687190400@www.villaticas.nl
SUMMARY:weekmarkt Noordwijkerhout
DESCRIPTION:
URL:https://www.villaticas.nl/event/weekmarkt-noordwijkerhout/
END:VEVENT
BEGIN:VEVENT
DTSTART;TZID=Europe/Paris:20230619T110000
DTEND;TZID=Europe/Paris:20230619T160000
DTSTAMP:20260423T001314
CREATED:20230607T173037Z
LAST-MODIFIED:20230607T173057Z
UID:2387-1687172400-1687190400@www.villaticas.nl
SUMMARY:weekmarkt lisse
DESCRIPTION:Iedere maandag is er een gezellige weekmarkt in Dorpshart Lisse. Elke maandag staan de marktlieden voor je klaar om je te voorzien van advies en de heerlijkste producten. Bij de diverse marktkramen kunt u terecht verschillende producten en etenswaren\, zoals mode\, kaas\, bloemen en delicatessen. Het hele jaar kunt u genieten van de mooie aanbiedingen die de verschillende marktkooplieden te bieden hebben. De markt op het Meer en Houtplein is een middagmarkt en hierdoor hoeft u zich ’s ochtends niet te haasten.  \n\n\n\n Wil je ook ervaren hoe gezellig de weekmarkt in Dorpshart Lisse is? De weekmarkt is iedere maandag (let op: weersafhankelijk) tussen 11:00 en 16:00 uur te vinden op het Meer en Houtplein.  
URL:https://www.villaticas.nl/event/weekmarkt-lisse-2/
END:VEVENT
BEGIN:VEVENT
DTSTART;TZID=Europe/Paris:20230618T143000
DTEND;TZID=Europe/Paris:20230618T170000
DTSTAMP:20260423T001314
CREATED:20230607T172535Z
LAST-MODIFIED:20230607T172536Z
UID:2379-1687098600-1687107600@www.villaticas.nl
SUMMARY:
DESCRIPTION:Tijdens het terrassenseizoen heeft Dorpshart Lisse iedere zondag muziek op horecaplein ’T Vierkant. \n\n\n\nTussen 14:30 en 17:30 speelt een muzikaal gezelschap een gezellige noot. Kom luisteren en geniet van de mooie muziek onder het genot van een hapje en een drankje. Het muzikale gezelschap dat optreed verschilt iedere week waardoor er veel afwisseling is tussen de verschillende muziekgenres. Zo komen onder andere jazz\, soul en popmuziek voorbij. Genoeg redenen dus om een bezoekje te brengen aan ’T Vierkant in Dorpshart Lisse. \n\n\n\nLet op:  Dit evenement vindt alleen plaats met mooi weer.  Voor de actuele status van dit evenement kunt u kijken op de Facebookpagina van ’t Vierkant \n\n\n\nOverzicht van alle data\n\n\n\n\n11 juni 2023 van 14:30 tot 17:30\n\n\n\n18 juni 2023 van 14:30 tot 17:30\n\n\n\n25 juni 2023 van 14:30 tot 17:30\n\n\n\n2 juli 2023 van 14:30 tot 17:30\n\n\n\n9 juli 2023 van 14:30 tot 17:30\n\n\n\n16 juli 2023 van 14:30 tot 17:30\n\n\n\n23 juli 2023 van 14:30 tot 17:30\n\n\n\n30 juli 2023 van 14:30 tot 17:30\n\n\n\n6 augustus 2023 van 14:30 tot 17:30\n\n\n\n13 augustus 2023 van 14:30 tot 17:30\n\n\n\n20 augustus 2023 van 14:30 tot 17:30\n\n\n\n27 augustus 2023 van 14:30 tot 17:30\n\n\n\n3 september 2023 van 14:30 tot 17:30\n\n\n\n10 september 2023 van 14:30 tot 17:30\n\n\n\n17 september 2023 van 14:30 tot 17:30\n\n\n\n24 september 2023 van 14:30 tot 17:30
URL:https://www.villaticas.nl/event/2379/
END:VEVENT
BEGIN:VEVENT
DTSTART;TZID=Europe/Paris:20230618T110000
DTEND;TZID=Europe/Paris:20230618T160000
DTSTAMP:20260423T001314
CREATED:20230607T170839Z
LAST-MODIFIED:20230607T170840Z
UID:2363-1687086000-1687104000@www.villaticas.nl
SUMMARY:textielmarkt Warmond
DESCRIPTION:
URL:https://www.villaticas.nl/event/textielmarkt-warmond/
END:VEVENT
BEGIN:VEVENT
DTSTART;TZID=Europe/Paris:20230618T080000
DTEND;TZID=Europe/Paris:20230618T170000
DTSTAMP:20260423T001314
CREATED:20230613T184856Z
LAST-MODIFIED:20230613T184857Z
UID:2632-1687075200-1687107600@www.villaticas.nl
SUMMARY:waterpendel Katwijk-Leiden/leiden-katwijk
DESCRIPTION:Van 23 mei t/m 10 september 2023 kunt u iedere dinsdag\, woensdag en zondag een verrassende vaartocht maken op de Oude Rijn van Leiden naar Katwijk aan Zee en weer terug naar Leiden. Wij varen langs de Limes\, de natuurlijke noordgrens van het oude Romeinse Rijk\, en passeren zo Oegstgeest\, Valkenburg en Rijnsburg. Na ongeveer vijf kwartier meren wij af in de bedrijvige binnenhaven van Katwijk. In deze oude vissersplaats staat u al binnen vijf minuten op de boulevard. Geniet van de zon of waai eens lekker uit op het strand. Achter de duinen vinden we er een gezellig winkelcentrum en voor de oude klederdracht bezoekt u het Katwijks Museum. Vanuit Katwijk vaart u naar oud Leiden. In deze Stadvanontdekkingen vindt u vele musea en u kunt er ronddwalen door de historische binnenstad. Op en langs de schilderachtige grachten heeft u een ruime keuze aan terrassen en leuke eethuisjes. Elke woensdag is er langs de Nieuwe Rijn een sfeervolle markt. Deze pendeldienst wordt verzorgd door Stichting De Leidse Rederij.
URL:https://www.villaticas.nl/event/waterpendel-katwijk-leiden-leiden-katwijk/
ORGANIZER;CN="Veneti%C3%AB van het Westen":MAILTO:info@venetievanhetwesten.nl
END:VEVENT
BEGIN:VEVENT
DTSTART;TZID=UTC:20230618T043000
DTEND;TZID=UTC:20230618T043000
DTSTAMP:20260423T001314
CREATED:20230203T094519Z
LAST-MODIFIED:20230203T094542Z
UID:1152-1687062600-1687062600@www.villaticas.nl
SUMMARY:Midzomernacht wandeling
DESCRIPTION:De mooiste marathon van Noordwijk start voor dag en dauw
URL:https://www.villaticas.nl/event/midzomernacht-wandeling/
CATEGORIES:Natuur,Sportief
END:VEVENT
BEGIN:VEVENT
DTSTART;TZID=Europe/Paris:20230617T183000
DTEND;TZID=Europe/Paris:20230617T223000
DTSTAMP:20260423T001314
CREATED:20230605T140147Z
LAST-MODIFIED:20230605T140148Z
UID:2342-1687026600-1687041000@www.villaticas.nl
SUMMARY:de grote vijf ree duin safari
DESCRIPTION:Speur met de boswachter mee naar reeën. Na een maaltijd met huisgemaakte soep\, breekbrood met kaas en vlees stap je in de Landrovers en rijd je door boswachterij Noordwijk. Vanuit deze stoere auto’s maak je nog meer kans op het zien van wild. Onderweg stop je een aantal keer en vertelt de boswachter je alles over het leven van de ree en hoe je kunt zien of er reeën in de buurt zijn. Op deze safari komen niet alleen natuurliefhebbers\, maar ook de liefhebbers van stoere auto’s aan hun trekken. De Landrovers rijden bijna nooit in dit terrein dat normaal alleen met een gids toegankelijk is. Grote kans dat je ook damherten en vossen tegenkomt.
URL:https://www.villaticas.nl/event/de-grote-vijf-ree-duin-safari/
LOCATION:Staatsbosbeheer\, Duinweg 81\, Noordwijk\, Nederland
ORGANIZER;CN="Staatsbosbeheer":MAILTO:hollandsduin@staatsbosbeheer.nl
END:VEVENT
BEGIN:VEVENT
DTSTART;TZID=Europe/Paris:20230617T130000
DTEND;TZID=Europe/Paris:20230617T170000
DTSTAMP:20260423T001314
CREATED:20230607T180320Z
LAST-MODIFIED:20230607T180321Z
UID:2429-1687006800-1687021200@www.villaticas.nl
SUMMARY:HOLLANDSE DAG IN DORPSHART LISSE
DESCRIPTION:Op zaterdag 17 juni staat Dorpshart Lisse helemaal in het teken van Holland!Deze middag komen Zeemanskoor De Torren en koor De Bollen Mina’s zingen in het Dorpshart. Zeemanskoor De Torren laat u meegenieten van heerlijke zeemansliederen die perfect passen bij de opening van het Haringseizoen en de Hollandse nummers van De Bollen Mina’s zorgen voor een extra Hollands tintje.Zeemanskoor De Torren: Pleintje bij Bril Jan’t \n\n\n\n13:15 \n\n\n\n15:00 \n\n\n\nDe Bollen Mina’s: bij “Annie in de wind” \n\n\n\n14:15 \n\n\n\n15:45
URL:https://www.villaticas.nl/event/hollandse-dag-in-dorpshart-lisse/
END:VEVENT
BEGIN:VEVENT
DTSTART;TZID=Europe/Paris:20230617T110000
DTEND;TZID=Europe/Paris:20230618T170000
DTSTAMP:20260423T001314
CREATED:20230511T171308Z
LAST-MODIFIED:20230511T171310Z
UID:2305-1686999600-1687107600@www.villaticas.nl
SUMMARY:Tentoonstelling 25 jaar Schilderfestival
DESCRIPTION:In 2023 bestaat het Schilderfestival Noordwijk 25 jaar. Daarom organiseren zij een tentoonstelling op Landgoed Calorama om het werk te tonen van de winnaars van 1999 tot 2022 (inclusief de winnaar van de oeuvreprijs Jürgen Leippert).De tentoonstelling vindt plaats in twee weekenden. Het weekend van 10 en 11 juni 2023\, tijdens de Tuinenmarkt in Noordwijk-Binnen en net voor het festival op 17 en 18 juni 2023.Het Koetshuis is toegankelijk via de ingang van het Landgoed naast de begraafplaats aan de Gooweg. De openingstijden zijn van 11:00 tot 17:00 uur.
URL:https://www.villaticas.nl/event/tentoonstelling-25-jaar-schilderfestival-3/
LOCATION:Landgoed Calorama\, Gooweg 21\, Noordwijk
END:VEVENT
BEGIN:VEVENT
DTSTART;TZID=Europe/Paris:20230617T100000
DTEND;TZID=Europe/Paris:20230617T163000
DTSTAMP:20260423T001314
CREATED:20230611T092543Z
LAST-MODIFIED:20230611T092544Z
UID:2534-1686996000-1687019400@www.villaticas.nl
SUMMARY:open tuinen dag
DESCRIPTION:Op zaterdag 17 juni 2023 is de Open Tuinen Dag als van ouds op de derde zaterdag in juni. Naast het genieten van particulieren tuinen\, kunt u enkele culturele instellingen en mooie groenplekken bezoeken\, Strijk ook even neer op één van de terrasen bij de deelnemende bedrijven of vaar gratis over met het pontje tussen Valkenburg en Rijnsburg. De tuinen zijn herkenbaar aan het Open Tuin bordje. In een aantal tuinen is er in de middag een muzikaal optreden. Voor een overzicht van wat er zoal te zien en te doen is kunt een kijkje nemen op de website. De tuinen zijn geopend tussen 10.00 uur en 16.30 uur.
URL:https://www.villaticas.nl/event/open-tuinen-dag/
END:VEVENT
BEGIN:VEVENT
DTSTART;TZID=Europe/Paris:20230617T100000
DTEND;TZID=Europe/Paris:20230617T163000
DTSTAMP:20260423T001314
CREATED:20230609T214359Z
LAST-MODIFIED:20230609T214527Z
UID:2501-1686996000-1687019400@www.villaticas.nl
SUMMARY:Nationale vondstendag
DESCRIPTION:De grootste determinatiedag van Nederland. Het Rijksmuseum van Oudheden organiseert in samenwerking met verschillende partners de eerste Nationale vondstendag\, ter gelegenheid van de Nationale Archeologiedagen (16-18 juni 2023). Meer dan tien deskundigen zitten voor u klaar om uw in Nederland gedane bodem- en strandvondsten te determineren. Neem uw vondsten mee op 17 juni naar de Nationale vondstendag in de gratis toegankelijke Tempelzaal. \n\n\n\ndatum: \n\n\n\n zaterdag 17 juni 2023 tijd: 10.00 – 16.30 uur (museumzalen open tot 17.00 uur)locatie: Tempelzaal\, Rijksmuseum van Oudhedenentree: gratis | voor een bezoek aan de museumzalen kunt u een kaartje kopenaanmelden: zie spelregels en aanmeldformulier
URL:https://www.villaticas.nl/event/nationale-vondstendag/
END:VEVENT
BEGIN:VEVENT
DTSTART;TZID=Europe/Paris:20230617T100000
DTEND;TZID=Europe/Paris:20230617T150000
DTSTAMP:20260423T001314
CREATED:20230611T093244Z
LAST-MODIFIED:20230611T093438Z
UID:2536-1686996000-1687014000@www.villaticas.nl
SUMMARY:BuitenGewoonKatwijk Festival
DESCRIPTION:Kom naar het BuitenGewoonKatwijk festival op de Goerie! Een nieuw festival waarbij iedereen buiten kan bewegen.Doe mee met workshops voor het nemen van een ijsbad\, Yoga\, Holistisch Boksen\, een Klankschaal workshop en meer… Dit unieke event wil je niet missen! WanneerZaterdag 17 juni 2023 10.30 – 15.00 uur \n\n\n\n \n\n\n\nZaterdag 17 juni vindt tussen 10.30-15.00 uur een nieuw festival plaats waar een ieder buiten kan bewegen! Dit zal zijn in de vorm van workshops zoals boksen\, een koudwaterbad met Trude. Yoga met Elvira en de thema’s zonnewende\, je eigen natuur en Yin Yang. En yoga met Jan met de thema’s zonnegroet\, chakra’s en zelfzorg. 3 andere workshops worden gegeven door gastdocenten.Schrijf je snel in via 1 van onderstaande links. Voor de snelle beslisser zijn er Early Bird tickets beschikbaar. En de optie om een lunch erbij te bestellen. \n\n\n\nTickets https://shop.simpleticket.eu/event/BAO6bJPO
URL:https://www.villaticas.nl/event/buitengewoonkatwijk-festival/
END:VEVENT
BEGIN:VEVENT
DTSTART;TZID=Europe/Paris:20230617T080000
DTEND;TZID=Europe/Paris:20230617T170000
DTSTAMP:20260423T001314
CREATED:20230607T175248Z
LAST-MODIFIED:20230607T175249Z
UID:2411-1686988800-1687021200@www.villaticas.nl
SUMMARY:weekmarkt leiden zaterdag
DESCRIPTION:CENTRUM: ZA 8:00 – 17:00 UURElke zaterdag staan de marktkooplui voor je klaar in het centrum van Leiden. De kraampjes vind je op de kades van de Botermarkt\, Vismarkt\, Aalmarkt en Nieuwe Rijn een uitgebreide warenmarkt. De keuze is reuze! En de sfeer is gemoedelijk.
URL:https://www.villaticas.nl/event/weekmarkt-leiden-zaterdag-2/
END:VEVENT
BEGIN:VEVENT
DTSTART;TZID=Europe/Paris:20230616T130000
DTEND;TZID=Europe/Paris:20230616T210000
DTSTAMP:20260423T001314
CREATED:20230607T170712Z
LAST-MODIFIED:20230607T170713Z
UID:2361-1686920400-1686949200@www.villaticas.nl
SUMMARY:Harddraverij Sassenheim
DESCRIPTION:
URL:https://www.villaticas.nl/event/harddraverij-sassenheim/
END:VEVENT
BEGIN:VEVENT
DTSTART;TZID=Europe/Paris:20230616T120000
DTEND;TZID=Europe/Paris:20230616T230000
DTSTAMP:20260423T001314
CREATED:20230613T124407Z
LAST-MODIFIED:20230613T124409Z
UID:2571-1686916800-1686956400@www.villaticas.nl
SUMMARY:xL shoppingnight katwijk
DESCRIPTION:Op 16 juni vindt de XL Shopping Night plaats! Op deze avond vol kleur en glitter komen de straten van Zeezijde tot leven met de energie van het Braziliaanse Carnaval! \n\n\n\nWanneer\n\n\n\n\nVrijdag 16 juni 2023 12.00 – 23.00 uur
URL:https://www.villaticas.nl/event/xl-shoppingnight-katwijk/
END:VEVENT
BEGIN:VEVENT
DTSTART;TZID=Europe/Paris:20230616T090000
DTEND;TZID=Europe/Paris:20230616T170000
DTSTAMP:20260423T001314
CREATED:20230613T183433Z
LAST-MODIFIED:20230613T183529Z
UID:2624-1686906000-1686934800@www.villaticas.nl
SUMMARY:weekmarkt Voorhout
DESCRIPTION:Weekmarkt in Voorhout wordt elke vrijdag gehouden van 9:00 uur tot 17:00 uur op het Raadhuisplein.
URL:https://www.villaticas.nl/event/weekmarkt-voorhout/
END:VEVENT
BEGIN:VEVENT
DTSTART;TZID=Europe/Paris:20230615T090000
DTEND;TZID=Europe/Paris:20230615T120000
DTSTAMP:20260423T001314
CREATED:20230607T173924Z
LAST-MODIFIED:20230607T173949Z
UID:2399-1686819600-1686830400@www.villaticas.nl
SUMMARY:weekmarkt katwijk
DESCRIPTION:Elke donderdagochtend staan de marktlieden voor je klaar in de Princestraat van Katwijk. Op donderdag stallen de marktlieden hun waar voor je uit in hartje Katwijk. Het aanbod is divers en verdeeld over verschillende marktkramen. De donderdag weekmarkt begint om 09:00 uur en duurt tot 12:00 uur
URL:https://www.villaticas.nl/event/weekmarkt-katwijk-2/
END:VEVENT
BEGIN:VEVENT
DTSTART;TZID=Europe/Paris:20230614T100000
DTEND;TZID=Europe/Paris:20230616T200000
DTSTAMP:20260423T001314
CREATED:20230611T084255Z
LAST-MODIFIED:20230611T084837Z
UID:2524-1686736800-1686945600@www.villaticas.nl
SUMMARY:kermis paardenmarkt rijnsburg
DESCRIPTION:
URL:https://www.villaticas.nl/event/kermis-paardenmarkt-rijnsburg/
END:VEVENT
BEGIN:VEVENT
DTSTART;TZID=Europe/Paris:20230614T080000
DTEND;TZID=Europe/Paris:20230614T170000
DTSTAMP:20260423T001314
CREATED:20230607T181458Z
LAST-MODIFIED:20230607T181459Z
UID:2439-1686729600-1686762000@www.villaticas.nl
SUMMARY:Rondleidingen Kasteel Keukenhof
DESCRIPTION:Kasteel Keukenhof opent in juni en juli op woensdagen haar deuren!Kasteel Keukenhof altijd al eens van binnen willen bekijken? Dan hebben we leuk nieuws! Het is in de maanden juni en juli op woensdag mogelijk om een gratis rondleiding door het kasteel te krijgen. Een rondleiding reserveren kan via het  formulier op de website van Kasteel Keukenhof.  De rondleiding is gratis\, is Nederlandstalig\, heeft een duur van 90 min en is niet geschikt voor kinderen onder de 10 jaar.Let op: grote (rug)tassen en kinderwagens kunnen niet mee naar binnen. Het kasteel is niet toegankelijk voor rolstoelen/rollators of mensen die slecht ter been zijn.Reserveren Wanneer Elke woensdag vanaf 7 juni 2023 t/m 27 juli 2023
URL:https://www.villaticas.nl/event/rondleidingen-kasteel-keukenhof/
END:VEVENT
BEGIN:VEVENT
DTSTART;TZID=Europe/Paris:20230614T080000
DTEND;TZID=Europe/Paris:20230614T170000
DTSTAMP:20260423T001314
CREATED:20230607T175817Z
LAST-MODIFIED:20230607T175818Z
UID:2423-1686729600-1686762000@www.villaticas.nl
SUMMARY:weekmarkt leiden woensdag
DESCRIPTION:CENTRUM: WO 8:00 – 17:00 UURElke woensdag staan de marktkooplui voor je klaar op in het centrum van Leiden. De markt bestaat uit verschillende kramen\, verspreid over de Botermarkt\, Vismarkt\, Aalmarkt en Nieuwe Rijn. Kortom\, voor ieder wat wils
URL:https://www.villaticas.nl/event/weekmarkt-leiden-woensdag/
END:VEVENT
BEGIN:VEVENT
DTSTART;TZID=Europe/Paris:20230613T090000
DTEND;TZID=Europe/Paris:20230613T150000
DTSTAMP:20260423T001314
CREATED:20230607T174810Z
LAST-MODIFIED:20230607T174836Z
UID:2405-1686646800-1686668400@www.villaticas.nl
SUMMARY:weekmarkt hillegom
DESCRIPTION:H. DUNANTPLEIN (TIJDELIJK INKHEER MOCKKADE\, ONGEVEER 2 JAAR): DI 9:00 – 15:00 UURElke dinsdag staan de marktkooplui voor je klaar op de markt Henri Dunantplein van Hillegom. Er is voor ieder wat wils. De wekelijks terugkerende dinsdagmarkt begint om 9:00 uur en eindigt om 15:00 uur. Je kunt hier terecht voor de dagelijkse en
URL:https://www.villaticas.nl/event/weekmarkt-hillegom/
END:VEVENT
BEGIN:VEVENT
DTSTART;TZID=Europe/Paris:20230612T110000
DTEND;TZID=Europe/Paris:20230612T160000
DTSTAMP:20260423T001314
CREATED:20230607T172922Z
LAST-MODIFIED:20230607T172948Z
UID:2385-1686567600-1686585600@www.villaticas.nl
SUMMARY:weekmarkt lisse
DESCRIPTION:Iedere maandag is er een gezellige weekmarkt in Dorpshart Lisse. Elke maandag staan de marktlieden voor je klaar om je te voorzien van advies en de heerlijkste producten. Bij de diverse marktkramen kunt u terecht verschillende producten en etenswaren\, zoals mode\, kaas\, bloemen en delicatessen. Het hele jaar kunt u genieten van de mooie aanbiedingen die de verschillende marktkooplieden te bieden hebben. De markt op het Meer en Houtplein is een middagmarkt en hierdoor hoeft u zich ’s ochtends niet te haasten.  Wil je ook ervaren hoe gezellig de weekmarkt in Dorpshart Lisse is? De weekmarkt is iedere maandag (let op: weersafhankelijk) tussen 11:00 en 16:00 uur te vinden op het Meer en Houtplein.
URL:https://www.villaticas.nl/event/weekmarkt-lisse/
END:VEVENT
BEGIN:VEVENT
DTSTART;TZID=Europe/Paris:20230611T200000
DTEND;TZID=Europe/Paris:20230611T211500
DTSTAMP:20260423T001314
CREATED:20230608T110456Z
LAST-MODIFIED:20230608T110628Z
UID:2475-1686513600-1686518100@www.villaticas.nl
SUMMARY:beach yoga Namaste
DESCRIPTION:Met uitzicht op zee in Noordwijk.Met je voetjes in het zand en uitzicht op zee tijdens de Beach Yogales in Noordwijk. We verzamelen bij de ‘rotonde’ aan het einde van de Koningin Astridboulevard in Noordwijk en lopen dan samen door de duinen\, naar een prachtig en rustig stukje strand. Waar je kunt genieten van het mooie uitzicht en een heerlijke zonnetje in je gezicht\, tijdens een ontspannen yogales. Zondag 11 juni 20.00 uur verzamelen in Noordwijk*Bij mooi weer plannen we extra data in.
URL:https://www.villaticas.nl/event/beach-yoga-namaste/
END:VEVENT
BEGIN:VEVENT
DTSTART;TZID=Europe/Paris:20230611T143000
DTEND;TZID=Europe/Paris:20230611T170000
DTSTAMP:20260423T001314
CREATED:20230607T172352Z
LAST-MODIFIED:20230607T172425Z
UID:2377-1686493800-1686502800@www.villaticas.nl
SUMMARY:live muziek OP 'T VIERKANT (ALLEEN BIJ MOOI WEER)
DESCRIPTION:Tijdens het terrassenseizoen heeft Dorpshart Lisse iedere zondag muziek op horecaplein ’T Vierkant.Tussen 14:30 en 17:30 speelt een muzikaal gezelschap een gezellige noot. Kom luisteren en geniet van de mooie muziek onder het genot van een hapje en een drankje. Het muzikale gezelschap dat optreed verschilt iedere week waardoor er veel afwisseling is tussen de verschillende muziekgenres. Zo komen onder andere jazz\, soul en popmuziek voorbij. Genoeg redenen dus om een bezoekje te brengen aan ’T Vierkant in Dorpshart Lisse.Let op:  Dit evenement vindt alleen plaats met mooi weer.  Voor de actuele status van dit evenement kunt u kijken op de Facebookpagina van ’t VierkantOverzicht van alle data11 juni 2023 van 14:30 tot 17:3018 juni 2023 van 14:30 tot 17:3025 juni 2023 van 14:30 tot 17:302 juli 2023 van 14:30 tot 17:309 juli 2023 van 14:30 tot 17:3016 juli 2023 van 14:30 tot 17:3023 juli 2023 van 14:30 tot 17:3030 juli 2023 van 14:30 tot 17:306 augustus 2023 van 14:30 tot 17:3013 augustus 2023 van 14:30 tot 17:3020 augustus 2023 van 14:30 tot 17:3027 augustus 2023 van 14:30 tot 17:303 september 2023 van 14:30 tot 17:3010 september 2023 van 14:30 tot 17:3017 september 2023 van 14:30 tot 17:3024 september 2023 van 14:30 tot 17:30
URL:https://www.villaticas.nl/event/live-muziek-op-t-vierkant-alleen-bij-mooi-weer/
END:VEVENT
BEGIN:VEVENT
DTSTART;TZID=Europe/Paris:20230611T110000
DTEND;TZID=Europe/Paris:20230611T170000
DTSTAMP:20260423T001314
CREATED:20230511T170801Z
LAST-MODIFIED:20230511T170925Z
UID:2298-1686481200-1686502800@www.villaticas.nl
SUMMARY:Tentoonstelling 25 jaar Schilderfestival
DESCRIPTION:In 2023 bestaat het Schilderfestival Noordwijk 25 jaar. Daarom organiseren zij een tentoonstelling op Landgoed Calorama om het werk te tonen van de winnaars van 1999 tot 2022 (inclusief de winnaar van de oeuvreprijs Jürgen Leippert).De tentoonstelling vindt plaats in twee weekenden. Het weekend van 10 en 11 juni 2023\, tijdens de Tuinenmarkt in Noordwijk-Binnen en net voor het festival op 17 en 18 juni 2023.Het Koetshuis is toegankelijk via de ingang van het Landgoed naast de begraafplaats aan de Gooweg. De openingstijden zijn van 11:00 tot 17:00 uur.Meer info: https://www.schilderfestival.
URL:https://www.villaticas.nl/event/tentoonstelling-25-jaar-schilderfestival/
END:VEVENT
BEGIN:VEVENT
DTSTART;TZID=Europe/Paris:20230611T100000
DTEND;TZID=Europe/Paris:20230611T170000
DTSTAMP:20260423T001314
CREATED:20230611T102603Z
LAST-MODIFIED:20230611T102604Z
UID:2565-1686477600-1686502800@www.villaticas.nl
SUMMARY:puur natuur markt Wassenaar
DESCRIPTION:Sinds september 2012 is er de Puur Natuur Markt in het centrum van Wassenaar. De basis voor dit initiatief is de aandacht voor lekker en puur eten uit de natuur\, locale ambacht en een plek in het dorp om elkaar te ontmoeten.
URL:https://www.villaticas.nl/event/puur-natuur-markt-wassenaar-3/
END:VEVENT
BEGIN:VEVENT
DTSTART;TZID=Europe/Paris:20230611T100000
DTEND;TZID=Europe/Paris:20230611T160000
DTSTAMP:20260423T001314
CREATED:20230607T183154Z
LAST-MODIFIED:20230607T183155Z
UID:2445-1686477600-1686499200@www.villaticas.nl
SUMMARY:Bunkerrondleidingen Atlantikwall Noordwijk
DESCRIPTION:Wanneer \n\n\n\nElke zondag t/m 31 augustus 2023 \n\n\n\n10.00 – 16.00 uur \n\n\n\nElke vrijdag t/m 31 augustus 2023 \n\n\n\n12.00 – 16.00 uur
URL:https://www.villaticas.nl/event/bunkerrondleidingen-atlantikwall-noordwijk/
LOCATION:Atlantic wall\, Noordwijk
END:VEVENT
END:VCALENDAR