BEGIN:VCALENDAR
VERSION:2.0
PRODID:-//Bed &amp; Breakfast Villaticas - ECPv6.15.20//NONSGML v1.0//EN
CALSCALE:GREGORIAN
METHOD:PUBLISH
X-WR-CALNAME:Bed &amp; Breakfast Villaticas
X-ORIGINAL-URL:https://www.villaticas.nl
X-WR-CALDESC:Evenementen voor Bed &amp; Breakfast Villaticas
REFRESH-INTERVAL;VALUE=DURATION:PT1H
X-Robots-Tag:noindex
X-PUBLISHED-TTL:PT1H
BEGIN:VTIMEZONE
TZID:Europe/Paris
BEGIN:DAYLIGHT
TZOFFSETFROM:+0100
TZOFFSETTO:+0200
TZNAME:CEST
DTSTART:20220327T010000
END:DAYLIGHT
BEGIN:STANDARD
TZOFFSETFROM:+0200
TZOFFSETTO:+0100
TZNAME:CET
DTSTART:20221030T010000
END:STANDARD
BEGIN:DAYLIGHT
TZOFFSETFROM:+0100
TZOFFSETTO:+0200
TZNAME:CEST
DTSTART:20230326T010000
END:DAYLIGHT
BEGIN:STANDARD
TZOFFSETFROM:+0200
TZOFFSETTO:+0100
TZNAME:CET
DTSTART:20231029T010000
END:STANDARD
BEGIN:DAYLIGHT
TZOFFSETFROM:+0100
TZOFFSETTO:+0200
TZNAME:CEST
DTSTART:20240331T010000
END:DAYLIGHT
BEGIN:STANDARD
TZOFFSETFROM:+0200
TZOFFSETTO:+0100
TZNAME:CET
DTSTART:20241027T010000
END:STANDARD
END:VTIMEZONE
BEGIN:VTIMEZONE
TZID:UTC
BEGIN:STANDARD
TZOFFSETFROM:+0000
TZOFFSETTO:+0000
TZNAME:UTC
DTSTART:20220101T000000
END:STANDARD
END:VTIMEZONE
BEGIN:VEVENT
DTSTART;TZID=Europe/Paris:20230612T110000
DTEND;TZID=Europe/Paris:20230612T160000
DTSTAMP:20260422T132503
CREATED:20230607T172922Z
LAST-MODIFIED:20230607T172948Z
UID:2385-1686567600-1686585600@www.villaticas.nl
SUMMARY:weekmarkt lisse
DESCRIPTION:Iedere maandag is er een gezellige weekmarkt in Dorpshart Lisse. Elke maandag staan de marktlieden voor je klaar om je te voorzien van advies en de heerlijkste producten. Bij de diverse marktkramen kunt u terecht verschillende producten en etenswaren\, zoals mode\, kaas\, bloemen en delicatessen. Het hele jaar kunt u genieten van de mooie aanbiedingen die de verschillende marktkooplieden te bieden hebben. De markt op het Meer en Houtplein is een middagmarkt en hierdoor hoeft u zich ’s ochtends niet te haasten.  Wil je ook ervaren hoe gezellig de weekmarkt in Dorpshart Lisse is? De weekmarkt is iedere maandag (let op: weersafhankelijk) tussen 11:00 en 16:00 uur te vinden op het Meer en Houtplein.
URL:https://www.villaticas.nl/event/weekmarkt-lisse/
END:VEVENT
BEGIN:VEVENT
DTSTART;TZID=Europe/Paris:20230611T200000
DTEND;TZID=Europe/Paris:20230611T211500
DTSTAMP:20260422T132503
CREATED:20230608T110456Z
LAST-MODIFIED:20230608T110628Z
UID:2475-1686513600-1686518100@www.villaticas.nl
SUMMARY:beach yoga Namaste
DESCRIPTION:Met uitzicht op zee in Noordwijk.Met je voetjes in het zand en uitzicht op zee tijdens de Beach Yogales in Noordwijk. We verzamelen bij de ‘rotonde’ aan het einde van de Koningin Astridboulevard in Noordwijk en lopen dan samen door de duinen\, naar een prachtig en rustig stukje strand. Waar je kunt genieten van het mooie uitzicht en een heerlijke zonnetje in je gezicht\, tijdens een ontspannen yogales. Zondag 11 juni 20.00 uur verzamelen in Noordwijk*Bij mooi weer plannen we extra data in.
URL:https://www.villaticas.nl/event/beach-yoga-namaste/
END:VEVENT
BEGIN:VEVENT
DTSTART;TZID=Europe/Paris:20230611T143000
DTEND;TZID=Europe/Paris:20230611T170000
DTSTAMP:20260422T132503
CREATED:20230607T172352Z
LAST-MODIFIED:20230607T172425Z
UID:2377-1686493800-1686502800@www.villaticas.nl
SUMMARY:live muziek OP 'T VIERKANT (ALLEEN BIJ MOOI WEER)
DESCRIPTION:Tijdens het terrassenseizoen heeft Dorpshart Lisse iedere zondag muziek op horecaplein ’T Vierkant.Tussen 14:30 en 17:30 speelt een muzikaal gezelschap een gezellige noot. Kom luisteren en geniet van de mooie muziek onder het genot van een hapje en een drankje. Het muzikale gezelschap dat optreed verschilt iedere week waardoor er veel afwisseling is tussen de verschillende muziekgenres. Zo komen onder andere jazz\, soul en popmuziek voorbij. Genoeg redenen dus om een bezoekje te brengen aan ’T Vierkant in Dorpshart Lisse.Let op:  Dit evenement vindt alleen plaats met mooi weer.  Voor de actuele status van dit evenement kunt u kijken op de Facebookpagina van ’t VierkantOverzicht van alle data11 juni 2023 van 14:30 tot 17:3018 juni 2023 van 14:30 tot 17:3025 juni 2023 van 14:30 tot 17:302 juli 2023 van 14:30 tot 17:309 juli 2023 van 14:30 tot 17:3016 juli 2023 van 14:30 tot 17:3023 juli 2023 van 14:30 tot 17:3030 juli 2023 van 14:30 tot 17:306 augustus 2023 van 14:30 tot 17:3013 augustus 2023 van 14:30 tot 17:3020 augustus 2023 van 14:30 tot 17:3027 augustus 2023 van 14:30 tot 17:303 september 2023 van 14:30 tot 17:3010 september 2023 van 14:30 tot 17:3017 september 2023 van 14:30 tot 17:3024 september 2023 van 14:30 tot 17:30
URL:https://www.villaticas.nl/event/live-muziek-op-t-vierkant-alleen-bij-mooi-weer/
END:VEVENT
BEGIN:VEVENT
DTSTART;TZID=Europe/Paris:20230611T110000
DTEND;TZID=Europe/Paris:20230611T170000
DTSTAMP:20260422T132503
CREATED:20230511T170801Z
LAST-MODIFIED:20230511T170925Z
UID:2298-1686481200-1686502800@www.villaticas.nl
SUMMARY:Tentoonstelling 25 jaar Schilderfestival
DESCRIPTION:In 2023 bestaat het Schilderfestival Noordwijk 25 jaar. Daarom organiseren zij een tentoonstelling op Landgoed Calorama om het werk te tonen van de winnaars van 1999 tot 2022 (inclusief de winnaar van de oeuvreprijs Jürgen Leippert).De tentoonstelling vindt plaats in twee weekenden. Het weekend van 10 en 11 juni 2023\, tijdens de Tuinenmarkt in Noordwijk-Binnen en net voor het festival op 17 en 18 juni 2023.Het Koetshuis is toegankelijk via de ingang van het Landgoed naast de begraafplaats aan de Gooweg. De openingstijden zijn van 11:00 tot 17:00 uur.Meer info: https://www.schilderfestival.
URL:https://www.villaticas.nl/event/tentoonstelling-25-jaar-schilderfestival/
END:VEVENT
BEGIN:VEVENT
DTSTART;TZID=Europe/Paris:20230611T100000
DTEND;TZID=Europe/Paris:20230611T170000
DTSTAMP:20260422T132503
CREATED:20230611T102603Z
LAST-MODIFIED:20230611T102604Z
UID:2565-1686477600-1686502800@www.villaticas.nl
SUMMARY:puur natuur markt Wassenaar
DESCRIPTION:Sinds september 2012 is er de Puur Natuur Markt in het centrum van Wassenaar. De basis voor dit initiatief is de aandacht voor lekker en puur eten uit de natuur\, locale ambacht en een plek in het dorp om elkaar te ontmoeten.
URL:https://www.villaticas.nl/event/puur-natuur-markt-wassenaar-3/
END:VEVENT
BEGIN:VEVENT
DTSTART;TZID=Europe/Paris:20230611T100000
DTEND;TZID=Europe/Paris:20230611T160000
DTSTAMP:20260422T132503
CREATED:20230607T183154Z
LAST-MODIFIED:20230607T183155Z
UID:2445-1686477600-1686499200@www.villaticas.nl
SUMMARY:Bunkerrondleidingen Atlantikwall Noordwijk
DESCRIPTION:Wanneer \n\n\n\nElke zondag t/m 31 augustus 2023 \n\n\n\n10.00 – 16.00 uur \n\n\n\nElke vrijdag t/m 31 augustus 2023 \n\n\n\n12.00 – 16.00 uur
URL:https://www.villaticas.nl/event/bunkerrondleidingen-atlantikwall-noordwijk/
LOCATION:Atlantic wall\, Noordwijk
END:VEVENT
BEGIN:VEVENT
DTSTART;TZID=Europe/Paris:20230611T093000
DTEND;TZID=Europe/Paris:20230611T103000
DTSTAMP:20260422T132503
CREATED:20230608T102425Z
LAST-MODIFIED:20230608T102450Z
UID:2473-1686475800-1686479400@www.villaticas.nl
SUMMARY:beach yoga
DESCRIPTION:https://yogabeach.yogibit.nl/cbm/drop-in-planner/stap-1/ \n\n\n\n \n\n\n\nYOGA OP HET STRAND \n\n\n\nDonderdag & Zaterdag 09.30 uur bij beachclub BRIES in Noordwijk afrit 2 \n\n\n\nVrijdag & Zondag 09.30 uur bij surf & strandtent BEACH BREAK in Noordwijk afrit 21 \n\n\n\nDonderdagavond 19.30 uur bij Beach Break.
URL:https://www.villaticas.nl/event/beach-yoga-2/
END:VEVENT
BEGIN:VEVENT
DTSTART;TZID=Europe/Paris:20230611T090000
DTEND;TZID=Europe/Paris:20230611T170000
DTSTAMP:20260422T132503
CREATED:20230428T183757Z
LAST-MODIFIED:20230428T183757Z
UID:2269-1686474000-1686502800@www.villaticas.nl
SUMMARY:FIETSTOUR LIONSCLUB BOLLENSTREEK VOOR FIETSMAATJES\, 11 JUNI 2023
DESCRIPTION:Lionsclub Bollenstreek organiseert op zondag 11 juni weer een unieke fietstour door de Bollenstreek. Deze 2e editie gaat weer door de Bollenstreek\, van start (Lisse) naar eindpunt (’t Huys Dever) over ca. 40 km\, met interessante culinaire en culturele tussenstops. Je kiest zelf je tempo en je gezelschap. De vrijwilligers van Lionsclub Bollenstreek zorgen voor een ontspannen dag met een feestelijk einde (BBQ & live muziek). De starttijden zijn tussen 9.00 uur en 11.00 uur op zondag 11 Juni.De fietstour op 11 juni is geen prestatietocht maar een ontspannen tour door de bollenstreek\, met speciaal door Lionsclub Bollenstreek gecreëerde tussenstops en feestelijk einde op ’t Huys Dever in Lisse. Je fietst de tour op je eigen fiets. Op aanvraag zijn ook duo-fietsen beschikbaar.Tickets voor deze fietstour kosten 49 euro. Ook de opbrengst van de Fietstour 2023 gaat naar de Stichting Fietsmaatjes Hillegom/Lisse\, voor onderhoud en aankoop van de duofietsen\, waarmee hun vrijwilligers onvergetelijke fietsmomenten verzorgen voor hun gasten. Dat zijn mensen die niet in staat zijn om zelfstandig te fietsen. “Duofietsen zijn kostbaar in aanschaf en onderhoud\, dus voor ons is iedere bijdrage bijzonder welkom. Ik kan iedereen verzekeren dat deze bijdrage welbesteed is en wij\, als vereniging van vrijwilligers\, zijn de organisatoren en deelnemers van deze fietstour heel erg dankbaar”\, aldus Joop den Blanken\, voorzitter van Stichting Fietsmaatjes Hillegom/Lisse.Voor een impressie van de fietstour in 2022\, klik hier.Inschrijven voor de fietstour op 11 juni 2023 is hier mogelijk. ——————————————————-Over LionsZo’n 1\,4 miljoen leden vormen wereldwijd de grootste serviceorganisatie Lions\, die zich al meer dan 100 jaar belangeloos inzet om anderen te helpen. In Nederland zijn ruim 10.000 Lions in meer dan 435 Lionsclubs actief. Lions nemen initiatief\, stimuleren\, organiseren en brengen partijen bij elkaar. Om acties te organiseren die geld opleveren (fundraising) en om de handen uit de mouwen te steken. Dit alles onder het motto: Lions helpen! www.lions.nl Over FietsmaatjesFietsmaatjes maakt genieten van een fietstocht voor iedereen mogelijk door vrijwilligers te koppelen aan gasten die niet meer zelfstandig kunnen fietsen. Samen maken zij heerlijke fietstochten op een duo-fiets met elektrische trapondersteuning. In totaal fietsen er in Nederland meer dan 1500 gasten met evenveel vrijwilligers op de vele duo-fietsen. https://www.fietsmaatjeshillegomlisse.nl/
URL:https://www.villaticas.nl/event/fietstour-lionsclub-bollenstreek-voor-fietsmaatjes-11-juni-2023/
END:VEVENT
BEGIN:VEVENT
DTSTART;TZID=Europe/Paris:20230611T080000
DTEND;TZID=Europe/Paris:20230611T170000
DTSTAMP:20260422T132503
CREATED:20230228T231738Z
LAST-MODIFIED:20230228T231739Z
UID:2019-1686470400-1686502800@www.villaticas.nl
SUMMARY:Waterpendel Katwijk- Leiden
DESCRIPTION:
URL:https://www.villaticas.nl/event/waterpendel-katwijk-leiden-4/
END:VEVENT
BEGIN:VEVENT
DTSTART;TZID=Europe/Paris:20230610T223000
DTEND;TZID=Europe/Paris:20230611T000000
DTSTAMP:20260422T132503
CREATED:20230608T101226Z
LAST-MODIFIED:20230608T101227Z
UID:2465-1686436200-1686441600@www.villaticas.nl
SUMMARY:openlucht film kijken Promising Young Woman
DESCRIPTION:Promising Young Woman\n\n\n\nZaterdag 10 juniEngels gesproken met Nederlandse ondertiteling.De getraumatiseerde Cassie vindt een eigenzinnige manier om te dealen met de pijn uit haar verleden en neemt wraak op zogenaamde nice guys. Dit Oscar winnende debuut van Emerald Fennel (Killing Eve) verdient\, na eerdere vertoning op 1\,5 meter afstand tijdens de 14 ½ e editie van het LIFF\, nu een herkansing met volledig publiek!\n\n\n\nPraktische informatie\n\n\n\nToegang: Gratis entreeStarttijd: 22.30 uur\, als de zon onder is.Locatie: Pieterskerkplein LeidenData: Donderdag 8\, vrijdag 9 en zaterdag 10 juni 2023
URL:https://www.villaticas.nl/event/openlucht-film-kijken-promising-young-woman/
END:VEVENT
BEGIN:VEVENT
DTSTART;TZID=Europe/Paris:20230610T180000
DTEND;TZID=Europe/Paris:20230610T223000
DTSTAMP:20260422T132503
CREATED:20230605T132812Z
LAST-MODIFIED:20230605T132813Z
UID:2330-1686420000-1686436200@www.villaticas.nl
SUMMARY:De grote vijf Hollandse duin
DESCRIPTION:Speur met de boswachter mee naar reeën. Na een maaltijd met huisgemaakte soep\, breekbrood met kaas en vlees stap je in de Landrovers en rijd je door boswachterij Noordwijk. Vanuit deze stoere auto’s maak je nog meer kans op het zien van wild. Onderweg stop je een aantal keer en vertelt de boswachter je alles over het leven van de ree en hoe je kunt zien of er reeën in de buurt zijn. Op deze safari komen niet alleen natuurliefhebbers\, maar ook de liefhebbers van stoere auto’s aan hun trekken. De Landrovers rijden bijna nooit in dit terrein dat normaal alleen met een gids toegankelijk is. Grote kans dat je ook damherten en vossen tegenkomt.
URL:https://www.villaticas.nl/event/de-grote-vijf-hollandse-duin/
LOCATION:Staatsbosbeheer\, Duinweg 81\, Noordwijk\, Nederland
ORGANIZER;CN="Staatsbosbeheer":MAILTO:hollandsduin@staatsbosbeheer.nl
END:VEVENT
BEGIN:VEVENT
DTSTART;TZID=Europe/Paris:20230610T123000
DTEND;TZID=Europe/Paris:20230610T153000
DTSTAMP:20260422T132503
CREATED:20230511T171823Z
LAST-MODIFIED:20230511T171824Z
UID:2307-1686400200-1686411000@www.villaticas.nl
SUMMARY:Rondleiding Landgoed Calorama
DESCRIPTION:Op zaterdagmiddag 10 juni a.s.\, tijdens de eerste dag van Tuinmarkt onder de Linden\,  kunt u een rondwandeling maken op het Landgoed Calorama o.l.v. een ervaren gids. Geïnteresseerden kunnen kennismaken met de geschiedenis\, het landschap en het verhaal van Calorama.Bijzonder zijn met name de waardevolle en vooral kwetsbare stinzenbeplanting en de identiteitsbepalende rol die de rozen- en kruidenteelt heeft gespeeld in de historie van de buitenplaats. In mei zijn de stinzen volop in bloei te bewonderen en kleurt en geurt het landgoed prachtig. Met een beetje geluk kunt u hier ook op 10 juni nog van genieten.De wandelingen starten om 12.30\, 14.00 en 15.30 bij de hoofdingang aan Gooweg 21 (t.o. Voorstraat 1). Per wandeling kunnen 3 x 15 personen meelopen.Kaarten voor de rondwandeling zijn tijdens de Tuinmarkt onder de Linden voor €6\,50 te koop bij de kraam van De Oude Dorpskern bij de dorpspomp op het Lindenplein.
URL:https://www.villaticas.nl/event/rondleiding-landgoed-calorama/
LOCATION:Landgoed Calorama\, Gooweg 21\, Noordwijk
END:VEVENT
BEGIN:VEVENT
DTSTART;TZID=Europe/Paris:20230610T110000
DTEND;TZID=Europe/Paris:20230610T170000
DTSTAMP:20260422T132503
CREATED:20230607T183430Z
LAST-MODIFIED:20230607T183431Z
UID:2449-1686394800-1686416400@www.villaticas.nl
SUMMARY:lente fair lisse
DESCRIPTION:Lentefair bij Intratuin LisseContactIntratuin LisseIntratuin LisseHeereweg 3502161 CC Lisse
URL:https://www.villaticas.nl/event/lente-fair-lisse/
END:VEVENT
BEGIN:VEVENT
DTSTART;TZID=Europe/Paris:20230610T110000
DTEND;TZID=Europe/Paris:20230610T170000
DTSTAMP:20260422T132503
CREATED:20230511T171129Z
LAST-MODIFIED:20230511T171130Z
UID:2301-1686394800-1686416400@www.villaticas.nl
SUMMARY:Tentoonstelling 25 jaar Schilderfestival
DESCRIPTION:In 2023 bestaat het Schilderfestival Noordwijk 25 jaar. Daarom organiseren zij een tentoonstelling op Landgoed Calorama om het werk te tonen van de winnaars van 1999 tot 2022 (inclusief de winnaar van de oeuvreprijs Jürgen Leippert). \n\n\n\nDe tentoonstelling vindt plaats in twee weekenden. Het weekend van 10 en 11 juni 2023\, tijdens de Tuinenmarkt in Noordwijk-Binnen en net voor het festival op 17 en 18 juni 2023. \n\n\n\nHet Koetshuis is toegankelijk via de ingang van het Landgoed naast de begraafplaats aan de Gooweg. De openingstijden zijn van 11:00 tot 17:00 uur.
URL:https://www.villaticas.nl/event/tentoonstelling-25-jaar-schilderfestival-2/
LOCATION:Landgoed Calorama\, Gooweg 21\, Noordwijk
END:VEVENT
BEGIN:VEVENT
DTSTART;TZID=Europe/Paris:20230610T090000
DTEND;TZID=Europe/Paris:20230610T110000
DTSTAMP:20260422T132503
CREATED:20230607T183930Z
LAST-MODIFIED:20230607T183931Z
UID:2453-1686387600-1686394800@www.villaticas.nl
SUMMARY:parkrun kagerzoom
DESCRIPTION:Gratis en wekelijks een 5 km evenement voor hardlopers\, joggers en wandelaars.Iedere zaterdagochtend om 9 uur. Iedereen is welkom\, ongeacht leeftijd of niveau. Geheel georganiseerd door vrijwilligers. Laagdrempelig en gezellig. Doe mee!WanneerElke zaterdag09.00 – 11.00 uur
URL:https://www.villaticas.nl/event/parkrun-kagerzoom/
END:VEVENT
BEGIN:VEVENT
DTSTART;TZID=UTC:20230610T080000
DTEND;TZID=UTC:20230611T170000
DTSTAMP:20260422T132503
CREATED:20230203T144633Z
LAST-MODIFIED:20230204T171748Z
UID:1202-1686384000-1686502800@www.villaticas.nl
SUMMARY:markt onder de linden
DESCRIPTION:Sint Jeroenskerk Noordwijk Binnen
URL:https://www.villaticas.nl/event/markt-onder-de-linden/
CATEGORIES:Culture,Cultuur,Historie,Markt
END:VEVENT
BEGIN:VEVENT
DTSTART;TZID=Europe/Paris:20230610T080000
DTEND;TZID=Europe/Paris:20230610T170000
DTSTAMP:20260422T132503
CREATED:20230607T183636Z
LAST-MODIFIED:20230607T183637Z
UID:2451-1686384000-1686416400@www.villaticas.nl
SUMMARY:kaagrace
DESCRIPTION:Na een succesvolle Kaagrace in 2022 gaan we dit jaar weer een gezellige sportieve Kaagrace op de Kagerplassen organiseren. Zaterdag 10 juni 2023 wordt de 16e editie van de KAAGRACE  geroeid. We verwachten ruim 100 roeiboten\, 1000 roeiers\, goed weer en veel gezelligheid tijdens ons jaarlijkse roeifeest. De voorbereidingen zijn in volle gang. De KAAGRACEcommissie is druk met de voorbereidingen\, de routes checken\, band informeren\, nadenken over het takelen van de sloepen. Ook dit jaar is de KAAGRACE een genomineerde wedstrijd voor het Nederlands Kampioenschap voor de Pilot Gigs en FSN genomineerd voor de roeisloepen.
URL:https://www.villaticas.nl/event/kaagrace/
END:VEVENT
BEGIN:VEVENT
DTSTART;TZID=Europe/Paris:20230610T080000
DTEND;TZID=Europe/Paris:20230610T170000
DTSTAMP:20260422T132503
CREATED:20230607T175204Z
LAST-MODIFIED:20230607T175205Z
UID:2409-1686384000-1686416400@www.villaticas.nl
SUMMARY:weekmarkt leiden zaterdag
DESCRIPTION:CENTRUM\n\n\n\n: ZA 8:00 – 17:00 UUR\n\n\n\nElke zaterdag staan de marktkooplui voor je klaar in het centrum van Leiden. De kraampjes vind je op de kades van de Botermarkt\, Vismarkt\, Aalmarkt en Nieuwe Rijn een uitgebreide warenmarkt. De keuze is reuze! En de sfeer is gemoedelijk. 
URL:https://www.villaticas.nl/event/weekmarkt-leiden-zaterdag/
END:VEVENT
BEGIN:VEVENT
DTSTART;TZID=Europe/Paris:20230610T080000
DTEND;TZID=Europe/Paris:20230610T170000
DTSTAMP:20260422T132503
CREATED:20230224T110921Z
LAST-MODIFIED:20230224T111103Z
UID:1966-1686384000-1686416400@www.villaticas.nl
SUMMARY:kippenloop Katwijk samen lopen tegen kanker.
DESCRIPTION:Samen lopen tegen kanker \n\n\n\nSportief genieten van strand\, zee\, duin en bos? En voor een goed doel? Samen lopen we een mooie opbrengst bij elkaar. De opbrengst van de Kippenloop en Kuikenloop gaat naar onderzoek immunotherapie van het LUMC Leiden en het Prinses Máxima centrum voor kinderoncologie.De 18e editie van de Kippen- en Kuikenloop 2023 vindt plaats op zaterdag 10 juni 2023. De inschrijving start op woensdag 1 maart.
URL:https://www.villaticas.nl/event/kippenloop-katwijk-samen-lopen-tegen-kanker/
END:VEVENT
BEGIN:VEVENT
DTSTART;TZID=Europe/Paris:20230609T223000
DTEND;TZID=Europe/Paris:20230609T230000
DTSTAMP:20260422T132503
CREATED:20230608T090127Z
LAST-MODIFIED:20230608T090128Z
UID:2458-1686349800-1686351600@www.villaticas.nl
SUMMARY:Openlucht film festival Mes frères et moi’ 
DESCRIPTION:Mes frères et moiVrijdag 9 juniFrans gesproken met Engelse ondertiteling.Nour heeft het thuis knap lastig met een ernstig zieke moeder en drie oudere broers die hem behoorlijk achterna zitten\, zeker wanneer Nour aangeeft dat hij liever operazanglessen neemt dan een bijbaantje. Een verfrissend portret van familie\, tragedie en ambitie in Franse buitenwijken met een fantastische jonge hoofdrolspeler.
URL:https://www.villaticas.nl/event/openlucht-film-festival-mes-freres-et-moi/
END:VEVENT
BEGIN:VEVENT
DTSTART;TZID=Europe/Paris:20230609T130000
DTEND;TZID=Europe/Paris:20230609T170000
DTSTAMP:20260422T132503
CREATED:20230609T074133Z
LAST-MODIFIED:20230609T074134Z
UID:2497-1686315600-1686330000@www.villaticas.nl
SUMMARY:braderie sassenheim
DESCRIPTION:
URL:https://www.villaticas.nl/event/braderie-sassenheim/
END:VEVENT
BEGIN:VEVENT
DTSTART;TZID=Europe/Paris:20230609T100000
DTEND;TZID=Europe/Paris:20230609T170000
DTSTAMP:20260422T132503
CREATED:20230607T174127Z
LAST-MODIFIED:20230607T174128Z
UID:2401-1686304800-1686330000@www.villaticas.nl
SUMMARY:weekmarkt katwijk piet heinlaan
DESCRIPTION:MARKTPLEIN/PIET HEINLAAN: VR 10:00 – 17:00 UURElke vrijdag staan de marktlieden voor je klaar op de markt Marktplaats/ P. Heinlaan van Katwijk. Op vrijdag stallen de marktlieden hun waar voor je uit in hartje Katwijk. Het aanbod is divers en verdeeld over verschillende marktkramen.
URL:https://www.villaticas.nl/event/weekmarkt-katwijk-piet-heinlaan/
END:VEVENT
BEGIN:VEVENT
DTSTART;TZID=Europe/Paris:20230608T223000
DTEND;TZID=Europe/Paris:20230609T000100
DTSTAMP:20260422T132503
CREATED:20230608T085626Z
LAST-MODIFIED:20230608T100946Z
UID:2455-1686263400-1686268860@www.villaticas.nl
SUMMARY:openlucht film kijken sunset boulevard leids summer special
DESCRIPTION:De film gaat draaien als de zon onder gaat en dat is rond half elf ’s avonds. Als eerste staat donderdag 8 juni de film ’Sunset Boulevard’ op het programma. Deze film uit 1950 won destijds drie Oscars. \n\n\n\n \n\n\n\nHet is een initiatief van het Leiden International Film Festival (LIFF). Dit festival vindt altijd in het najaar plaats. Daarom bedachten de organisatoren jaren geleden deze zogeheten Summer Special. \n\n\n\nPraktische informatieToegang: Gratis entreeStarttijd: 22.30 uur\, als de zon onder is.Locatie: Pieterskerkplein LeidenData: Donderdag 8\, vrijdag 9 en zaterdag 10 juni 2023
URL:https://www.villaticas.nl/event/openlucht-film-kijken-sunset-boulevard-leids-summer-special/
END:VEVENT
BEGIN:VEVENT
DTSTART;TZID=Europe/Paris:20230608T193000
DTEND;TZID=Europe/Paris:20230608T200000
DTSTAMP:20260422T132503
CREATED:20230608T101712Z
LAST-MODIFIED:20230608T101713Z
UID:2467-1686252600-1686254400@www.villaticas.nl
SUMMARY:Beach yoga
DESCRIPTION:YOGA OP HET STRAND \n\n\n\nDonderdag & Zaterdag 09.30 uur bij beachclub BRIES in Noordwijk afrit 2 \n\n\n\nVrijdag & Zondag 09.30 uur bij surf & strandtent BEACH BREAK in Noordwijk afrit 21 \n\n\n\nDonderdagavond 19.30 uur bij Beach Break.
URL:https://www.villaticas.nl/event/beach-yoga/
END:VEVENT
BEGIN:VEVENT
DTSTART;TZID=Europe/Paris:20230608T090000
DTEND;TZID=Europe/Paris:20230608T110000
DTSTAMP:20260422T132503
CREATED:20230607T173822Z
LAST-MODIFIED:20230607T173824Z
UID:2397-1686214800-1686222000@www.villaticas.nl
SUMMARY:weekmarkt katwijk
DESCRIPTION:Elke donderdagochtend staan de marktlieden voor je klaar in de Princestraat van Katwijk. Op donderdag stallen de marktlieden hun waar voor je uit in hartje Katwijk. Het aanbod is divers en verdeeld over verschillende marktkramen. De donderdag weekmarkt begint om 09:00 uur en duurt tot 12:00 uur
URL:https://www.villaticas.nl/event/weekmarkt-katwijk/
END:VEVENT
BEGIN:VEVENT
DTSTART;TZID=Europe/Paris:20230608T080000
DTEND;TZID=Europe/Paris:20230608T170000
DTSTAMP:20260422T132503
CREATED:20230607T173243Z
LAST-MODIFIED:20230607T173244Z
UID:2391-1686211200-1686243600@www.villaticas.nl
SUMMARY:weekmarkt noordwijk-binnen
DESCRIPTION:
URL:https://www.villaticas.nl/event/weekmarkt-noordwijk-binnen/
END:VEVENT
BEGIN:VEVENT
DTSTART;TZID=Europe/Paris:20230607T110000
DTEND;TZID=Europe/Paris:20230607T170000
DTSTAMP:20260422T132503
CREATED:20230607T173546Z
LAST-MODIFIED:20230607T173710Z
UID:2395-1686135600-1686157200@www.villaticas.nl
SUMMARY:weekmarkt noordwijk-binnen
DESCRIPTION:
URL:https://www.villaticas.nl/event/weekmarkt-noordwijk-binnen-3/
END:VEVENT
BEGIN:VEVENT
DTSTART;TZID=Europe/Paris:20230607T110000
DTEND;TZID=Europe/Paris:20230607T170000
DTSTAMP:20260422T132503
CREATED:20230607T173320Z
LAST-MODIFIED:20230607T173503Z
UID:2393-1686135600-1686157200@www.villaticas.nl
SUMMARY:weekmarkt noordwijk-binnen
DESCRIPTION:
URL:https://www.villaticas.nl/event/weekmarkt-noordwijk-binnen-2/
END:VEVENT
BEGIN:VEVENT
DTSTART;TZID=Europe/Paris:20230607T080000
DTEND;TZID=Europe/Paris:20230607T170000
DTSTAMP:20260422T132503
CREATED:20230607T174228Z
LAST-MODIFIED:20230607T174229Z
UID:2403-1686124800-1686157200@www.villaticas.nl
SUMMARY:weekmarkt katwijk piet heinlaan
DESCRIPTION:MARKTPLEIN/PIET HEINLAAN\n\n\n\n: VR 10:00 – 17:00 UUR\n\n\n\nElke vrijdag staan de marktlieden voor je klaar op de markt Marktplaats/ P. Heinlaan van Katwijk. Op vrijdag stallen de marktlieden hun waar voor je uit in hartje Katwijk. Het aanbod is divers en verdeeld over verschillende marktkramen. 
URL:https://www.villaticas.nl/event/weekmarkt-katwijk-piet-heinlaan-2/
END:VEVENT
BEGIN:VEVENT
DTSTART;TZID=Europe/Paris:20230606T080000
DTEND;TZID=Europe/Paris:20230607T170000
DTSTAMP:20260422T132503
CREATED:20230228T231703Z
LAST-MODIFIED:20230228T231705Z
UID:2017-1686038400-1686157200@www.villaticas.nl
SUMMARY:Waterpendel Katwijk- Leiden
DESCRIPTION:
URL:https://www.villaticas.nl/event/waterpendel-katwijk-leiden-3/
END:VEVENT
END:VCALENDAR