BEGIN:VCALENDAR
VERSION:2.0
PRODID:-//Bed &amp; Breakfast Villaticas - ECPv6.15.20//NONSGML v1.0//EN
CALSCALE:GREGORIAN
METHOD:PUBLISH
X-WR-CALNAME:Bed &amp; Breakfast Villaticas
X-ORIGINAL-URL:https://www.villaticas.nl
X-WR-CALDESC:Evenementen voor Bed &amp; Breakfast Villaticas
REFRESH-INTERVAL;VALUE=DURATION:PT1H
X-Robots-Tag:noindex
X-PUBLISHED-TTL:PT1H
BEGIN:VTIMEZONE
TZID:Europe/Paris
BEGIN:DAYLIGHT
TZOFFSETFROM:+0100
TZOFFSETTO:+0200
TZNAME:CEST
DTSTART:20220327T010000
END:DAYLIGHT
BEGIN:STANDARD
TZOFFSETFROM:+0200
TZOFFSETTO:+0100
TZNAME:CET
DTSTART:20221030T010000
END:STANDARD
BEGIN:DAYLIGHT
TZOFFSETFROM:+0100
TZOFFSETTO:+0200
TZNAME:CEST
DTSTART:20230326T010000
END:DAYLIGHT
BEGIN:STANDARD
TZOFFSETFROM:+0200
TZOFFSETTO:+0100
TZNAME:CET
DTSTART:20231029T010000
END:STANDARD
BEGIN:DAYLIGHT
TZOFFSETFROM:+0100
TZOFFSETTO:+0200
TZNAME:CEST
DTSTART:20240331T010000
END:DAYLIGHT
BEGIN:STANDARD
TZOFFSETFROM:+0200
TZOFFSETTO:+0100
TZNAME:CET
DTSTART:20241027T010000
END:STANDARD
END:VTIMEZONE
BEGIN:VTIMEZONE
TZID:UTC
BEGIN:STANDARD
TZOFFSETFROM:+0000
TZOFFSETTO:+0000
TZNAME:UTC
DTSTART:20220101T000000
END:STANDARD
END:VTIMEZONE
BEGIN:VEVENT
DTSTART;TZID=Europe/Paris:20230608T090000
DTEND;TZID=Europe/Paris:20230608T110000
DTSTAMP:20260423T001314
CREATED:20230607T173822Z
LAST-MODIFIED:20230607T173824Z
UID:2397-1686214800-1686222000@www.villaticas.nl
SUMMARY:weekmarkt katwijk
DESCRIPTION:Elke donderdagochtend staan de marktlieden voor je klaar in de Princestraat van Katwijk. Op donderdag stallen de marktlieden hun waar voor je uit in hartje Katwijk. Het aanbod is divers en verdeeld over verschillende marktkramen. De donderdag weekmarkt begint om 09:00 uur en duurt tot 12:00 uur
URL:https://www.villaticas.nl/event/weekmarkt-katwijk/
END:VEVENT
BEGIN:VEVENT
DTSTART;TZID=Europe/Paris:20230608T080000
DTEND;TZID=Europe/Paris:20230608T170000
DTSTAMP:20260423T001314
CREATED:20230607T173243Z
LAST-MODIFIED:20230607T173244Z
UID:2391-1686211200-1686243600@www.villaticas.nl
SUMMARY:weekmarkt noordwijk-binnen
DESCRIPTION:
URL:https://www.villaticas.nl/event/weekmarkt-noordwijk-binnen/
END:VEVENT
BEGIN:VEVENT
DTSTART;TZID=Europe/Paris:20230607T110000
DTEND;TZID=Europe/Paris:20230607T170000
DTSTAMP:20260423T001314
CREATED:20230607T173546Z
LAST-MODIFIED:20230607T173710Z
UID:2395-1686135600-1686157200@www.villaticas.nl
SUMMARY:weekmarkt noordwijk-binnen
DESCRIPTION:
URL:https://www.villaticas.nl/event/weekmarkt-noordwijk-binnen-3/
END:VEVENT
BEGIN:VEVENT
DTSTART;TZID=Europe/Paris:20230607T110000
DTEND;TZID=Europe/Paris:20230607T170000
DTSTAMP:20260423T001314
CREATED:20230607T173320Z
LAST-MODIFIED:20230607T173503Z
UID:2393-1686135600-1686157200@www.villaticas.nl
SUMMARY:weekmarkt noordwijk-binnen
DESCRIPTION:
URL:https://www.villaticas.nl/event/weekmarkt-noordwijk-binnen-2/
END:VEVENT
BEGIN:VEVENT
DTSTART;TZID=Europe/Paris:20230607T080000
DTEND;TZID=Europe/Paris:20230607T170000
DTSTAMP:20260423T001314
CREATED:20230607T174228Z
LAST-MODIFIED:20230607T174229Z
UID:2403-1686124800-1686157200@www.villaticas.nl
SUMMARY:weekmarkt katwijk piet heinlaan
DESCRIPTION:MARKTPLEIN/PIET HEINLAAN\n\n\n\n: VR 10:00 – 17:00 UUR\n\n\n\nElke vrijdag staan de marktlieden voor je klaar op de markt Marktplaats/ P. Heinlaan van Katwijk. Op vrijdag stallen de marktlieden hun waar voor je uit in hartje Katwijk. Het aanbod is divers en verdeeld over verschillende marktkramen. 
URL:https://www.villaticas.nl/event/weekmarkt-katwijk-piet-heinlaan-2/
END:VEVENT
BEGIN:VEVENT
DTSTART;TZID=Europe/Paris:20230606T080000
DTEND;TZID=Europe/Paris:20230607T170000
DTSTAMP:20260423T001314
CREATED:20230228T231703Z
LAST-MODIFIED:20230228T231705Z
UID:2017-1686038400-1686157200@www.villaticas.nl
SUMMARY:Waterpendel Katwijk- Leiden
DESCRIPTION:
URL:https://www.villaticas.nl/event/waterpendel-katwijk-leiden-3/
END:VEVENT
BEGIN:VEVENT
DTSTART;TZID=UTC:20230603T100000
DTEND;TZID=UTC:20230603T170000
DTSTAMP:20260423T001314
CREATED:20230203T090301Z
LAST-MODIFIED:20230203T090303Z
UID:1134-1685786400-1685811600@www.villaticas.nl
SUMMARY:bunkerdag
DESCRIPTION:Langs de kust staan nog vele bunkers van de tweede wereld oorlog te vinden op bunkerdag zijn deze te bezoeken
URL:https://www.villaticas.nl/event/bunkerdag/
END:VEVENT
BEGIN:VEVENT
DTSTART;TZID=Europe/Paris:20230601T190000
DTEND;TZID=Europe/Paris:20230601T193000
DTSTAMP:20260423T001314
CREATED:20230228T150221Z
LAST-MODIFIED:20230228T150442Z
UID:1993-1685646000-1685647800@www.villaticas.nl
SUMMARY:Avond Cruise Katwijk
DESCRIPTION:Ontdek het meest molenrijke plassengebied van Nederland: de Kagerplassen! Een mooie avondvaart over de Kagerplassen. Een uitgestrekt plassengebied in het Groene Hart dat zich kenmerkt door ondiepe plassen en eilanden. De eilanden zijn polders en worden nog steeds bemaald door 18 in bedrijf zijnde en gerestaureerde poldermolens. De meeste van deze molens ziet u gedurende de vaartocht. Kortom: Holland ten voeten uit!De kapitein informeert u gedurende de vaart over alle bezienswaardigheden. Bij mooi weer geniet u uiteraard ook aan het dek alwaar u een weids uitzicht heeft over de omgeving.Periode: Juni t/m AugData: donderdagAfvaartlocatie: Katwijk aan Zee: Zwaaikom (t.h.v. Haven nr. 8) )Afvaarttijden: 19:00 uur.
URL:https://www.villaticas.nl/event/avond-cruise-katwijk/
LOCATION:Katwijk\, Zwaaikom\, Katwijk\, Katwijk
CATEGORIES:Sunset-cruise,Varen
END:VEVENT
BEGIN:VEVENT
DTSTART;TZID=Europe/Paris:20230530T193000
DTEND;TZID=Europe/Paris:20230530T193000
DTSTAMP:20260423T001314
CREATED:20230511T170213Z
LAST-MODIFIED:20230511T170214Z
UID:2294-1685475000-1685475000@www.villaticas.nl
SUMMARY:Stinzenwandeling Landgoed Calorama
DESCRIPTION:Iedere dinsdagavond in mei is er een rondwandeling op het Landgoed Calorama o.l.v. een ervaren gids. Geïnteresseerden kunnen kennismaken met de geschiedenis\, het landschap en het verhaal van Calorama. \n\n\n\nBijzonder zijn met name de waardevolle en vooral kwetsbare stinzenbeplanting en de identiteitsbepalende rol die de bloembollen- en kruidenteelt heeft gespeeld in de historie van de buitenplaats. In mei zijn de stinzen volop in bloei te bewonderen en kleurt en geurt het landgoed prachtig. \n\n\n\nTijd: iedere dinsdagavond in mei om 19:30 uur\, start vanaf het Koetshuis aan de Gooweg 33\, Noordwijk \n\n\n\nTickets: €6\,50 (incl. koffie na afloop bij de oldtimers)
URL:https://www.villaticas.nl/event/stinzenwandeling-landgoed-calorama-3/
LOCATION:Landgoed Calorama\, Gooweg 21\, Noordwijk
END:VEVENT
BEGIN:VEVENT
DTSTART;TZID=Europe/Paris:20230529T100000
DTEND;TZID=Europe/Paris:20230529T160000
DTSTAMP:20260423T001314
CREATED:20230511T170554Z
LAST-MODIFIED:20230511T170554Z
UID:2296-1685354400-1685376000@www.villaticas.nl
SUMMARY:Dag van het kasteel
DESCRIPTION:Dag van het Kasteel is het enige landelijke publieksevenement dat kastelen en buitenplaatsen in de spotlight zet. Samen met meer dan honderd kastelen en buitenplaatsen brengen ze de diversiteit van dit erfgoed en de veelzijdigheid van de daaraan verbonden verhalen tot leven. Ook landgoed Calorama is opgenomen in het programma van De Dag van het Kasteel. \n\n\n\nOp Tweede Pinksterdag\, 29 mei is het tussen 10:00 en 16:00 uur mogelijk om onder begeleiding van onze enthousiaste gidsen het landgoed en de verschillende Rijksmonumenten te ontdekken. Ook in en rond het Koetshuis zullen er diverse activiteiten worden georganiseerd. 
URL:https://www.villaticas.nl/event/dag-van-het-kasteel-2/
LOCATION:Landgoed Calorama\, Gooweg 21\, Noordwijk
END:VEVENT
BEGIN:VEVENT
DTSTART;TZID=UTC:20230529T100000
DTEND;TZID=UTC:20230529T160000
DTSTAMP:20260423T001314
CREATED:20230203T145423Z
LAST-MODIFIED:20230204T125655Z
UID:1210-1685354400-1685376000@www.villaticas.nl
SUMMARY:dag van het kasteel
DESCRIPTION:Op tweede pinksterdag\, 29 mei 2023\, is het weer tijd voor de Dag van het Kasteel. Kastelen en buitenplaatsen in heel Nederland zetten de poorten van het landgoed (en soms het huis) open om belangstellend publiek te ontvangen. Het is een dag voor jong en oud. \n\n\n\nKasteel Keukenhof \n\n\n\nKasteel KeukenhofDe begane grond van Kasteel Keukenhof is van 10:00 – 16:00 uur geopend voor publiek en vrij toegankelijk. Onze gidsen staan voor je klaar om uitleg te geven over de historie\, architectuur en inrichting van Kasteel Keukenhof. Nog meer ontdekken? Het is ook mogelijk om een rondleiding te krijgen en meer te zien van het kasteel. Tickets voor een rondleiding kosten € 5 per persoon
URL:https://www.villaticas.nl/event/dag-van-het-kasteel/
CATEGORIES:Culture,Historie
END:VEVENT
BEGIN:VEVENT
DTSTART;TZID=Europe/Paris:20230528T100000
DTEND;TZID=Europe/Paris:20230528T170000
DTSTAMP:20260423T001314
CREATED:20230228T231615Z
LAST-MODIFIED:20230228T231616Z
UID:2015-1685268000-1685293200@www.villaticas.nl
SUMMARY:Waterpendel Katwijk- Leiden
DESCRIPTION:
URL:https://www.villaticas.nl/event/waterpendel-katwijk-leiden-2/
END:VEVENT
BEGIN:VEVENT
DTSTART;TZID=UTC:20230528T080000
DTEND;TZID=UTC:20230529T170000
DTSTAMP:20260423T001314
CREATED:20230204T132124Z
LAST-MODIFIED:20230204T150939Z
UID:1283-1685260800-1685379600@www.villaticas.nl
SUMMARY:Pinkstermarkt Palaceplein
DESCRIPTION:
URL:https://www.villaticas.nl/event/pinkstermarkt-palaceplein/
END:VEVENT
BEGIN:VEVENT
DTSTART;TZID=Europe/Paris:20230523T193000
DTEND;TZID=Europe/Paris:20230523T193000
DTSTAMP:20260423T001314
CREATED:20230511T164945Z
LAST-MODIFIED:20230511T165956Z
UID:2286-1684870200-1684870200@www.villaticas.nl
SUMMARY:Stinzenwandeling landgoed Calorama
DESCRIPTION:Iedere dinsdagavond in mei is er een rondwandeling op het Landgoed Calorama o.l.v. een ervaren gids. Geïnteresseerden kunnen kennismaken met de geschiedenis\, het landschap en het verhaal van Calorama.Bijzonder zijn met name de waardevolle en vooral kwetsbare stinzenbeplanting en de identiteitsbepalende rol die de bloembollen- en kruidenteelt heeft gespeeld in de historie van de buitenplaats. In mei zijn de stinzen volop in bloei te bewonderen en kleurt en geurt het landgoed prachtig.Tijd: iedere dinsdagavond in mei om 19:30 uur\, start vanaf het Koetshuis aan de Gooweg 33\, NoordwijkTickets: €6\,50 (incl. koffie na afloop bij de oldtimers)
URL:https://www.villaticas.nl/event/stinzenwandeling-landgoed-calorama/
LOCATION:Koetshuis\, Gooweg 33\, Noordwijk
END:VEVENT
BEGIN:VEVENT
DTSTART;TZID=Europe/Paris:20230523T100000
DTEND;TZID=Europe/Paris:20230524T170000
DTSTAMP:20260423T001314
CREATED:20230228T151249Z
LAST-MODIFIED:20230228T231458Z
UID:1998-1684836000-1684947600@www.villaticas.nl
SUMMARY:waterpendel katwijk- Leiden
DESCRIPTION:Van 23 mei t/m 10 september 2023 kunt u iedere dinsdag\, woensdag en zondag een verrassende vaartocht maken op de Oude Rijn van Leiden naar Katwijk aan Zee en weer terug naar Leiden. Wij varen langs de Limes\, de natuurlijke noordgrens van het oude Romeinse Rijk\, en passeren zo Oegstgeest\, Valkenburg en Rijnsburg. Na ongeveer vijf kwartier meren wij af in de bedrijvige binnenhaven van Katwijk. In deze oude vissersplaats staat u al binnen vijf minuten op de boulevard. Geniet van de zon of waai eens lekker uit op het strand. Achter de duinen vinden we er een gezellig winkelcentrum en voor de oude klederdracht bezoekt u het Katwijks Museum. Vanuit Katwijk vaart u naar oud Leiden. In deze Stadvanontdekkingen vindt u vele musea en u kunt er ronddwalen door de historische binnenstad. Op en langs de schilderachtige grachten heeft u een ruime keuze aan terrassen en leuke eethuisjes. Elke woensdag is er langs de Nieuwe Rijn een sfeervolle markt. Deze pendeldienst wordt verzorgd door Stichting De Leidse Rederij. \n\n\n\n \n\n\n\nVertrektijden \n\n\n\nVan medio mei tot en met medio september 2023 wordt er op dinsdag\, woensdag en zondag gevaren van Leiden\, Apothekersdijk 5 naar Katwijk aan Zee\, Zwaaikom 19 en weer terug naar Leiden.Vertrek Leiden Aankomst Katwijk9:30 10:4513:00 14:1516:30 17:45 \n\n\n\nVertrek Katwijk Aankomst Leiden \n\n\n\n11:15 12:3014:45 16:0018:15 19:30
URL:https://www.villaticas.nl/event/waterpendel-katwijk-leiden/
LOCATION:Zwaaikom 19\, Zwaaikom 19\, Katwijk\, Nederland
END:VEVENT
BEGIN:VEVENT
DTSTART;TZID=UTC:20230518T120000
DTEND;TZID=UTC:20230520T170000
DTSTAMP:20260423T001314
CREATED:20230203T083824Z
LAST-MODIFIED:20230203T083825Z
UID:1124-1684411200-1684602000@www.villaticas.nl
SUMMARY:Ibiza Festival
DESCRIPTION:Geïnspireerd door de hippiemarkten van Ibiza\, dit weekend op een Ibizamarkt op de Boulevard van Noordwijk
URL:https://www.villaticas.nl/event/ibiza-festival/
CATEGORIES:Markt,Strand
END:VEVENT
BEGIN:VEVENT
DTSTART;TZID=Europe/Paris:20230517T070000
DTEND;TZID=Europe/Paris:20230520T100000
DTSTAMP:20260423T001314
CREATED:20230517T193844Z
LAST-MODIFIED:20230517T193845Z
UID:2311-1684306800-1684576800@www.villaticas.nl
SUMMARY:Vroege vogel excursie van merel tot nachtegaal
DESCRIPTION:Vogelspotten op Langeveld binnenduingebied. \n\n\n\nt.h.v. Vogelaardreef 21 (parkeren langs de weg)\, Noordwijk
URL:https://www.villaticas.nl/event/vroege-vogel-excursie-van-merel-tot-nachtegaal/
LOCATION:Noordwijk\, Vogelaardreef 2\, Noordwijk
END:VEVENT
BEGIN:VEVENT
DTSTART;TZID=UTC:20230513T093000
DTEND;TZID=UTC:20230514T170000
DTSTAMP:20260423T001314
CREATED:20230204T124702Z
LAST-MODIFIED:20230204T124702Z
UID:1262-1683970200-1684083600@www.villaticas.nl
SUMMARY:Nationale Molendag
DESCRIPTION:zaterdag 13 en zondag 14 mei 2023 – Nationale MolendagOp zaterdag 14 en zondag 15 mei 2023 zijn honderden wind- en watermolens in Nederlands gratis te bezoeken voor iedereen. Tip! Huur een Solex\, E-step\, FunScooter\, Tandem\, FunBike of TukTuk en rij langs een paar van de prachtige molens. \n\n\n\n \n\n\n\nDe volgende molens in de Bollenstreek doen mee met Nationale Molendag.  \n\n\n\nKlik op de molen voor het programma tijdens de Nationale Molendag \n\n\n\nLisserpoelmolen in Lisse \n\n\n\nZweilandermolen in Warmond \n\n\n\n\n\n\n\nDe Valk (Museummolen) in Leiden \n\n\n\nBroekdijkmolen in Warmond \n\n\n\nOudenmolenhof in Oegstgeest \n\n\n\nStadsmolen in Leiden De Geregtigheid in Katwijk
URL:https://www.villaticas.nl/event/nationale-molendag-2/
END:VEVENT
BEGIN:VEVENT
DTSTART;TZID=Europe/Paris:20230511T193000
DTEND;TZID=Europe/Paris:20230512T000000
DTSTAMP:20260423T001314
CREATED:20230511T165507Z
LAST-MODIFIED:20230511T165508Z
UID:2290-1683833400-1683849600@www.villaticas.nl
SUMMARY:Stinzenwandeling landgoed Calorama
DESCRIPTION:Iedere dinsdagavond in mei is er een rondwandeling op het Landgoed Calorama o.l.v. een ervaren gids. Geïnteresseerden kunnen kennismaken met de geschiedenis\, het landschap en het verhaal van Calorama.Bijzonder zijn met name de waardevolle en vooral kwetsbare stinzenbeplanting en de identiteitsbepalende rol die de bloembollen- en kruidenteelt heeft gespeeld in de historie van de buitenplaats. In mei zijn de stinzen volop in bloei te bewonderen en kleurt en geurt het landgoed prachtig.Tijd: iedere dinsdagavond in mei om 19:30 uur\, start vanaf het Koetshuis aan de Gooweg 33\, NoordwijkTickets: €6\,50 (incl. koffie na afloop bij de oldtimers)foto: Barteld de Jong
URL:https://www.villaticas.nl/event/stinzenwandeling-landgoed-calorama-2/
LOCATION:Landgoed Calorama\, Gooweg 21\, Noordwijk
END:VEVENT
BEGIN:VEVENT
DTSTART;TZID=Europe/Paris:20230511T140000
DTEND;TZID=Europe/Paris:20230511T213000
DTSTAMP:20260423T001314
CREATED:20230511T163418Z
LAST-MODIFIED:20230511T163419Z
UID:2274-1683813600-1683840600@www.villaticas.nl
SUMMARY:Opera aan Zee
DESCRIPTION:Vier conservatoria zullen op één dag hun jonge talenten presenteren in een marathonprogramma\, dat ’s middags om 14h00 start en ’s avonds rond 21h30 eindigt.
URL:https://www.villaticas.nl/event/opera-aan-zee/
LOCATION:Landgoed Calorama\, Gooweg 21\, Noordwijk
END:VEVENT
BEGIN:VEVENT
DTSTART;TZID=UTC:20230506T081500
DTEND;TZID=UTC:20230506T170000
DTSTAMP:20260423T001314
CREATED:20230205T085246Z
LAST-MODIFIED:20230205T085247Z
UID:1433-1683360900-1683392400@www.villaticas.nl
SUMMARY:Bollenwandeling vanuit Katwijk aan Zee
DESCRIPTION:De wandelingen voeren u langs de (hopelijk) bloeiende bollenvelden in onze mooie Bollenstreek. \n\n\n\nU kunt op 6 mei 2023 starten vanaf 08.15 uur.      Er staan 4 routes op het programma: \n\n\n\n35 kilometer\, starttijd tussen 08.15 uur en 09.00 uur \n\n\n\n25 kilometer\, starttijd tussen 09.00 uur en 10.00 uur \n\n\n\n15 kilometer\, starttijd tussen 10.15 uur en 11.15 uur \n\n\n\n7\,5 kilometer\, starttijd tussen 11.30 uur en 13.00 uur \n\n\n\nOnze routes worden volledig bepijld.Het startbureau sluit om 17.00 uur. \n\n\n\nInschrijving: alleen voorinschrijving is mogelijk tot en met 26 april 2023.De kosten bedragen € 8\,- p.p.; dit bedrag zal worden geïncasseerd door iwan.nl.KWbN-leden krijgen € 1\,- korting. Voor kinderen t/m 12 jaar is deelname gratis; inschrijving is wel verplicht. Bij de start wordt u een kopje koffie of thee aangeboden (inclusief).De betaalwijze is automatische incasso. Mocht blijken dat de wandeling geen doorgang kan vinden\, dan zal de incasso niet plaats vinden. De wandeling van 35\, 25 of 15 kilometer is ook geschikt om op te nemen in uw trainingsschema voor één van de vele Vierdaagsen\, die ons land rijk is.De wandeling start vanuit de accommodatie van Atletiekvereniging Rijnsoever\, Olympiaweg 2\, 2221 LB  Katwijk. De accommodatie is te bereiken met het OV:Arriva bus 21\, halte ’s Gravendijckseweg te Noordwijk (vanuit de richting Leiden)Arriva bus 20\, halte ’s Gravendijckseweg te Noordwijk (vanuit de richting Noordwijk)
URL:https://www.villaticas.nl/event/bollenwandeling-vanuit-katwijk-aan-zee/
END:VEVENT
BEGIN:VEVENT
DTSTART;TZID=Europe/Paris:20230506T080000
DTEND;TZID=Europe/Paris:20230506T170000
DTSTAMP:20260423T001314
CREATED:20230219T172450Z
LAST-MODIFIED:20230219T172452Z
UID:1670-1683360000-1683392400@www.villaticas.nl
SUMMARY:Birding op de Golfbaan
DESCRIPTION:Vogelvriendelijk golfbaanbeheer en de NGF Birdwatching DayDe wijze waarop een golfbaan ingericht is en beheerd wordt\, bepaalt welke (vogel)soorten er floreren. Op de jaarlijkse NGF Birdwatching Day voor golfbanen worden golfers en niet-golfers gewezen op de mooie leefgebieden die golfterreinen vormen voor vogels en andere dieren.
URL:https://www.villaticas.nl/event/birding-op-de-golfbaan/
END:VEVENT
BEGIN:VEVENT
DTSTART;TZID=Europe/Paris:20230429T100000
DTEND;TZID=Europe/Paris:20230429T160000
DTSTAMP:20260423T001314
CREATED:20230212T164555Z
LAST-MODIFIED:20230212T164825Z
UID:1561-1682762400-1682784000@www.villaticas.nl
SUMMARY:Boerenmarkt
DESCRIPTION:Op zaterdag 29 april 2023 is er van 10 tot 16 uur een Boerenmarkt op Veldzicht.
URL:https://www.villaticas.nl/event/boerenmarkt/
END:VEVENT
BEGIN:VEVENT
DTSTART;TZID=UTC:20230423T120000
DTEND;TZID=UTC:20230423T170000
DTSTAMP:20260423T001314
CREATED:20230204T135819Z
LAST-MODIFIED:20230204T135820Z
UID:1296-1682251200-1682269200@www.villaticas.nl
SUMMARY:Wijn & Spijs Noordwijk wandeling
DESCRIPTION:Wandel de zondagmiddag door het centrum van een oud vissersdorpje en spot tijdens je wandeling de monumentale vuurtoren! Eindig je dag met lekker uitwaaien op het strand. \n\n\n\n\nZes verrassende gerechten\n\n\n\nZes bijpassende wijnen\n\n\n\nZes keer een échte en complete restaurant ervaring\n\n\n\nLoop deze heerlijke wandeling met behulp van de gratis WijnSpijs App\n\n\n\n\nDe ticketverkoop sluit vrijdagavond voor de wandeling om 22:00
URL:https://www.villaticas.nl/event/wijn-spijs-noordwijk-wandeling/
END:VEVENT
BEGIN:VEVENT
DTSTART;TZID=UTC:20230423T080000
DTEND;TZID=UTC:20230423T170000
DTSTAMP:20260423T001314
CREATED:20230204T131941Z
LAST-MODIFIED:20230204T131942Z
UID:1281-1682236800-1682269200@www.villaticas.nl
SUMMARY:Corso Markt
DESCRIPTION:U kunt hier terecht voor de laatste mode\, mooiste accessoires en lekkerste snacks. Voor ieder wat wils.
URL:https://www.villaticas.nl/event/corso-markt/
END:VEVENT
BEGIN:VEVENT
DTSTART;TZID=UTC:20230422T091500
DTEND;TZID=UTC:20230422T213000
DTSTAMP:20260423T001314
CREATED:20230205T140826Z
LAST-MODIFIED:20230207T183046Z
UID:1479-1682154900-1682199000@www.villaticas.nl
SUMMARY:Corso Bollenstreek
DESCRIPTION:DE ROUTE BLOEMENCORSO BOLLENSTREEK\n\n\n\n\n9.15 uur Noordwijk (vertrek Koningin Wilhelminaboulevard)\n\n\n\n11.30 uur Voorhout (rotonde Jacoba van Beierenlaan)\n\n\n\n12.17 uur tribune Sassenheim\n\n\n\n14.00 uur Sassenheim (vertrek na pauze op de Hoofdstraat)\n\n\n\n14.30 uur tribune Tulperij\n\n\n\n15.15 uur Lisse centrum\n\n\n\n15.30 uur Lisse Keukenhof\n\n\n\n17.00 uur Hillegom centrum\n\n\n\n18.00 uur Bennebroek (19.00 vertrek Linneaueshof)\n\n\n\n20.30 uur Heemstede\n\n\n\n21.30 uur Haarlem\n\n\n\n\nUitgebreide route \n\n\n\nCORSOTRIBUNES MET OVERDEKTE ZITPLAATSEN\n\n\n\nBeleef het Bloemencorso vanaf één van onze corsotribunes. Een lekker beschut plekje\, volledig verzorgd en met schitterend zicht op het voorbij rijdende Bloemencorso. De corsotribunes vind je in Sassenheim\, Lisse en Hillegom. Maak er een echte unieke ervaring en complete beleving van met een lunch\, een wandeltocht door de bollenvelden of een workshop
URL:https://www.villaticas.nl/event/corso-bollenstreek/
CATEGORIES:Bloemen,Culture,Cultuur,Historie,Markt,Romance,Wandelen
END:VEVENT
BEGIN:VEVENT
DTSTART;TZID=Europe/Paris:20230422T080000
DTEND;TZID=Europe/Paris:20230423T170000
DTSTAMP:20260423T001314
CREATED:20230228T142708Z
LAST-MODIFIED:20230228T142709Z
UID:1981-1682150400-1682269200@www.villaticas.nl
SUMMARY:Stoomtrein Katwijk Leiden en Stichting Historisch Brandweermaterieel hebben een gezamenlijke historie
DESCRIPTION:22 en 23 april Stoomtrein Katwijk Leiden en Stichting Historisch Brandweermaterieel hebben een gezamenlijke historie. De Stichting Historisch Brandweermaterieel viert haar 40 jarig jubileum bij ons. Met o.a. antieke brandweerauto’s en de oudste werkende stoombrandspuit. Dit wordt een bijzonder weekend. Houd vanaf eind februari onze website en social mediakanalen in de gaten. Vanwege de verwachte drukte moeten de kaartjes vooraf via de website gekocht worden.
URL:https://www.villaticas.nl/event/stoomtrein-katwijk-leiden-en-stichting-historisch-brandweermaterieel-hebben-een-gezamenlijke-historie/
END:VEVENT
BEGIN:VEVENT
DTSTART;TZID=UTC:20230421T080000
DTEND;TZID=UTC:20230422T170000
DTSTAMP:20260423T001314
CREATED:20230203T144342Z
LAST-MODIFIED:20230203T144344Z
UID:1200-1682064000-1682182800@www.villaticas.nl
SUMMARY:Corso Markt lisse
DESCRIPTION:
URL:https://www.villaticas.nl/event/corso-markt-lisse/
CATEGORIES:Bloemen,Culinair,Cultuur,Markt
END:VEVENT
BEGIN:VEVENT
DTSTART;TZID=UTC:20230416T100000
DTEND;TZID=UTC:20230416T170000
DTSTAMP:20260423T001314
CREATED:20230204T131811Z
LAST-MODIFIED:20230204T131812Z
UID:1279-1681639200-1681664400@www.villaticas.nl
SUMMARY:Gat van Palace Dag markt
DESCRIPTION:U kunt hier terecht voor de laatste mode\, mooiste accessoires en lekkerste snacks. Voor ieder wat wils.
URL:https://www.villaticas.nl/event/gat-van-palace-dag-markt/
END:VEVENT
BEGIN:VEVENT
DTSTART;TZID=UTC:20230416T100000
DTEND;TZID=UTC:20230416T170000
DTSTAMP:20260423T001314
CREATED:20230203T143005Z
LAST-MODIFIED:20230203T143006Z
UID:1190-1681639200-1681664400@www.villaticas.nl
SUMMARY:Toeristenmarkt Vuurtorenplein
DESCRIPTION:De zondagse toeristenmarkt op het Vuurtorenplein. U kunt hier terecht voor de laatste mode\, mooiste accessoires en lekkerste snacks. Voor ieder wat wils. \n\n\n\nWanneer\n\n\n\n\nElke zondag vanaf 9 april 2023 t/m 24 september 2023 10.00 – 17.00 uur
URL:https://www.villaticas.nl/event/toeristenmarkt-vuurtorenplein/
CATEGORIES:Markt
END:VEVENT
END:VCALENDAR