BEGIN:VCALENDAR
VERSION:2.0
PRODID:-//Bed &amp; Breakfast Villaticas - ECPv6.15.20//NONSGML v1.0//EN
CALSCALE:GREGORIAN
METHOD:PUBLISH
X-WR-CALNAME:Bed &amp; Breakfast Villaticas
X-ORIGINAL-URL:https://www.villaticas.nl
X-WR-CALDESC:Evenementen voor Bed &amp; Breakfast Villaticas
REFRESH-INTERVAL;VALUE=DURATION:PT1H
X-Robots-Tag:noindex
X-PUBLISHED-TTL:PT1H
BEGIN:VTIMEZONE
TZID:UTC
BEGIN:STANDARD
TZOFFSETFROM:+0000
TZOFFSETTO:+0000
TZNAME:UTC
DTSTART:20220101T000000
END:STANDARD
END:VTIMEZONE
BEGIN:VTIMEZONE
TZID:Europe/Paris
BEGIN:DAYLIGHT
TZOFFSETFROM:+0100
TZOFFSETTO:+0200
TZNAME:CEST
DTSTART:20220327T010000
END:DAYLIGHT
BEGIN:STANDARD
TZOFFSETFROM:+0200
TZOFFSETTO:+0100
TZNAME:CET
DTSTART:20221030T010000
END:STANDARD
BEGIN:DAYLIGHT
TZOFFSETFROM:+0100
TZOFFSETTO:+0200
TZNAME:CEST
DTSTART:20230326T010000
END:DAYLIGHT
BEGIN:STANDARD
TZOFFSETFROM:+0200
TZOFFSETTO:+0100
TZNAME:CET
DTSTART:20231029T010000
END:STANDARD
BEGIN:DAYLIGHT
TZOFFSETFROM:+0100
TZOFFSETTO:+0200
TZNAME:CEST
DTSTART:20240331T010000
END:DAYLIGHT
BEGIN:STANDARD
TZOFFSETFROM:+0200
TZOFFSETTO:+0100
TZNAME:CET
DTSTART:20241027T010000
END:STANDARD
END:VTIMEZONE
BEGIN:VEVENT
DTSTART;TZID=UTC:20230423T080000
DTEND;TZID=UTC:20230423T170000
DTSTAMP:20260423T001400
CREATED:20230204T131941Z
LAST-MODIFIED:20230204T131942Z
UID:1281-1682236800-1682269200@www.villaticas.nl
SUMMARY:Corso Markt
DESCRIPTION:U kunt hier terecht voor de laatste mode\, mooiste accessoires en lekkerste snacks. Voor ieder wat wils.
URL:https://www.villaticas.nl/event/corso-markt/
END:VEVENT
BEGIN:VEVENT
DTSTART;TZID=UTC:20230422T091500
DTEND;TZID=UTC:20230422T213000
DTSTAMP:20260423T001400
CREATED:20230205T140826Z
LAST-MODIFIED:20230207T183046Z
UID:1479-1682154900-1682199000@www.villaticas.nl
SUMMARY:Corso Bollenstreek
DESCRIPTION:DE ROUTE BLOEMENCORSO BOLLENSTREEK\n\n\n\n\n9.15 uur Noordwijk (vertrek Koningin Wilhelminaboulevard)\n\n\n\n11.30 uur Voorhout (rotonde Jacoba van Beierenlaan)\n\n\n\n12.17 uur tribune Sassenheim\n\n\n\n14.00 uur Sassenheim (vertrek na pauze op de Hoofdstraat)\n\n\n\n14.30 uur tribune Tulperij\n\n\n\n15.15 uur Lisse centrum\n\n\n\n15.30 uur Lisse Keukenhof\n\n\n\n17.00 uur Hillegom centrum\n\n\n\n18.00 uur Bennebroek (19.00 vertrek Linneaueshof)\n\n\n\n20.30 uur Heemstede\n\n\n\n21.30 uur Haarlem\n\n\n\n\nUitgebreide route \n\n\n\nCORSOTRIBUNES MET OVERDEKTE ZITPLAATSEN\n\n\n\nBeleef het Bloemencorso vanaf één van onze corsotribunes. Een lekker beschut plekje\, volledig verzorgd en met schitterend zicht op het voorbij rijdende Bloemencorso. De corsotribunes vind je in Sassenheim\, Lisse en Hillegom. Maak er een echte unieke ervaring en complete beleving van met een lunch\, een wandeltocht door de bollenvelden of een workshop
URL:https://www.villaticas.nl/event/corso-bollenstreek/
CATEGORIES:Bloemen,Culture,Cultuur,Historie,Markt,Romance,Wandelen
END:VEVENT
BEGIN:VEVENT
DTSTART;TZID=Europe/Paris:20230422T080000
DTEND;TZID=Europe/Paris:20230423T170000
DTSTAMP:20260423T001400
CREATED:20230228T142708Z
LAST-MODIFIED:20230228T142709Z
UID:1981-1682150400-1682269200@www.villaticas.nl
SUMMARY:Stoomtrein Katwijk Leiden en Stichting Historisch Brandweermaterieel hebben een gezamenlijke historie
DESCRIPTION:22 en 23 april Stoomtrein Katwijk Leiden en Stichting Historisch Brandweermaterieel hebben een gezamenlijke historie. De Stichting Historisch Brandweermaterieel viert haar 40 jarig jubileum bij ons. Met o.a. antieke brandweerauto’s en de oudste werkende stoombrandspuit. Dit wordt een bijzonder weekend. Houd vanaf eind februari onze website en social mediakanalen in de gaten. Vanwege de verwachte drukte moeten de kaartjes vooraf via de website gekocht worden.
URL:https://www.villaticas.nl/event/stoomtrein-katwijk-leiden-en-stichting-historisch-brandweermaterieel-hebben-een-gezamenlijke-historie/
END:VEVENT
BEGIN:VEVENT
DTSTART;TZID=UTC:20230421T080000
DTEND;TZID=UTC:20230422T170000
DTSTAMP:20260423T001400
CREATED:20230203T144342Z
LAST-MODIFIED:20230203T144344Z
UID:1200-1682064000-1682182800@www.villaticas.nl
SUMMARY:Corso Markt lisse
DESCRIPTION:
URL:https://www.villaticas.nl/event/corso-markt-lisse/
CATEGORIES:Bloemen,Culinair,Cultuur,Markt
END:VEVENT
BEGIN:VEVENT
DTSTART;TZID=UTC:20230416T100000
DTEND;TZID=UTC:20230416T170000
DTSTAMP:20260423T001400
CREATED:20230204T131811Z
LAST-MODIFIED:20230204T131812Z
UID:1279-1681639200-1681664400@www.villaticas.nl
SUMMARY:Gat van Palace Dag markt
DESCRIPTION:U kunt hier terecht voor de laatste mode\, mooiste accessoires en lekkerste snacks. Voor ieder wat wils.
URL:https://www.villaticas.nl/event/gat-van-palace-dag-markt/
END:VEVENT
BEGIN:VEVENT
DTSTART;TZID=UTC:20230416T100000
DTEND;TZID=UTC:20230416T170000
DTSTAMP:20260423T001400
CREATED:20230203T143005Z
LAST-MODIFIED:20230203T143006Z
UID:1190-1681639200-1681664400@www.villaticas.nl
SUMMARY:Toeristenmarkt Vuurtorenplein
DESCRIPTION:De zondagse toeristenmarkt op het Vuurtorenplein. U kunt hier terecht voor de laatste mode\, mooiste accessoires en lekkerste snacks. Voor ieder wat wils. \n\n\n\nWanneer\n\n\n\n\nElke zondag vanaf 9 april 2023 t/m 24 september 2023 10.00 – 17.00 uur
URL:https://www.villaticas.nl/event/toeristenmarkt-vuurtorenplein/
CATEGORIES:Markt
END:VEVENT
BEGIN:VEVENT
DTSTART;TZID=UTC:20230416T080000
DTEND;TZID=UTC:20230416T170000
DTSTAMP:20260423T001400
CREATED:20230204T122457Z
LAST-MODIFIED:20230204T122458Z
UID:1010-1681632000-1681664400@www.villaticas.nl
SUMMARY:Hollen door de BollenHollen
DESCRIPTION:zondag 16 april 2023 – Hollen door de BollenHollen door de Bollen is een hardloop- en wandelevenement in de Bollenstreek! De volledige opbrengst gaat naar Stichting Roparun\, die zorg voor kinderen en volwassen met kanker ondersteunt.Locatie: AV De Spartaan\, Spekkelaan 8\, LisseKlik hier om je in te schrijven!
URL:https://www.villaticas.nl/event/hollen-door-de-bollenhollen/
END:VEVENT
BEGIN:VEVENT
DTSTART;TZID=Europe/Paris:20230415T120000
DTEND;TZID=Europe/Paris:20230415T120000
DTSTAMP:20260423T001400
CREATED:20230228T233154Z
LAST-MODIFIED:20230228T233155Z
UID:1632-1681560000-1681560000@www.villaticas.nl
SUMMARY:Beers & Tulips
DESCRIPTION:Zaterdag 15 april staat in het teken van bier\, bloemen en gezelligheid tijdens het festival Beers & Tulips 2023! Na vijf super geslaagde edities\, organiseren MAMA en Como & Co op zaterdag 15 april 2022 voor de zesde keer het gratis festival Beers & Tulips. Een uniek festival waarbij de lekkerste speciaalbieren en de trots van de Bollenstreek – vers gekleurde bloemen – hand in hand gaan.
URL:https://www.villaticas.nl/event/beers-tulips/
END:VEVENT
BEGIN:VEVENT
DTSTART;TZID=UTC:20230415T100000
DTEND;TZID=UTC:20230415T170000
DTSTAMP:20260423T001400
CREATED:20230203T143132Z
LAST-MODIFIED:20230204T123215Z
UID:1188-1681552800-1681578000@www.villaticas.nl
SUMMARY:Toeristenmarkt Vuurtorenplein
DESCRIPTION:De zondagse toeristenmarkt op het Vuurtorenplein. U kunt hier terecht voor de laatste mode\, mooiste accessoires en lekkerste snacks. Voor ieder wat wils. \n\n\n\n\n\n\n\n\nShow MoreShow Less\n\n\n\n\n\n\n\n\n\nShow MoreShow Less\n\n\n\n\n\n\n\n\n\nShow MoreShow Less\n\n\n\n\nWanneer\n\n\n\n\nElke zondag vanaf 9 april 2023 t/m 24 september 2023 10.00 – 17.00 uur\n\n\n\n\n\n\n\n\n\n\n\n\n\n\n\n\n\n\n\n\n\n\nWhatsApp
URL:https://www.villaticas.nl/event/toeristenmarkt-vuurtorenplein-2/
CATEGORIES:Markt
END:VEVENT
BEGIN:VEVENT
DTSTART;TZID=UTC:20230415T080000
DTEND;TZID=UTC:20230416T170000
DTSTAMP:20260423T001400
CREATED:20230202T152935Z
LAST-MODIFIED:20230204T164852Z
UID:1007-1681545600-1681664400@www.villaticas.nl
SUMMARY:Mozaïek wedstrijd Bollenstreek
DESCRIPTION:zaterdag 15 en zondag 16 april 2023 – Mozaïek wedstrijd BollenstreekIn Lisse staan prachtige mozaïeken gemaakt door bedrijven en verenigingen uit de Bollenstreek. \n\n\n\n40 mozaïek bloemstukken staan verspreid door Lisse opgesteld\, deze kunstwerken zijn door iedereen te bewonderen.
URL:https://www.villaticas.nl/event/mozaiek-wedstrijd-bollenstreek/
END:VEVENT
BEGIN:VEVENT
DTSTART;TZID=UTC:20230415T080000
DTEND;TZID=UTC:20230415T170000
DTSTAMP:20260423T001400
CREATED:20230203T143817Z
LAST-MODIFIED:20230203T143818Z
UID:1195-1681545600-1681578000@www.villaticas.nl
SUMMARY:NSL Bloemenwandeling 2023
DESCRIPTION:De atletiekvereniging NSL (Noordwijkerhoutse Strandlopers) organiseert  in samenwerking met VVV Noordwijkerhout de jaarlijkse bloemen wandeling. U kunt weer genieten van nieuwe wandelroutes langs de meest kleurrijke bloemenvelden in Noordwijkerhout en omgeving. Er zullen volop kleuren en geuren te bewonderen zijn.  Afstanden zijn 10\, 20 en 30 KM \n\n\n\nVVV NoordwijkerhoutDorpsstraat 82211 GC Noordwijkerhout \n\n\n\n \n\n\n\n\nStuur een e-mail\n\n\n\nBel: 06 5116 4965\n\n\n\nBezoek de website
URL:https://www.villaticas.nl/event/nsl-bloemenwandeling-2023/
END:VEVENT
BEGIN:VEVENT
DTSTART;TZID=UTC:20230414T103000
DTEND;TZID=UTC:20230414T103000
DTSTAMP:20260423T001400
CREATED:20230203T144128Z
LAST-MODIFIED:20230204T171225Z
UID:1198-1681468200-1681468200@www.villaticas.nl
SUMMARY:Duinwandeling met boswachter Joël Haasnoot - Staatsbosbeheer
DESCRIPTION:Wandelen door robuuste duinen\, weidse dennenbossen en over het lange zandstrand van Noordwijk. De zuivere zeelucht inademen. Je loopt samen in een groep onder leiding van boswachter Joël Haasnoot. Heerlijk uitwaaien en rust vinden. Stevige schoenen en all weather kleding is een must. Eerder nam Boswachter Joël Haasnoot ons al even mee\, bekijk hier het filmpje. \n\n\n\nReserveren kan via een e-mail naar info@noordwijk.info of aan de balie van het VVV Noordwijk\, Hoofdstraat 129. \n\n\n\nDe start is vanaf Strandpaviljoen De Zeemeeuw. Het maximaal aantal deelnemers is 15\, dus wacht niet te lang met aanmelden! \n\n\n\nWanneer\n\n\n\n\n\n\n\n\nVrijdag 14 april 2023om 10.30 uur
URL:https://www.villaticas.nl/event/duinwandeling-met-boswachter-joel-haasnoot-staatsbosbeheer/
CATEGORIES:Natuur,Sportief,Strand
END:VEVENT
BEGIN:VEVENT
DTSTART;TZID=UTC:20230409T100000
DTEND;TZID=UTC:20230410T170000
DTSTAMP:20260423T001400
CREATED:20230204T131616Z
LAST-MODIFIED:20230204T131616Z
UID:1277-1681034400-1681146000@www.villaticas.nl
SUMMARY:Paasmarkt Palaceplein
DESCRIPTION:U kunt hier terecht voor de laatste mode\, mooiste accessoires en lekkerste snacks. Voor ieder wat wils.
URL:https://www.villaticas.nl/event/paasmarkt-palaceplein/
END:VEVENT
BEGIN:VEVENT
DTSTART;TZID=UTC:20230409T100000
DTEND;TZID=UTC:20230409T170000
DTSTAMP:20260423T001400
CREATED:20230204T131337Z
LAST-MODIFIED:20230204T171049Z
UID:1275-1681034400-1681059600@www.villaticas.nl
SUMMARY:Toeristenmarkt Vuurtorenplein
DESCRIPTION:De zondagse toeristenmarkt op het Vuurtorenplein. U kunt hier terecht voor de laatste mode\, mooiste accessoires en lekkerste snacks. Voor ieder wat wils.
URL:https://www.villaticas.nl/event/toeristenmarkt-vuurtorenplein-3/
END:VEVENT
BEGIN:VEVENT
DTSTART;TZID=Europe/Paris:20230409T080000
DTEND;TZID=Europe/Paris:20230514T170000
DTSTAMP:20260423T001400
CREATED:20230301T123306Z
LAST-MODIFIED:20230301T124334Z
UID:2054-1681027200-1684083600@www.villaticas.nl
SUMMARY:Tulpenvelden
DESCRIPTION:Tulpenvelden verwachte bloei half april t/m half mei \n\n\n\n \n\n\n\nLet op! De bloei van de voorjaarsbloemen is afhankelijk van meerdere factoren. Het weer en het moment dat de kweker de bloem van de steel haalt hebben invloed op de bloemenvelden. Bij Keukenhof en de andere showtuinen wordt rekening gehouden met verschillende weersomstandigheden en worden de bloemen niet van de steel gehaald. Hierdoor bloeien de bloemen bij de bloemenattracties het gehele seizoen.
URL:https://www.villaticas.nl/event/tulpenvelden/
END:VEVENT
BEGIN:VEVENT
DTSTART;TZID=UTC:20230326T130000
DTEND;TZID=UTC:20230326T170000
DTSTAMP:20260423T001400
CREATED:20230203T142243Z
LAST-MODIFIED:20230204T164237Z
UID:1185-1679835600-1679850000@www.villaticas.nl
SUMMARY:Wijn Festival Hillegom
DESCRIPTION:Gestart wordt om 12.30 uur vanaf de Oude Pomp\, waar de deelnemers  zijn of haar route krijgen uitgereikt. Dan ga je heerlijk genieten van een mooi glas wijn of een bubbel\, met een bijpassend gerechtje erbij en ga je naar drie kwartier naar de volgende locatie waar weer een ander glas met een hapje klaarstaat. \n\n\n\nKaarten zijn te verkrijgen bij Vivant Evers aan de Mariastraat 2 in Hillegom of Eetcafé Zomerzorg aan de Meerlaan 70 in Hillegom. Voor meer informatie: info@ac-media.nl of 0651841259.
URL:https://www.villaticas.nl/event/wijn-festival-hillegom/
END:VEVENT
BEGIN:VEVENT
DTSTART;TZID=Europe/Paris:20230326T080000
DTEND;TZID=Europe/Paris:20230326T170000
DTSTAMP:20260423T001400
CREATED:20230219T102033Z
LAST-MODIFIED:20230219T103802Z
UID:1614-1679817600-1679850000@www.villaticas.nl
SUMMARY:De Omloop van Zandvoort de start van het wielerseizoen
DESCRIPTION:Op zondag 26 maart 2023 beleef jij een fantastische dag bij de Omloop van Zandvoort. De start en finish zijn op het CM.com Circuit Zandvoort. De deelnemers van alle afstanden kunnen tegelijkertijd van start gaan. \n\n\n\n80 km door het duingebied langs de bollenvelden  \n\n\n\nDe route over 80 km loopt door het mooie duingebied naar het zuiden. Langs de bollenvelden van Hillegom en Lisse komen de fietsers bij de eerste pitstop\, bij IJs- en Skeelerclub Lisserbroek. Via mooie wegen langs Nieuw-Vennep en de Haarlemmermeerpolder wordt Restaurant ’t Fort in Vijfhuizen bereikt\, de tweede pitstop. De mooie lus rondom Haarlem brengt de deelnemers van de 80 km langs Spaarndam\, Santpoort-Noord en Bloemendaal. De deelnemers kunnen daarna lekker op de pedalen staan voor de laatste kilometers richting de finish op het Formule 1-circuit. \n\n\n\n120 km Na de mooie kilometers door het duingebied en langs de bollenvelden\, is de eerste pitstop van de 120 km ook in Lisserbroek \n\n\n\nDe eerste 30 km van de langste afstand van de Omloop van Zandvoort is gelijk aan die van de 80 km. Na de mooie kilometers door het duingebied en langs de bollenvelden\, is de eerste pitstop van de 120 km ook in Lisserbroek. De 120 km-fietsers zetten koers in oostelijke richting om een lus te maken om de Westeinderplassen. Bij het clubhuis van UWTC in Uithoorn maken de deelnemers de tweede pitstop. Even lekker bijtanken om vervolgens weer verder te genieten van deze toertocht\, die ons ook kennis laat maken met het Groene Hart. Een heerlijke plek om het nieuwe fietsseizoen te beginnen!Deze 120 km-route heeft een beetje internationale allure\, want er wordt om Luchthaven Schiphol heen gefietst\, voordat de deelnemers het fort bij Vijfhuizen bereiken voor de laatste pitstop. De lus rondom Haarlem brengt de deelnemers aan langs Spaarndam\, Santpoort-Noord en Bloemendaal. Via het prachtige duingebied passeren de fietsers Bloemendaal aan Zee voordat zij op de pedalen gaan staan voor de laatste kilometers naar de finish op het Formule 1-circuit.
URL:https://www.villaticas.nl/event/de-omloop-van-zandvoort-de-start-van-het-wielerseizoen/
END:VEVENT
BEGIN:VEVENT
DTSTART;TZID=UTC:20230325T090000
DTEND;TZID=UTC:20230325T170000
DTSTAMP:20260423T001400
CREATED:20230204T133913Z
LAST-MODIFIED:20230204T133914Z
UID:1291-1679734800-1679763600@www.villaticas.nl
SUMMARY:De AGU ‘8 van Noordwijk’ 
DESCRIPTION:De AGU ‘8 van Noordwijk’ is het jaarlijkse evenement dat georganiseerd wordt door MBC de NoordBikers. Een marathon training waarbij er 8 volle ronden over het parcours worden afgelegd. Voor iedere deelnemer een uitdaging en een meetpunt om te zien waar hij of zij staat zo vroeg in het seizoen. \n\n\n\nOp zaterdag 25 maart 2023 zullen om 09.00 uur exact de eerste deelnemers van start gaan. Daarna volgt elke 30 seconden een volgende groep. Er doen maximaal 80 deelnemers mee.
URL:https://www.villaticas.nl/event/de-agu-8-van-noordwijk/
END:VEVENT
BEGIN:VEVENT
DTSTART;TZID=UTC:20230323T080000
DTEND;TZID=UTC:20230514T183000
DTSTAMP:20260423T001400
CREATED:20230202T154814Z
LAST-MODIFIED:20230202T155059Z
UID:983-1679558400-1684089000@www.villaticas.nl
SUMMARY:keukenhof
DESCRIPTION:Keukenhof \n\n\n\nBezoek het Keukenhof vanuit Villaticas met de fiets. Fiets door de bloemenvelden naar de kleurrijkste bloemententoonstelling van de wereld! Vaar langs de bollenvelden of beleef het vanuit de lucht met een helicoptervlucht. \n\n\n\nDagelijks geopend in het voorjaar.
URL:https://www.villaticas.nl/event/keukenhof/
CATEGORIES:Bloemen,Sportief
END:VEVENT
BEGIN:VEVENT
DTSTART;TZID=Europe/Paris:20230319T080000
DTEND;TZID=Europe/Paris:20230423T170000
DTSTAMP:20260423T001400
CREATED:20230301T122733Z
LAST-MODIFIED:20230301T124516Z
UID:2049-1679212800-1682269200@www.villaticas.nl
SUMMARY:Narcissenvelden
DESCRIPTION:Voorjaars bloemen  \n\n\n\nNarcissenvelden eind maart t/m eind april
URL:https://www.villaticas.nl/event/narcissenvelden/
LOCATION:Bollenstreek
END:VEVENT
BEGIN:VEVENT
DTSTART;TZID=Europe/Paris:20230315T080000
DTEND;TZID=Europe/Paris:20230430T170000
DTSTAMP:20260423T001400
CREATED:20230301T123019Z
LAST-MODIFIED:20230301T123020Z
UID:2052-1678867200-1682874000@www.villaticas.nl
SUMMARY:Hyacintenvelden
DESCRIPTION:Verwachte bloei eind maart tot eind april  \n\n\n\n* Let op! De bloei van de voorjaarsbloemen is afhankelijk van meerdere factoren. Het weer en het moment dat de kweker de bloem van de steel haalt hebben invloed op de bloemenvelden. Bij Keukenhof en de andere showtuinen wordt rekening gehouden met verschillende weersomstandigheden en worden de bloemen niet van de steel gehaald. Hierdoor bloeien de bloemen bij de bloemenattracties het gehele seizoen.
URL:https://www.villaticas.nl/event/hyacintenvelden/
END:VEVENT
BEGIN:VEVENT
DTSTART;TZID=UTC:20230312T100000
DTEND;TZID=UTC:20230312T170000
DTSTAMP:20260423T001400
CREATED:20230203T141048Z
LAST-MODIFIED:20230203T141049Z
UID:1180-1678615200-1678640400@www.villaticas.nl
SUMMARY:Hollands Duin Trail
DESCRIPTION:Laat je verrassen door deze uitdagende bijzonder trail in het duingebied rond Noordwijk.Kies uit 10-20-30km Trails en geniet met ons mee met onze 6e editie
URL:https://www.villaticas.nl/event/hollands-duin-trail-2/
END:VEVENT
BEGIN:VEVENT
DTSTART;TZID=UTC:20230311T073000
DTEND;TZID=UTC:20230311T093000
DTSTAMP:20260423T001400
CREATED:20230203T100520Z
LAST-MODIFIED:20230203T100521Z
UID:1157-1678519800-1678527000@www.villaticas.nl
SUMMARY:Cursus Vogelgeluiden voor beginners
DESCRIPTION:
URL:https://www.villaticas.nl/event/cursus-vogelgeluiden-voor-beginners/
END:VEVENT
BEGIN:VEVENT
DTSTART;TZID=UTC:20230226T110000
DTEND;TZID=UTC:20230226T170000
DTSTAMP:20260423T001400
CREATED:20230204T230951Z
LAST-MODIFIED:20230204T230952Z
UID:1422-1677409200-1677430800@www.villaticas.nl
SUMMARY:NederstrandLoop
DESCRIPTION:Een fantastische (wedstrijd-)loop door de duinen en over het Noordzeestrand! Er is een korte afstand (+/- 7\,7 km) en een lange afstand (+/- 15\,5 km)\, respectievelijk 1 of 2 rondes
URL:https://www.villaticas.nl/event/nederstrandloop/
END:VEVENT
BEGIN:VEVENT
DTSTART;TZID=Europe/Paris:20230224T193000
DTEND;TZID=Europe/Paris:20230226T170000
DTSTAMP:20260423T001400
CREATED:20230219T095119Z
LAST-MODIFIED:20230219T095321Z
UID:1608-1677267000-1677430800@www.villaticas.nl
SUMMARY:Landelijke Sterrenkijkdagen op 24\, 25 en 26 februari 2023
DESCRIPTION:Komende maand is Sterrenwacht Foucault weer open tijdens de Nationale Sterrenkijkdagen.Vanaf 19:30 staan de telescopen op vrijdag 24 en zaterdag 25 Februari gericht op de smalle Maansikkel\, Venus\, Jupiter en Mars. Verder zijn de Plejaden en de Orionnevel waarin sterren worden geboren\, te zien. Bijgevoegde foto van het centrale deel van de Orionnevel met het Trappezium\, is gemaakt met een grote telescopen van de Sterrenwacht. Voor de geïnteresseerden wordt ook een presentatie gegeven over al dit moois en de gevolgen van lichthinder voor mens en dier.http://sterrenwachtfoucault.nl/
URL:https://www.villaticas.nl/event/landelijke-sterrenkijkdagen-op-24-25-en-26-februari-2023/
END:VEVENT
BEGIN:VEVENT
DTSTART;TZID=UTC:20230217T193000
DTEND;TZID=UTC:20230217T220000
DTSTAMP:20260423T001400
CREATED:20230204T134953Z
LAST-MODIFIED:20230204T134954Z
UID:1293-1676662200-1676671200@www.villaticas.nl
SUMMARY:verlichte Carnavals-optocht van de Duin en Bollenstreek
DESCRIPTION:Dé verlichte Carnavals-optocht van de Duin en Bollenstreek. Route (onder voorbehoud):   \n\n\n\n\nSchiestraat  – Heilige Geestweg – Van Limburg Stirumstraat – Lindenhofstraat – Boekerslootlaan  – Losplaatsweg  – Achterzeeweg  – Lijnbaanweg – Zeestraat – Molenstraat – Boerenburgerweg – Van de Mortelstraat – Duinwetering – Einde bij parkeerplaats van het Northgo College  
URL:https://www.villaticas.nl/event/verlichte-carnavals-optocht-van-de-duin-en-bollenstreek/
END:VEVENT
BEGIN:VEVENT
DTSTART;TZID=UTC:20230212T080000
DTEND;TZID=UTC:20230212T103000
DTSTAMP:20260423T001400
CREATED:20230203T095340Z
LAST-MODIFIED:20230203T095341Z
UID:1154-1676188800-1676197800@www.villaticas.nl
SUMMARY:Wandelen met natuurgidsen voor vroege vogels
DESCRIPTION:
URL:https://www.villaticas.nl/event/wandelen-met-natuurgidsen-voor-vroege-vogels/
END:VEVENT
BEGIN:VEVENT
DTSTART;TZID=UTC:20230205T080000
DTEND;TZID=UTC:20230208T170000
DTSTAMP:20260423T001400
CREATED:20230204T225249Z
LAST-MODIFIED:20230204T225251Z
UID:1420-1675584000-1675875600@www.villaticas.nl
SUMMARY:Olmenhorst Natuurspeurtocht
DESCRIPTION:Kom speuren op het landgoed! Een leerzame speurtocht voor jong en oud.NatuurspeurtochtSlimme speurders opgelet! Als je door de boomgaarden wilt struinen en meer over de natuur op het landgoed wilt leren\, dan is een natuurspeurtocht echt iets voor jou.  Ontdek zelf de hoekjes en gaatjes van het landgoed. Dus houd je van natuur\, ben jij een echte speurder en heb je zin op door de planten\, velden en boomgaarden heen te speuren terwijl je vragen oplost? Doe dan mee aan de speurtocht. Je krijgt een routebeschrijving en onderweg acht vragen om op te lossen. Er zijn twee speurtochten. Een van circa 30 minuten en een van 1 uur en 15 minuten. De speurtocht is in de Fruitloods te koop (€2\,50)en de start is op diezelfde plek. Veel plezier! Op zoek naar meer wandelplezier? Voor de echte natuurliefhebber zijn er op de Olmenhorst maar liefst 5 wandelroutes te vinden.WanneerDagelijksOnze Fruitloods blijft dagelijks van 10:00 – 17:00 uur geopend voor afhalen en winkelen.
URL:https://www.villaticas.nl/event/olmenhorst-natuurspeurtocht/
END:VEVENT
BEGIN:VEVENT
DTSTART;TZID=UTC:20230203T080000
DTEND;TZID=UTC:20230203T170000
DTSTAMP:20260423T001400
CREATED:20230203T143439Z
LAST-MODIFIED:20230203T143440Z
UID:1193-1675411200-1675443600@www.villaticas.nl
SUMMARY:Vier de lente festival Hillegom
DESCRIPTION:Kom dansen tussen de oerhollandse tulpenvelden en proost met je vrienden op 14 april in Hillegom!
URL:https://www.villaticas.nl/event/vier-de-lente-festival-hillegom/
END:VEVENT
END:VCALENDAR