BEGIN:VCALENDAR
VERSION:2.0
PRODID:-//Bed &amp; Breakfast Villaticas - ECPv6.15.20//NONSGML v1.0//EN
CALSCALE:GREGORIAN
METHOD:PUBLISH
X-WR-CALNAME:Bed &amp; Breakfast Villaticas
X-ORIGINAL-URL:https://www.villaticas.nl
X-WR-CALDESC:Evenementen voor Bed &amp; Breakfast Villaticas
REFRESH-INTERVAL;VALUE=DURATION:PT1H
X-Robots-Tag:noindex
X-PUBLISHED-TTL:PT1H
BEGIN:VTIMEZONE
TZID:Europe/Paris
BEGIN:DAYLIGHT
TZOFFSETFROM:+0100
TZOFFSETTO:+0200
TZNAME:CEST
DTSTART:20220327T010000
END:DAYLIGHT
BEGIN:STANDARD
TZOFFSETFROM:+0200
TZOFFSETTO:+0100
TZNAME:CET
DTSTART:20221030T010000
END:STANDARD
BEGIN:DAYLIGHT
TZOFFSETFROM:+0100
TZOFFSETTO:+0200
TZNAME:CEST
DTSTART:20230326T010000
END:DAYLIGHT
BEGIN:STANDARD
TZOFFSETFROM:+0200
TZOFFSETTO:+0100
TZNAME:CET
DTSTART:20231029T010000
END:STANDARD
BEGIN:DAYLIGHT
TZOFFSETFROM:+0100
TZOFFSETTO:+0200
TZNAME:CEST
DTSTART:20240331T010000
END:DAYLIGHT
BEGIN:STANDARD
TZOFFSETFROM:+0200
TZOFFSETTO:+0100
TZNAME:CET
DTSTART:20241027T010000
END:STANDARD
BEGIN:DAYLIGHT
TZOFFSETFROM:+0100
TZOFFSETTO:+0200
TZNAME:CEST
DTSTART:20250330T010000
END:DAYLIGHT
BEGIN:STANDARD
TZOFFSETFROM:+0200
TZOFFSETTO:+0100
TZNAME:CET
DTSTART:20251026T010000
END:STANDARD
END:VTIMEZONE
BEGIN:VTIMEZONE
TZID:UTC
BEGIN:STANDARD
TZOFFSETFROM:+0000
TZOFFSETTO:+0000
TZNAME:UTC
DTSTART:20220101T000000
END:STANDARD
END:VTIMEZONE
BEGIN:VEVENT
DTSTART;TZID=Europe/Paris:20240114T080000
DTEND;TZID=Europe/Paris:20240114T170000
DTSTAMP:20260420T220712
CREATED:20240107T151720Z
LAST-MODIFIED:20240107T151722Z
UID:3004-1705219200-1705251600@www.villaticas.nl
SUMMARY:trailrun 20-35 KM Langevelderslag
DESCRIPTION:Begeleide trailrun door de Waterleidingduinen. Een heel bijzonder gebied om te trailen geen paden 6000 herten.We lopen twee routes: een lus van 20km en voor de liefhebbers vervolgens een lus van 15km. tussendoor stop met koek & zopie.
URL:https://www.villaticas.nl/event/trailrun-20-35-km-langevelderslag/
END:VEVENT
BEGIN:VEVENT
DTSTART;TZID=Europe/Paris:20240113T080000
DTEND;TZID=Europe/Paris:20240113T170000
DTSTAMP:20260420T220712
CREATED:20231217T204328Z
LAST-MODIFIED:20231217T204329Z
UID:2992-1705132800-1705165200@www.villaticas.nl
SUMMARY:Winterse elf grachten Steptocht
DESCRIPTION:Ontdek de gezelligheid en laat je meeslepen door de winterse sferen met de 11 grachtentocht van Op Step. \n\n\n\nEen Sportieve Beleving \n\n\n\nStap op de step en doe mee met dit sportieve winteruitje. Verken het bruisende centrum van Leiden op een unieke manier. \n\n\n\nLangs 11 Leidse Grachten \n\n\n\nIn plaats van de Friese 11 steden\, cruis je langs 11 prachtige Leidse grachten. Geniet van de schilderachtige omgeving terwijl je op de step avontuurlijk voortbeweegt. \n\n\n\nStempelposten met Culinaire Verwennerij \n\n\n\nErvaar de Leidse tocht der tochten en stempel 5 keer af bij gezellige kroegen en restaurants. Bij elke stempelpost staat iets lekkers voor je klaar\, zoals: \n\n\n\n\nGoede kop snert\n\n\n\nBroodje warme worst\n\n\n\nJagermeister\n\n\n\nWarme choco (optioneel met rum)\n\n\n\n\nHeus Kruisje als Beloning \n\n\n\nVoltooi de tocht binnen de gestelde tijd en verdien een welverdiend kruisje. De uitreiking vindt plaats in de oude gasfabriek aan het Papegaaisbolwerk 20. \n\n\n\nOptioneel Genieten van Stamppotbuffet \n\n\n\nMaak je dag compleet met een optioneel stamppotbuffet voor €14\,95. Het buffet is beschikbaar in de oude gasfabriek op dezelfde dag als de 11 Grachtentocht. \n\n\n\nWanneer\n\n\n\n\nZaterdag 6 januari 2024\n\n\n\nZondag 7 januari 2024\n\n\n\nZaterdag 13 januari 2024
URL:https://www.villaticas.nl/event/winterse-elf-grachten-steptocht/
END:VEVENT
BEGIN:VEVENT
DTSTART;TZID=Europe/Paris:20240106T133000
DTEND;TZID=Europe/Paris:20240107T180000
DTSTAMP:20260420T220712
CREATED:20231217T204132Z
LAST-MODIFIED:20231217T204219Z
UID:2988-1704547800-1704650400@www.villaticas.nl
SUMMARY:Winterse elf grachten steptocht
DESCRIPTION:Ontdek de gezelligheid en laat je meeslepen door de winterse sferen met de 11 grachtentocht van Op Step. \n\n\n\nEen Sportieve Beleving \n\n\n\nStap op de step en doe mee met dit sportieve winteruitje. Verken het bruisende centrum van Leiden op een unieke manier. \n\n\n\nLangs 11 Leidse Grachten \n\n\n\nIn plaats van de Friese 11 steden\, cruis je langs 11 prachtige Leidse grachten. Geniet van de schilderachtige omgeving terwijl je op de step avontuurlijk voortbeweegt. \n\n\n\nStempelposten met Culinaire Verwennerij \n\n\n\nErvaar de Leidse tocht der tochten en stempel 5 keer af bij gezellige kroegen en restaurants. Bij elke stempelpost staat iets lekkers voor je klaar\, zoals: \n\n\n\n\nGoede kop snert\n\n\n\nBroodje warme worst\n\n\n\nJagermeister\n\n\n\nWarme choco (optioneel met rum)\n\n\n\n\nHeus Kruisje als Beloning \n\n\n\nVoltooi de tocht binnen de gestelde tijd en verdien een welverdiend kruisje. De uitreiking vindt plaats in de oude gasfabriek aan het Papegaaisbolwerk 20. \n\n\n\nOptioneel Genieten van Stamppotbuffet \n\n\n\nMaak je dag compleet met een optioneel stamppotbuffet voor €14\,95. Het buffet is beschikbaar in de oude gasfabriek op dezelfde dag als de 11 Grachtentocht. \n\n\n\nWanneer\n\n\n\n\nZaterdag 6 januari 2024\n\n\n\nZondag 7 januari 2024\n\n\n\nZaterdag 13 januari 2024
URL:https://www.villaticas.nl/event/winterse-11grachten-steptocht/
END:VEVENT
BEGIN:VEVENT
DTSTART;TZID=Europe/Paris:20240106T100000
DTEND;TZID=Europe/Paris:20240106T120000
DTSTAMP:20260420T220712
CREATED:20231122T095124Z
LAST-MODIFIED:20231122T095125Z
UID:2904-1704535200-1704542400@www.villaticas.nl
SUMMARY:Inloopochtend bij het Jan Verwey Natuurcentrum
DESCRIPTION:
URL:https://www.villaticas.nl/event/inloopochtend-bij-het-jan-verwey-natuurcentrum-2/
LOCATION:Zilverschoon 20\, 2201 SX Noordwijk\, Zilverschoon 20\, Noordwijk\, 2201SX\, Nederland
END:VEVENT
BEGIN:VEVENT
DTSTART;TZID=Europe/Paris:20240101T150000
DTEND;TZID=Europe/Paris:20240101T170000
DTSTAMP:20260420T220712
CREATED:20231109T182652Z
LAST-MODIFIED:20231109T182653Z
UID:2851-1704121200-1704128400@www.villaticas.nl
SUMMARY:nieuwjaarsduik Langevelderslag
DESCRIPTION:Kan je er geen genoeg van krijgen neem je nog een duik of heb je uitgeslapen.
URL:https://www.villaticas.nl/event/nieuwjaarsduik-langevelderslag/
END:VEVENT
BEGIN:VEVENT
DTSTART;TZID=Europe/Paris:20240101T113000
DTEND;TZID=Europe/Paris:20240101T130000
DTSTAMP:20260420T220712
CREATED:20231109T182219Z
LAST-MODIFIED:20231213T160354Z
UID:2849-1704108600-1704114000@www.villaticas.nl
SUMMARY:nieuwjaarsduik bij de Vuurtoren
DESCRIPTION:Om 13:00 uur start de Nieuwjaarsduik in Noordwijk ter hoogte van de vuurtoren bij strandpaviljoen De Zeemeeuw. Inschrijven kan vanaf 11.30 uur op het strand voor de Zeemeeuw. Er is een maximum van 1.000 duikers. De kosten zijn 2 euro per persoon (Let op: geen pin alleen contant).
URL:https://www.villaticas.nl/event/nieuwjaarsduik-bij-de-vuurtoren/
END:VEVENT
BEGIN:VEVENT
DTSTART;TZID=Europe/Paris:20231227T080000
DTEND;TZID=Europe/Paris:20231230T170000
DTSTAMP:20260420T220712
CREATED:20230228T142435Z
LAST-MODIFIED:20230228T233110Z
UID:1978-1703664000-1703955600@www.villaticas.nl
SUMMARY:Stoomtrein  Winterritten. Sfeervolle ritten met dampende stoomwolken en lekkere oliebollen.
DESCRIPTION:27 t/m 30 decemberWinterritten. Sfeervolle ritten met dampende stoomwolken en lekkere oliebollen.
URL:https://www.villaticas.nl/event/stoomtrein-winterritten-sfeervolle-ritten-met-dampende-stoomwolken-en-lekkere-oliebollen/
END:VEVENT
BEGIN:VEVENT
DTSTART;TZID=Europe/Paris:20231227T080000
DTEND;TZID=Europe/Paris:20231227T170000
DTSTAMP:20260420T220712
CREATED:20230607T175900Z
LAST-MODIFIED:20230613T182833Z
UID:2425-1703664000-1703696400@www.villaticas.nl
SUMMARY:weekmarkt leiden woensdag
DESCRIPTION:CENTRUM\n\n\n\n: WO 8:00 – 17:00 UUR\n\n\n\nElke woensdag staan de marktkooplui voor je klaar op in het centrum van Leiden. De markt bestaat uit verschillende kramen\, verspreid over de Botermarkt\, Vismarkt\, Aalmarkt en Nieuwe Rijn. Kortom\, voor ieder wat wils
URL:https://www.villaticas.nl/event/weekmarkt-leiden-woensdag-2/
END:VEVENT
BEGIN:VEVENT
DTSTART;TZID=Europe/Paris:20231224T230000
DTEND;TZID=Europe/Paris:20231224T230000
DTSTAMP:20260420T220712
CREATED:20231109T191604Z
LAST-MODIFIED:20231109T192151Z
UID:2866-1703458800-1703458800@www.villaticas.nl
SUMMARY:Kerstsamenzang Haarlem
DESCRIPTION:Kerstsamenzang Nieuwe Kerksplein is op 24 december 2023. \n\n\n\nOp 24 december om 24h00 kunt u weer genieten van de sfeervolste en gezelligste kerstzang in Haarlem. Op het Nieuwe Kerksplein\, midden in de vijfhoek\, zal Harmonie de Spaarnebazuin u weer als vanouds begeleiden met mooiste oud-Hollandse kerstliederen. \n\n\n\n“Het mooiste begin van mijn kerst”
URL:https://www.villaticas.nl/event/kerstsamenzang/
END:VEVENT
BEGIN:VEVENT
DTSTART;TZID=Europe/Paris:20231224T143000
DTEND;TZID=Europe/Paris:20231224T170000
DTSTAMP:20260420T220712
CREATED:20230928T190845Z
LAST-MODIFIED:20230928T191206Z
UID:2814-1703428200-1703437200@www.villaticas.nl
SUMMARY:ZO! Gospel Choir Gospel Christmas
DESCRIPTION:Gospel Christmas een dynamisch\, swingend en feestelijk kerstprogramma voor alle leeftijden.
URL:https://www.villaticas.nl/event/gospel-christmas/
END:VEVENT
BEGIN:VEVENT
DTSTART;TZID=Europe/Paris:20231223T123000
DTEND;TZID=Europe/Paris:20231231T180000
DTSTAMP:20260420T220712
CREATED:20231122T102203Z
LAST-MODIFIED:20231122T102204Z
UID:2922-1703334600-1704045600@www.villaticas.nl
SUMMARY:kerstcircus Leiden
DESCRIPTION:cultuurbeleid Lammermarkt
URL:https://www.villaticas.nl/event/kerstcircus-leiden/
END:VEVENT
BEGIN:VEVENT
DTSTART;TZID=Europe/Paris:20231223T090000
DTEND;TZID=Europe/Paris:20231223T130000
DTSTAMP:20260420T220712
CREATED:20231109T193337Z
LAST-MODIFIED:20231109T193444Z
UID:2873-1703322000-1703336400@www.villaticas.nl
SUMMARY:Wintervogels kijken in de Amsterdamse Waterleidingduinen
DESCRIPTION:Vandaag gaan we vogels kijken in de Amsterdamse Waterleidingduinen. Dit duingebied is zeer gevarieerd met dichte stukken bos\, open terrein en vooral veel water. In de winter is dit daardoor een populair gebied bij verschillende soorten eenden waaronder de mooie Krooneend\, Grote Zaagbek en Brilduiker. Ook maken we kans op soorten als Wilde Zwaan en Klapekster en houden we de waterkant goed in de gaten voor een IJsvogel.In de bossen kunnen we soorten tegenkomen als Kuifmees en Zwarte Mees\, terwijl in het vroege voorjaar de Kleine Bonte Specht en Groene Specht zich regelmatig laten horen.
URL:https://www.villaticas.nl/event/wintervogels-kijken-in-de-amsterdamse-waterleidingduinen/
END:VEVENT
BEGIN:VEVENT
DTSTART;TZID=Europe/Paris:20231222T080000
DTEND;TZID=Europe/Paris:20240121T170000
DTSTAMP:20260420T220712
CREATED:20231213T145512Z
LAST-MODIFIED:20231213T145512Z
UID:2935-1703232000-1705856400@www.villaticas.nl
SUMMARY:Het Schaatsplaatsje’ op de Brink in Noordwijkerhout!
DESCRIPTION:Warm winternieuws! Rond half december 2023 opent ‘Het Schaatsplaatsje’ op de Brink in Noordwijkerhout! \n\n\n\nEen schaatsbaan met schaatsverhuur\, oldskool koek-en-zopie met heerlijke snert en verse gedraaide poffertjes\, hotdogs en warme choco met een dikke toef slagroom! Een gezellige wintersfeer met kerstmuziek\, gezellige zitjes en lichtjes. Ouderwets kneuterig knus. \n\n\n\nMa\, di & do: 14.30 – 20.00u \n\n\n\nWo & vr: 12.00 – 20.00u \n\n\n\nZa & zo en kerstvakantie: 10.00 – 20.00u
URL:https://www.villaticas.nl/event/het-schaatsplaatsje-op-de-brink-in-noordwijkerhout/
END:VEVENT
BEGIN:VEVENT
DTSTART;TZID=Europe/Paris:20231217T120000
DTEND;TZID=Europe/Paris:20231217T170000
DTSTAMP:20260420T220712
CREATED:20230928T190249Z
LAST-MODIFIED:20230928T190250Z
UID:2812-1702814400-1702832400@www.villaticas.nl
SUMMARY:Nostalgische kerstmarkt
DESCRIPTION:Ook dit jaar zal er weer een gezellige Nostalgische Kerstmarkt zijn in Leiden op de Hooglandse Kerkgracht. \n\n\n\nDeze editie zorgt voor 5 dagen kerstmarkt-plezier met knusse houten chalets vol met leuke kerstkadootjes\, foodtrucks met lekkere winterse snacks en een gezellig winterterras waar het heerlijk toeven is met een warme chocolademelk of glühwein. \n\n\n\nWanneer\n\n\n\n\nDagelijks vanaf 13 december 2023 t/m 17 december 202312.00 – 17.00
URL:https://www.villaticas.nl/event/nostalgische-kerstmarkt-4/
END:VEVENT
BEGIN:VEVENT
DTSTART;TZID=Europe/Paris:20231217T110000
DTEND;TZID=Europe/Paris:20231217T140000
DTSTAMP:20260420T220712
CREATED:20231213T150557Z
LAST-MODIFIED:20231213T150558Z
UID:2940-1702810800-1702821600@www.villaticas.nl
SUMMARY:zondagochtendconcerten in Huygens’ Hofwijck.
DESCRIPTION:Liefhebbers van klassieke muziek halen de hele winter hun hart op bij de zondagochtendconcerten in Huygens’ Hofwijck. Met elke maand een inspirerend concert in een bijzondere ruimte.Voel u even gast van Christiaan Huygens en geniet van onder andere barokke muziek. Hofwijck is een van de kleinste buitenhuizen van Nederland. In het door Huygens ontworpen Hofwijck luistert u met een select gezelschap naar hedendaagse interpretaties van klassieke muziek.  \n\n\n\n17 december 2023 – Giardino Musicale \n\n\n\nHet internationale barokensemble Giardino Musicale speelt een concert in kerstsferen. Het ensemble beperkt zich qua repertoire niet alleen tot de geijkte stukken: Giardino Musicale wil een podium zijn voor bijzondere ‘onontdekte’ muziek. Het ensemble gebruikt bij concerten ook bijzondere instrumenten als hobo da caccia\, basse de violon\, violoncello piccolo en viola d’amore. De muzikanten lichten de muziek toe met achtergrondverhalen en ‘spicy details’.
URL:https://www.villaticas.nl/event/zondagochtendconcerten-in-huygens-hofwijck/
END:VEVENT
BEGIN:VEVENT
DTSTART;TZID=Europe/Paris:20231216T120000
DTEND;TZID=Europe/Paris:20231216T170000
DTSTAMP:20260420T220712
CREATED:20230928T190156Z
LAST-MODIFIED:20230928T190157Z
UID:2810-1702728000-1702746000@www.villaticas.nl
SUMMARY:nostalgische kerstmarkt
DESCRIPTION:Ook dit jaar zal er weer een gezellige Nostalgische Kerstmarkt zijn in Leiden op de Hooglandse Kerkgracht. \n\n\n\nDeze editie zorgt voor 5 dagen kerstmarkt-plezier met knusse houten chalets vol met leuke kerstkadootjes\, foodtrucks met lekkere winterse snacks en een gezellig winterterras waar het heerlijk toeven is met een warme chocolademelk of glühwein. \n\n\n\nWanneer\n\n\n\n\nDagelijks vanaf 13 december 2023 t/m 17 december 202312.00 – 17.00
URL:https://www.villaticas.nl/event/nostalgische-kerstmarkt-3/
END:VEVENT
BEGIN:VEVENT
DTSTART;TZID=Europe/Paris:20231216T100000
DTEND;TZID=Europe/Paris:20231217T170000
DTSTAMP:20260420T220712
CREATED:20231122T092333Z
LAST-MODIFIED:20231122T092335Z
UID:2887-1702720800-1702832400@www.villaticas.nl
SUMMARY:kerst kasteel keukenhof
DESCRIPTION:Beleef een sfeervolle kerst bij Kasteel Keukenhof op 16 & 17 december tussen 10.00 en 17.00 uur!Kasteel- én Landgoed Keukenhof wanen zich in kerstsferen: neem een kijkje in het gedecoreerde kasteel en bij de (circa 12) verschillende sfeervolle kraampjes waar een aantal (lokale) ambachten hun producten tonen. Geniet van gezellige kerstmuziek\, beleef de winterse wereld van Nordic Fantasy en warm op met heerlijke warme chocolademelk en glühwein van Restaurant de Hofboerderij.  \n\n\n\nHet LAM Museum opent het weekend ook haar deuren en NME de Groene Bol organiseert een leuke activiteit voor kinderen. \n\n\n\nVanaf 8 december tot en met 1 januari is het landgoed al aangekleed met gezellige kerstverlichting. \n\n\n\nToegang en parkeren is gratis————-Het kasteel wordt aangekleed met kerstdecoratie ontworpen en gemaakt door studenten van Yuverta.Het Charles Dickens Orkest – Forum Hadriani uit Voorburg (zaterdag) & AC Brass uit Sassenheim (zondag) verzorgen de gezellige muziek
URL:https://www.villaticas.nl/event/kerst-kasteel-keukenhof/
END:VEVENT
BEGIN:VEVENT
DTSTART;TZID=Europe/Paris:20231216T100000
DTEND;TZID=Europe/Paris:20231216T170000
DTSTAMP:20260420T220712
CREATED:20230611T102826Z
LAST-MODIFIED:20230611T102827Z
UID:2569-1702720800-1702746000@www.villaticas.nl
SUMMARY:puur natuur markt wassenaar
DESCRIPTION:Sinds september 2012 is er de Puur Natuur Markt in het centrum van Wassenaar. De basis voor dit initiatief is de aandacht voor lekker en puur eten uit de natuur\, locale ambacht en een plek in het dorp om elkaar te ontmoeten.
URL:https://www.villaticas.nl/event/puur-natuur-markt-wassenaar-5/
END:VEVENT
BEGIN:VEVENT
DTSTART;TZID=Europe/Paris:20231216T080000
DTEND;TZID=Europe/Paris:20231216T170000
DTSTAMP:20260420T220712
CREATED:20230607T175603Z
LAST-MODIFIED:20230629T075337Z
UID:2419-1702713600-1702746000@www.villaticas.nl
SUMMARY:weekmarkt leiden zaterdag
DESCRIPTION:CENTRUM\n\n\n\n: ZA 8:00 – 17:00 UUR\n\n\n\nElke zaterdag staan de marktkooplui voor je klaar in het centrum van Leiden. De kraampjes vind je op de kades van de Botermarkt\, Vismarkt\, Aalmarkt en Nieuwe Rijn een uitgebreide warenmarkt. De keuze is reuze! En de sfeer is gemoedelijk. 
URL:https://www.villaticas.nl/event/weekmarkt-leiden-zaterdag-6/
END:VEVENT
BEGIN:VEVENT
DTSTART;TZID=Europe/Paris:20231215T120000
DTEND;TZID=Europe/Paris:20231215T170000
DTSTAMP:20260420T220712
CREATED:20230928T190105Z
LAST-MODIFIED:20230928T190106Z
UID:2808-1702641600-1702659600@www.villaticas.nl
SUMMARY:nostalgische kerstmarkt
DESCRIPTION:Ook dit jaar zal er weer een gezellige Nostalgische Kerstmarkt zijn in Leiden op de Hooglandse Kerkgracht. \n\n\n\nDeze editie zorgt voor 5 dagen kerstmarkt-plezier met knusse houten chalets vol met leuke kerstkadootjes\, foodtrucks met lekkere winterse snacks en een gezellig winterterras waar het heerlijk toeven is met een warme chocolademelk of glühwein. \n\n\n\nWanneer\n\n\n\n\nDagelijks vanaf 13 december 2023 t/m 17 december 202312.00 – 17.00
URL:https://www.villaticas.nl/event/nostalgische-kerstmarkt-2/
END:VEVENT
BEGIN:VEVENT
DTSTART;TZID=Europe/Paris:20231214T170000
DTEND;TZID=Europe/Paris:20231214T203000
DTSTAMP:20260420T220712
CREATED:20231109T190404Z
LAST-MODIFIED:20231109T190405Z
UID:2864-1702573200-1702585800@www.villaticas.nl
SUMMARY:Rotary Santa Run Leiden
DESCRIPTION:De Rotary Santa Run Leiden is een fun wandeling van ongeveer 4km waarbij 1574 deelnemers\, verkleed als kerstman\, een parcours door de schitterende  binnenstad van Leiden wandelen voor het goede doel. \n\n\n\n \n\n\n\nIedere deelnemer dient apart te worden ingeschreven. Na inschrijving én betaling van het inschrijfgeld wordt een bevestiging naar het mailadres gestuurd dat bij de inschrijving is opgegeven. Zonder deze mail is de inschrijving niet gelukt en ben je dus nog geen deelnemer.  \n\n\n\nLet op! De bevestigingsmail komt in sommige gevallen in de ‘spam’ of ‘ongewenste mail’ of mailbox terecht.Jij krijgt:- Een erg leuke wandeling door de Leidse binnenstad; \n\n\n\n– Een complete Kerstman-outfit;- De outfit bestaat uit een jas\, broek\, muts én baard;- Kinderen t/m 135 cm krijgen een kids kerstmannenpak óf kerstjurk; \n\n\n\n– Een fantastische tocht met sfeerbrengers onderweg;- Een herinneringsmedaille aan het eind van de tocht;- En een goed begin van Kerstmis 2023!En dat voor:- € 15\,74 per deelname-ticket volwassene;- € 13\,74 per deelname-ticket kind (t/m 135 cm).
URL:https://www.villaticas.nl/event/rotary-santa-run-leiden/
END:VEVENT
BEGIN:VEVENT
DTSTART;TZID=Europe/Paris:20231214T080000
DTEND;TZID=Europe/Paris:20231214T170000
DTSTAMP:20260420T220712
CREATED:20230928T185959Z
LAST-MODIFIED:20230928T190000Z
UID:2806-1702540800-1702573200@www.villaticas.nl
SUMMARY:nostalgische kerstmarkt
DESCRIPTION:Ook dit jaar zal er weer een gezellige Nostalgische Kerstmarkt zijn in Leiden op de Hooglandse Kerkgracht. \n\n\n\nDeze editie zorgt voor 5 dagen kerstmarkt-plezier met knusse houten chalets vol met leuke kerstkadootjes\, foodtrucks met lekkere winterse snacks en een gezellig winterterras waar het heerlijk toeven is met een warme chocolademelk of glühwein. \n\n\n\nWanneer\n\n\n\n\nDagelijks vanaf 13 december 2023 t/m 17 december 202312.00 – 17.00
URL:https://www.villaticas.nl/event/nostalgische-kerstmarkt/
END:VEVENT
BEGIN:VEVENT
DTSTART;TZID=Europe/Paris:20231213T120000
DTEND;TZID=Europe/Paris:20231213T170000
DTSTAMP:20260420T220712
CREATED:20230928T185911Z
LAST-MODIFIED:20230928T185913Z
UID:2804-1702468800-1702486800@www.villaticas.nl
SUMMARY:nostalgische kerstmarkt leiden
DESCRIPTION:Ook dit jaar zal er weer een gezellige Nostalgische Kerstmarkt zijn in Leiden op de Hooglandse Kerkgracht. \n\n\n\nDeze editie zorgt voor 5 dagen kerstmarkt-plezier met knusse houten chalets vol met leuke kerstkadootjes\, foodtrucks met lekkere winterse snacks en een gezellig winterterras waar het heerlijk toeven is met een warme chocolademelk of glühwein. \n\n\n\nWanneerDagelijks vanaf 13 december 2023 t/m 17 december 202312.00 – 17.00
URL:https://www.villaticas.nl/event/nostalgische-kerstmarkt-leiden/
END:VEVENT
BEGIN:VEVENT
DTSTART;TZID=Europe/Paris:20231210T150000
DTEND;TZID=Europe/Paris:20231210T160000
DTSTAMP:20260420T220712
CREATED:20231109T184225Z
LAST-MODIFIED:20231109T184226Z
UID:2856-1702220400-1702224000@www.villaticas.nl
SUMMARY:safari in Hortus
DESCRIPTION:Speur in en in de omgeving van de Hortus naar wat er zoal op en tussen de stoeptegels groeit. Rondleiders André Biemans en Ton Gordijn beantwoorden al je vragen over stoepplantjes\, mossen en korstmossen. \n\n\n\nStart: Wintertuin\, Hortus botanicus Leiden
URL:https://www.villaticas.nl/event/safari-in-hortus/
END:VEVENT
BEGIN:VEVENT
DTSTART;TZID=Europe/Paris:20231210T140000
DTEND;TZID=Europe/Paris:20231210T170000
DTSTAMP:20260420T220712
CREATED:20231109T100007Z
LAST-MODIFIED:20231109T100008Z
UID:2841-1702216800-1702227600@www.villaticas.nl
SUMMARY:Theeworkshop met rondleiding in 't Huys Dever in Lisse
DESCRIPTION:Beleef de geschiedenis van thee op een historische locatie en proef de traditie!Ben je een liefhebber van thee en ben je bovendien geïnteresseerd in geschiedenis en betoverende oude gebouwen?Ontdek dan de eeuwenoude relatie tussen thee en geschiedenis tijdens een boeiende Theeworkshop met voorafgaand een interessante rondleiding op het prachtige ’t Huys Dever in Lisse.
URL:https://www.villaticas.nl/event/theeworkshop-met-rondleiding-in-t-huys-dever-in-lisse/
END:VEVENT
BEGIN:VEVENT
DTSTART;TZID=Europe/Paris:20231210T130000
DTEND;TZID=Europe/Paris:20231210T170000
DTSTAMP:20260420T220712
CREATED:20230928T203827Z
LAST-MODIFIED:20230928T203828Z
UID:2822-1702213200-1702227600@www.villaticas.nl
SUMMARY:Muzikale kerstwandeling
DESCRIPTION:De Muzikale KerstwandelingVoor dit evenement stellen ca. 30 huiseigenaren\, in en om de Voorstraat van Noordwijk Binnen\, hun woning geheel belangeloos ter beschikking.Het evenement is op zondag 10 december 2023 plaats van 13:00 – 17:00 uur. \n\n\n\nIn de deelnemend huizen is een grote verscheidenheid aan muziek te beluisteren. Voor elk wat wils!Als bezoeker kunt u van huis naar huis wandelen. De optredens duren steeds 15-20 minuten.De opbrengst wordt geschonken aan een goed doe
URL:https://www.villaticas.nl/event/muzikale-kerstwandeling-2/
END:VEVENT
BEGIN:VEVENT
DTSTART;TZID=Europe/Paris:20231210T130000
DTEND;TZID=Europe/Paris:20231210T170000
DTSTAMP:20260420T220712
CREATED:20230629T113111Z
LAST-MODIFIED:20230629T113148Z
UID:2740-1702213200-1702227600@www.villaticas.nl
SUMMARY:muzikale kerstwandeling
DESCRIPTION:De Muzikale KerstwandelingVoor dit evenement stellen ca. 30 huiseigenaren\, in en om de Voorstraat van Noordwijk Binnen\, hun woning geheel belangeloos ter beschikking. \n\n\n\nHet evenement is op zondag 11 december 2023 plaats van 13:00 – 17:00 uur. \n\n\n\nIn de deelnemend huizen is een grote verscheidenheid aan muziek te beluisteren. Voor elk wat wils!Als bezoeker kunt u van huis naar huis wandelen. De optredens duren steeds 15-20 minuten.De opbrengst wordt geschonken aan een goed \n\n\n\n doel.
URL:https://www.villaticas.nl/event/muzikale-kerstwandeling/
END:VEVENT
BEGIN:VEVENT
DTSTART;TZID=Europe/Paris:20231210T120000
DTEND;TZID=Europe/Paris:20231210T170000
DTSTAMP:20260420T220712
CREATED:20230928T203400Z
LAST-MODIFIED:20230928T203401Z
UID:2820-1702209600-1702227600@www.villaticas.nl
SUMMARY:kerstmarkt Noordwijk
DESCRIPTION:De Kerkstraat winkeliers Vereniging in samenwerking met de winkeliers uit het Hof van Noordwijk en de Dirk\, organiseert op zondag 10 december voor de 10de keer de Kerstmarkt van Noordwijk.
URL:https://www.villaticas.nl/event/kerstmarkt-noordwijk/
END:VEVENT
BEGIN:VEVENT
DTSTART;TZID=Europe/Paris:20231210T100000
DTEND;TZID=Europe/Paris:20231210T170000
DTSTAMP:20260420T220712
CREATED:20230926T153929Z
LAST-MODIFIED:20230926T153949Z
UID:2758-1702202400-1702227600@www.villaticas.nl
SUMMARY:Smaak Van De Winter. Kasteel Duivenvoorde Voorhouten
DESCRIPTION:Italië Winter Evenement
URL:https://www.villaticas.nl/event/smaak-van-de-winter-kasteel-duivenvoorde-voorhouten-3/
END:VEVENT
BEGIN:VEVENT
DTSTART;TZID=UTC:20231210T080000
DTEND;TZID=UTC:20231210T170000
DTSTAMP:20260420T220712
CREATED:20230203T145011Z
LAST-MODIFIED:20230228T232514Z
UID:1206-1702195200-1702227600@www.villaticas.nl
SUMMARY:kerstmarkt warmond
DESCRIPTION:Kerstmarkt in Warmond\n\n\n\nContact\n\n\n\nPleintje bij de PompDorpsstraat 36 402361 BE Warmond \n\n\n\nPlan je route \n\n\n\n\nBezoek de website
URL:https://www.villaticas.nl/event/kerstmarkt-warmond/
END:VEVENT
END:VCALENDAR